{"text_format":"1","workbook":"xlsx","n_sheets":4,"sheets":["Title","User Input","Ranking","Results"],"not_rendered":{"charts":0,"images":1,"macros":1,"external_links":0,"defined_names":1,"comments":0,"pivot_tables":0},"unopened":[],"bounds":{"document_bytes":16777216,"sheet_cells":100000,"rows_first":2000,"rows_last":500,"rows_between":2000,"halvings":0,"cell_chars":16384,"cell_head_chars":4096},"cells_cut":0,"cells_raw":0,"read":"whole","date_system":"1900"}

{"sheet":"Title","index":0,"n_rows":26,"n_cols":8,"rows_kept":26,"cut":false,"hidden":false,"merged":[]}
[]
[]
[]
[]
[]
[]
[]
[]
[null,"0-7126-P1"]
[null,null,null,null,null,null,null,"Click here to"]
[null,"Decision Support Framework"]
[]
[]
[null,"CTR RS/Research Team: Angela Haddad, Kenneth A. Perrine,"]
[null,null," Lisa Macias, Chandra R. Bhat"]
[]
[null,"TxDOT Project 0-7126: Synthesis on Automated Pedestrian Data Collecting"]
[null,null,"Techniques and Applications in Transportation Planning, Design and"]
[null,null,"Management"]
[]
[null,"2022-08-01"]
[]
[null,"Performing Organization:",null,null,null,"Sponsoring Organization:"]
[null,"Center for Transportation Research",null,null,null,"Texas Department of Transportation"]
[null,"The University of Texas at Austin",null,null,null,"Research and Technology Implementation Division"]
[null,"3925 W. Braker Lane, 4th Floor",null,null,null,"P.O. Box 5080"]

{"sheet":"User Input","index":1,"n_rows":103,"n_cols":11,"rows_kept":103,"cut":false,"hidden":false,"merged":[[1,1,2,10],[3,1,3,10],[10,1,10,10],[20,1,20,10]]}
[]
[null,"Decision Criteria Matrix"]
[]
[null,"Location Conditions"]
[null,"Urban vs rural","Corridor Type","Number of Lanes","Traffic Volume at Location","Location Type","Lighting at Location","Occlusion at Location","Power Supply at Location","Mounting Infrastructure","Cameras at Location"]
[null,"Urban","High Speed","≤ 2 lanes","High","Intersection","No","No","Available","Available","Yes"]
[null,"Rural","Medium Speed","3-4 lanes","Medium","Midblock Crossing","Yes","Yes","Not Available","Not Available","No"]
[null,null,"Low Speed","> 4 lanes","Low","Shared Path",null,null,null,null,"Maybe"]
[null,null,null,null,null,"Trail"]
[null,null,null,null,null,"Sidewalk"]
[null,"Application Requirements"]
[null,"Time Frame","Study Type","Accuracy Required (detection)","Real-time data access","Outputs needed","Night Vision","Video Internal Storage","Accuracy Required (count)"]
[null,"Permanent","Before - After","<80%","Yes","Counts","Needed","Needed","<80%"]
[null,"Temporary 1 day","Vision Zero","80% - 90%","No","trajectory heat maps on image ","Not Needed","Not Needed","80% - 90%"]
[null,"Temporary > 1 day","Pedestrian volume counts","90% 95%",null,"trajectory maps as GIS coordinates",null,null,"90% 95%"]
[null,null,"Multi-modal volume counts",">95%",null,"Near-miss and other safety related detection",null,null,">95%"]
[null,null,"Safety Assessement",null,null,"Red-light runner detection"]
[null,null,"Real-time operations and signal control",null,null,"Detection and classification of vehicles, cyclists, pedestrians"]
[null,null,null,null,null,"Jaywalking detection"]
[]
[null,"Agency Considerations"]
[0,"Procurement Budget","Recurring Costs Budget","Inter-division Collaboration","Equipment Ownership","Size of pedestrian program","Quality Control Requirements","Public view on video detection","Agency Goals","Installation capacity","Possibility of manual data transmisstion"]
[500,"<$500",0,"Yes","Agency owned","less than 5 employees","Yes","Positive","Nationwide counts","Available","Yes"]
[1000,"<$1,000","up to $1,000 per sensor per year","No","Not agency owned","5 to 15 employees","No","Negative","Smart corridors","Not available","No"]
[2000,"<$2000","up to $2,000 per sensor per year",null,"Doesn't matter","more than 15 employees",null,null,"None"]
[5000,"<$5000","Up to $10 per hour"]
[null,">$5000","Up to $20 per hour"]
[null,null,"Not important"]
[]
[]
[]
[null,null,null,null,null,"Decision Criteria Matrix"]
[null,null,null,null,null,"Location Conditions"]
[null,"Urban vs rural","Corridor Type","Number of Lanes","Traffic Volume at Location","Location Type","Lighting at Location","Occlusion at Location","Power Supply at Location","Mounting Infrastructure","Want to Use Cameras at Location"]
[null,"Rural","Medium Speed","> 4 lanes","High","Intersection","Yes","No","Available","Not Available","Yes"]
[null,null,null,null,null,"Application Requirements"]
[null,"Time Frame","Study Type","Accuracy Required (detection)","Real-time data access","Outputs needed","Night Vision","Internal Video Storage","Accuracy Required (count)"]
[null,"Permanent","Vision Zero","90% 95%","Yes","Counts","Not Needed","Needed",">95%"]
[null,null,null,null,null,"trajectory heat maps on image "]
[null,null,null,null,null,"trajectory maps as GIS coordinates"]
[null,null,null,null,null,"Turning movement "]
[null,null,null,null,null,"Speed of road users"]
[null,null,null,null,null,"Near-miss and other safety related detection"]
[null,null,null,null,null,"Red-light runner detection"]
[null,null,null,null,null,"Jaywalking detection"]
[null,null,null,null,null,"Advanced traffic signal performance metrics "]
[null,null,null,null,null,"Wrong way detection"]
[]
[]
[null,null,null,null,null,"Agency Considerations"]
[null,"Procurement Budget","Recurring Costs Budget","Inter-division Collaboration","Equipment Ownership","Size of pedestrian program","Quality Control Requirements","Public view on video detection","Agency Goals","Installation capacity","Possibility of manual data transmisstion"]
[null,"<$2000","up to $1,000 per sensor per year","Yes","Agency owned","more than 15 employees","Yes","Negative","None","Available","Yes"]
[]
[]
[]
[]
[]
[null,null,null,null,null,true]
[null,null,null,null,null,false]
[null,null,null,null,null,false]
[null,null,null,null,null,true]
[null,null,null,null,null,true]
[null,null,null,null,null,true]
[null,null,null,null,null,true]
[null,null,null,null,null,true]
[null,null,null,null,null,true]
[null,null,null,null,null,true]
[]
[]
[]
[]
[]
[]
[]
[]
[]
[null,null,"Weighting Matrix"]
[null,null,"Criterion","Weights (%)"]
[null,null,"Number of Lanes",{"$f":"1/24","v":4.1666666666666664E-2}]
[null,"User Input","Location Type",4.1666666666666664E-2]
[null,"Default","Lighting at Location",4.1666666666666664E-2]
[null,null,"Occlusion at Location",4.1666666666666664E-2]
[null,null,"Power Supply at Location",4.1666666666666664E-2]
[null,null,"Cameras at Location",4.1666666666666664E-2]
[null,null,"Time Frame",4.1666666666666664E-2]
[null,2,"Study Type",4.1666666666666664E-2]
[null,null,"Accuracy Required (COUNT)",4.1666666666666664E-2]
[null,null,"Accuracy Required (Detection)",4.1666666666666664E-2]
[null,null,"Real-time data access",4.1666666666666664E-2]
[null,null,"Outputs needed",4.1666666666666664E-2]
[null,null,"Night Vision",4.1666666666666664E-2]
[null,null,"Video Internal Storage",4.1666666666666664E-2]
[null,null,"Procurement Budget",4.1666666666666664E-2]
[null,null,"Recurring Costs Budget",4.1666666666666664E-2]
[null,null,"Inter-division Collaboration",4.1666666666666664E-2]
[null,null,"Equipment Ownership",4.1666666666666664E-2]
[null,null,"Size of pedestrian program",4.1666666666666664E-2]
[null,null,"Quality Control Requirements",4.1666666666666664E-2]
[null,null,"Public view on video detection",4.1666666666666664E-2]
[null,null,"Agency Goals",4.1666666666666664E-2]
[null,null,"Installation capacity",4.1666666666666664E-2]
[null,null,"Possibility of manual data transmisstion",4.1666666666666664E-2]
[null,null,"TOTAL",{"$f":"SUM(D79:D102)","v":0.99999999999999956}]

{"sheet":"Ranking","index":2,"n_rows":99,"n_cols":129,"rows_kept":99,"cut":false,"hidden":false,"merged":[]}
["≤ 2 lanes","3-4 lanes","> 4 lanes","Midblock","Intersection","Shared Path","Trail","Sidewalk","Lighting at Location","Occlusion at Location","Power Supply at Location","Cameras at Location","Permanent","Temporary 1 day","Temporary > 1 day","Before - After","Vision Zero","Pedestrian volume counts","Multi-modal volume counts","Safety Assessement","Real-time operations and signal control","Accuracy Required (count)","Accuracy Required (detection)","Real-time data access","Counts","trajectory heat maps on image ","trajectory maps as GIS coordinates","Turning movement ","Speed of road users","Near-miss and other safety related detection","Red-light runner detection","Jaywalking detection","Advanced traffic signal performance metrics ","Wrong way detection","Night Vision","Video Internal Storage","<$500","<$1,000","<$2000","<$5000",">$5000",0,"up to $1,000 per sensor per year","up to $2,000 per intersection per year","Up to $10 per hour","Up to $20 per hour","Inter-division Collaboration","Equipment Ownership","less than 5 employees","5 to 15 employees","more than 15 employees","Quality Control Requirements","Public view on video detection","Nationwide counts","Smart corridors","None","Installation capacity","Possibility of manual data transmisstion",null,null,"Product","Website","Sensor Type","Technology Type","Number of Sensors","≤ 2 lanes","3-4 lanes","> 4 lanes","Midblock","Intersection","Shared Path","Trail","Sidewalk","Lighting Need","Occlusion matters","Need power supply","Counting Accuracy","Detection Accuracy","Permanent","Temporary 1 day","Temporary > 1 day","unknown",0,"up to $1,000 per sensor per year","up to $2,000 per intersection per year","Up to $10 per hour","Up to $20 per hour","Procurement Cost (unit price)","Recurrent Cost","Min procurement cost","Equipment ownership","Power Type","Manual Data transmission","Automated Data Transmission","View Angle","View Range","Online Platform","Edge Processing","Live Feed","Night Vision","Traffic Controller Connection","Reputation","Security Level","Use agency Cameras at Location","Before - After","Vision Zero","Pedestrian volume counts","Multi-modal volume counts","Safety Assessement","Real-time operations and signal control","Video Internal Storage","Quality Control","Counts","trajectory heat maps on image ","trajectory maps as GIS coordinates","Turning movement ","Speed of road users","Near-miss and other safety related detection","Red-light runner detection","Jaywalking detection","Advanced traffic signal performance metrics ","Wrong way detection","less than 5 employees","5 to 15 employees","more than 15 employees","Nationwide counts","Smart corridors","None","Installation capacity "]
[{"$f":"IF(AND('User Input'!$D$35='User Input'!$D$6,Ranking!BN2=1),1,0)","v":0},{"$f":"IF(AND('User Input'!$D$35='User Input'!$D$7,Ranking!BO2=1),1,0)","v":0},{"$f":"IF(AND('User Input'!$D$35='User Input'!$D$8,Ranking!BP2=1),1,0)","v":1},{"$f":"IF(AND('User Input'!$F$35='User Input'!$F$7,Ranking!BQ2=1),1,0)","v":0},{"$f":"IF(AND('User Input'!$F$35='User Input'!$F$6,Ranking!BR2=1),1,0)","v":1},{"$f":"IF(AND('User Input'!$F$35='User Input'!$F$8,Ranking!BS2=1),1,0)","v":0},{"$f":"IF(AND('User Input'!$F$35='User Input'!$F$9,Ranking!BT2=1),1,0)","v":0},{"$f":"IF(AND('User Input'!$F$35='User Input'!$F$10,Ranking!BU2=1),1,0)","v":0},{"$f":"IF(BV2=0,1,IF(AND(BV2=1,'User Input'!$G$35='User Input'!$G$6),0,IF(AND(BV2=1,'User Input'!$G$35='User Input'!$G$7),1,0)))","v":1},{"$f":"IF(BW2=0,1,IF(AND(BW2=1,'User Input'!$H$35='User Input'!$H$6),1,IF(AND(BW2=1,'User Input'!$H$35='User Input'!$H$7),0)))","v":1},{"$f":"IF('User Input'!$I$35='User Input'!$I$6,1,IF(AND('User Input'!$I$35='User Input'!$I$7,Ranking!BX2=0),1,0))","v":1},{"$f":"IF('User Input'!$K$35='User Input'!$K$7,1,IF(AND(OR('User Input'!$K$35='User Input'!$K$6,'User Input'!$K$35='User Input'!$K$8),Ranking!$CZ2=\"Y\"),1,0))","v":0},{"$f":"IF(AND('User Input'!$B$38='User Input'!$B$13,Ranking!CA2=1),1,0)","v":1},{"$f":"IF(AND('User Input'!$B$38='User Input'!$B$14,Ranking!CB2=1),1,0)","v":0},{"$f":"IF(AND('User Input'!$B$38='User Input'!$B$15,Ranking!CC2=1),1,0)","v":0},{"$f":"IF(AND('User Input'!$C$38='User Input'!$C$13,DA2=1),1,0)","v":0},{"$f":"IF(AND('User Input'!$C$38='User Input'!$C$14,Ranking!DB2=1),1,0)","v":1},{"$f":"IF(AND('User Input'!$C$38='User Input'!$C$15,Ranking!DC2=1),1,0)","v":0},{"$f":"IF(AND('User Input'!$C$38='User Input'!$C$16,Ranking!DD2=1),1,0)","v":0},{"$f":"IF(AND('User Input'!$C$38='User Input'!$C$17,Ranking!DE2=1),1,0)","v":0},{"$f":"IF(AND('User Input'!$C$38='User Input'!$C$18,Ranking!DF2=1),1,0)","v":0},{"$f":"IF('User Input'!$I$38='User Input'!$I$13,1,IF(AND('User Input'!$I$38='User Input'!$I14,Ranking!$BY2>0.8),1,IF(AND('User Input'!$I$38='User Input'!$I$15,Ranking!$BY2>0.9),1,IF(AND('User Input'!$I$38='User Input'!$D$16,Ranking!$BY2>0.95),1,0))))","v":1},{"$f":"IF('User Input'!$D$38='User Input'!$D$13,1,IF(AND('User Input'!$D$38='User Input'!$D$14,Ranking!$BZ2>0.8),1,IF(AND('User Input'!$D$38='User Input'!$D$15,Ranking!$BZ2>0.9),1,IF(AND('User Input'!$D$38='User Input'!$D$16,Ranking!$BZ2>0.95),1,0))))","v":1},{"$f":"IF(AND('User Input'!$E$38='User Input'!$E$13,Ranking!DF2=1),1,0)","v":1},{"$f":"IF(AND('User Input'!$F$58=TRUE,Ranking!DI2=1),1,IF(AND('User Input'!$F$58=FALSE,Ranking!DI2=0),1,0))","v":1},{"$f":"IF(AND('User Input'!$F$59=TRUE,Ranking!DJ2=1),1,IF(AND('User Input'!$F$59=FALSE,Ranking!DJ2=0),1,0))","v":0},{"$f":"IF(AND('User Input'!$F$60=TRUE,Ranking!DK2=1),1,IF(AND('User Input'!$F$60=FALSE,Ranking!DK2=0),1,0))","v":1},{"$f":"IF(AND('User Input'!$F$61=TRUE,Ranking!DL2=1),1,IF(AND('User Input'!$F$61=FALSE,Ranking!DL2=0),1,0))","v":1},{"$f":"IF(AND('User Input'!$F$62=TRUE,Ranking!DM2=1),1,IF(AND('User Input'!$F$62=FALSE,Ranking!DM2=0),1,0))","v":1},{"$f":"IF(AND('User Input'!$F$63=TRUE,Ranking!DN2=1),1,IF(AND('User Input'!$F$63=FALSE,Ranking!DN2=0),1,0))","v":1},{"$f":"IF(AND('User Input'!$F$64=TRUE,Ranking!DO2=1),1,IF(AND('User Input'!$F$64=FALSE,Ranking!DO2=0),1,0))","v":1},{"$f":"IF(AND('User Input'!$F$65=TRUE,Ranking!DP2=1),1,IF(AND('User Input'!$F$65=FALSE,Ranking!DP2=0),1,0))","v":1},{"$f":"IF(AND('User Input'!$F$66=TRUE,Ranking!DQ2=1),1,IF(AND('User Input'!$F$66=FALSE,Ranking!DQ2=0),1,0))","v":1},{"$f":"IF(AND('User Input'!$F$67=TRUE,Ranking!DR2=1),1,IF(AND('User Input'!$F$67=FALSE,Ranking!DR2=0),1,0))","v":1},{"$f":"IF(Ranking!CV2=\"Y\",1,IF(AND('User Input'!$G$38='User Input'!$G$14,Ranking!CV2=\"N\"),1,0))","v":1},{"$f":"IF(OR(Ranking!DG2=\"Y\",'User Input'!$H$38='User Input'!$H$14),1,IF(AND('User Input'!$H$38='User Input'!$H$13,Ranking!DG2=\"Y\"),1,0))","v":0},{"$f":"IF(AND('User Input'!$B$52='User Input'!$B$23,Ranking!CL2<'User Input'!$A$23),1,0)","v":0},{"$f":"IF(AND('User Input'!$B$52='User Input'!$B$24,Ranking!CL2<'User Input'!$A$24),1,0)","v":0},{"$f":"IF(AND('User Input'!$B$52='User Input'!$B$25,Ranking!CL2<'User Input'!$A$25),1,0)","v":0},{"$f":"IF(AND('User Input'!$B$52='User Input'!$B$26,Ranking!CL2<'User Input'!$A$26),1,0)","v":0},{"$f":"IF('User Input'!$B$52='User Input'!$B$27,1,0)","v":0},{"$f":"IF(AND('User Input'!$C$52='User Input'!$C$23,CE2=1),1,0)","v":0},{"$f":"IF(CD2=1,0,IF(AND('User Input'!$C$52='User Input'!$C$24,Ranking!CF2=1),1,0))","v":0},{"$f":"IF(CE2=1,0,IF(AND('User Input'!$C$52='User Input'!$C$25,Ranking!CG2=1),1,0))","v":0},{"$f":"IF(CF2=1,0,IF(AND('User Input'!$C$52='User Input'!$C$26,Ranking!CH2=1),1,0))","v":0},{"$f":"IF(CG2=1,0,IF(AND('User Input'!$C$52='User Input'!$C$27,Ranking!CI2=1),1,0))","v":0},{"$f":"IF(AND('User Input'!$D$52='User Input'!$D$23,Ranking!CJ2>5000),1,0)","v":0},{"$f":"IF('User Input'!$E$52='User Input'!$E$25,1,IF(AND('User Input'!$E$52='User Input'!$E$23,Ranking!CM2=1),1,IF(AND('User Input'!$E$52='User Input'!$E$24,Ranking!CM2=0),1,0)))","v":1},{"$f":"IF(AND('User Input'!$F$52='User Input'!$F$23,Ranking!DS2=1),1,0)","v":0},{"$f":"IF(AND('User Input'!$F$52='User Input'!$F$24,Ranking!DT2=1),1,0)","v":0},{"$f":"IF(AND('User Input'!$F$52='User Input'!$F$25,Ranking!DU2=1),1,0)","v":1},{"$f":"IF('User Input'!$G$52='User Input'!$G$24,1,IF(AND('User Input'!$G$52='User Input'!$G$23,DH2=\"Y\"),1,0))","v":0},{"$f":"IF('User Input'!$H$52='User Input'!$H$23,1,IF(AND('User Input'!$H$52='User Input'!$H$24,Ranking!BK16<>\"Video\"),1,0))","v":1},{"$f":"IF(AND('User Input'!$I$52='User Input'!$I$23,Ranking!DV2=1),1,0)","v":0},{"$f":"IF(AND('User Input'!$I$52='User Input'!$I$24,Ranking!DW2=1),1,0)","v":0},{"$f":"IF(AND('User Input'!$I$52='User Input'!$I$25,Ranking!DX2=1),1,0)","v":0},{"$f":"IF('User Input'!$J$52='User Input'!$J$23,1,IF(AND('User Input'!$J$52='User Input'!$J$24,Ranking!DY2=0),1,0))","v":1},{"$f":"IF('User Input'!$K$52='User Input'!$K$24,1,IF(AND('User Input'!$K$52='User Input'!$K$23,Ranking!CO2=1),1,0))","v":1},null,null,"Blue City AI","https://bluecity.ai/","LiDAR","software and hardware","1 or 2",1,1,1,1,1,1,0,1,0,0,1,0.98699999999999999,0.98699999999999999,1,0,0,1,0,0,0,0,0,4800,"Unknown",{"$f":"CJ2","v":4800},1,"AC",1,1,"360°","100 m","Y","Y","Y","Y","Y",1,"High","N",0,1,1,1,1,1,"N","N",1,1,0,1,1,1,1,1,1,1,0,0,1,1,1,0,1]
[{"$f":"IF(AND('User Input'!$D$35='User Input'!$D$6,Ranking!BN3=1),1,0)","v":0},{"$f":"IF(AND('User Input'!$D$35='User Input'!$D$7,Ranking!BO3=1),1,0)","v":0},{"$f":"IF(AND('User Input'!$D$35='User Input'!$D$8,Ranking!BP3=1),1,0)","v":0},{"$f":"IF(AND('User Input'!$F$35='User Input'!$F$7,Ranking!BQ3=1),1,0)","v":0},{"$f":"IF(AND('User Input'!$F$35='User Input'!$F$6,Ranking!BR3=1),1,0)","v":1},{"$f":"IF(AND('User Input'!$F$35='User Input'!$F$8,Ranking!BS3=1),1,0)","v":0},{"$f":"IF(AND('User Input'!$F$35='User Input'!$F$9,Ranking!BT3=1),1,0)","v":0},{"$f":"IF(AND('User Input'!$F$35='User Input'!$F$10,Ranking!BU3=1),1,0)","v":0},{"$f":"IF(BV3=0,1,IF(AND(BV3=1,'User Input'!$G$35='User Input'!$G$6),0,IF(AND(BV3=1,'User Input'!$G$35='User Input'!$G$7),1,0)))","v":1},{"$f":"IF(BW3=0,1,IF(AND(BW3=1,'User Input'!$H$35='User Input'!$H$6),1,IF(AND(BW3=1,'User Input'!$H$35='User Input'!$H$7),0)))","v":1},{"$f":"IF('User Input'!$I$35='User Input'!$I$6,1,IF(AND('User Input'!$I$35='User Input'!$I$7,Ranking!BX3=0),1,0))","v":1},{"$f":"IF('User Input'!$K$35='User Input'!$K$7,1,IF(AND(OR('User Input'!$K$35='User Input'!$K$6,'User Input'!$K$35='User Input'!$K$8),Ranking!$CZ3=\"Y\"),1,0))","v":0},{"$f":"IF(AND('User Input'!$B$38='User Input'!$B$13,Ranking!CA3=1),1,0)","v":0},{"$f":"IF(AND('User Input'!$B$38='User Input'!$B$14,Ranking!CB3=1),1,0)","v":0},{"$f":"IF(AND('User Input'!$B$38='User Input'!$B$15,Ranking!CC3=1),1,0)","v":0},{"$f":"IF(AND('User Input'!$C$38='User Input'!$C$13,DA3=1),1,0)","v":0},{"$f":"IF(AND('User Input'!$C$38='User Input'!$C$14,Ranking!DB3=1),1,0)","v":0},{"$f":"IF(AND('User Input'!$C$38='User Input'!$C$15,Ranking!DC3=1),1,0)","v":0},{"$f":"IF(AND('User Input'!$C$38='User Input'!$C$16,Ranking!DD3=1),1,0)","v":0},{"$f":"IF(AND('User Input'!$C$38='User Input'!$C$17,Ranking!DE3=1),1,0)","v":0},{"$f":"IF(AND('User Input'!$C$38='User Input'!$C$18,Ranking!DF3=1),1,0)","v":0},{"$f":"IF('User Input'!$I$38='User Input'!$I$13,1,IF(AND('User Input'!$I$38='User Input'!$I15,Ranking!$BY3>0.8),1,IF(AND('User Input'!$I$38='User Input'!$I$15,Ranking!$BY3>0.9),1,IF(AND('User Input'!$I$38='User Input'!$D$16,Ranking!$BY3>0.95),1,0))))","v":0},{"$f":"IF('User Input'!$D$38='User Input'!$D$13,1,IF(AND('User Input'!$D$38='User Input'!$D$14,Ranking!$BZ3>0.8),1,IF(AND('User Input'!$D$38='User Input'!$D$15,Ranking!$BZ3>0.9),1,IF(AND('User Input'!$D$38='User Input'!$D$16,Ranking!$BZ3>0.95),1,0))))","v":1},{"$f":"IF(AND('User Input'!$E$38='User Input'!$E$13,Ranking!DF3=1),1,0)","v":0},{"$f":"IF(AND('User Input'!$F$58=TRUE,Ranking!DI3=1),1,IF(AND('User Input'!$F$58=FALSE,Ranking!DI3=0),1,0))","v":1},{"$f":"IF(AND('User Input'!$F$59=TRUE,Ranking!DJ3=1),1,IF(AND('User Input'!$F$59=FALSE,Ranking!DJ3=0),1,0))","v":1},{"$f":"IF(AND('User Input'!$F$60=TRUE,Ranking!DK3=1),1,IF(AND('User Input'!$F$60=FALSE,Ranking!DK3=0),1,0))","v":1},{"$f":"IF(AND('User Input'!$F$61=TRUE,Ranking!DL3=1),1,IF(AND('User Input'!$F$61=FALSE,Ranking!DL3=0),1,0))","v":1},{"$f":"IF(AND('User Input'!$F$62=TRUE,Ranking!DM3=1),1,IF(AND('User Input'!$F$62=FALSE,Ranking!DM3=0),1,0))","v":0},{"$f":"IF(AND('User Input'!$F$63=TRUE,Ranking!DN3=1),1,IF(AND('User Input'!$F$63=FALSE,Ranking!DN3=0),1,0))","v":0},{"$f":"IF(AND('User Input'!$F$64=TRUE,Ranking!DO3=1),1,IF(AND('User Input'!$F$64=FALSE,Ranking!DO3=0),1,0))","v":0},{"$f":"IF(AND('User Input'!$F$65=TRUE,Ranking!DP3=1),1,IF(AND('User Input'!$F$65=FALSE,Ranking!DP3=0),1,0))","v":0},{"$f":"IF(AND('User Input'!$F$66=TRUE,Ranking!DQ3=1),1,IF(AND('User Input'!$F$66=FALSE,Ranking!DQ3=0),1,0))","v":0},{"$f":"IF(AND('User Input'!$F$67=TRUE,Ranking!DR3=1),1,IF(AND('User Input'!$F$67=FALSE,Ranking!DR3=0),1,0))","v":0},{"$f":"IF(Ranking!CV3=\"Y\",1,IF(AND('User Input'!$G$38='User Input'!$G$14,Ranking!CV3=\"N\"),1,0))","v":1},{"$f":"IF(OR(Ranking!DG3=\"Y\",'User Input'!$H$38='User Input'!$H$14),1,IF(AND('User Input'!$H$38='User Input'!$H$13,Ranking!DG3=\"Y\"),1,0))","v":1},{"$f":"IF(AND('User Input'!$B$52='User Input'!$B$23,Ranking!CL3<'User Input'!$A$23),1,0)","v":0},{"$f":"IF(AND('User Input'!$B$52='User Input'!$B$24,Ranking!CL3<'User Input'!$A$24),1,0)","v":0},{"$f":"IF(AND('User Input'!$B$52='User Input'!$B$25,Ranking!CL3<'User Input'!$A$25),1,0)","v":0},{"$f":"IF(AND('User Input'!$B$52='User Input'!$B$26,Ranking!CL3<'User Input'!$A$26),1,0)","v":0},{"$f":"IF('User Input'!$B$52='User Input'!$B$27,1,0)","v":0},{"$f":"IF(AND('User Input'!$C$52='User Input'!$C$23,CE3=1),1,0)","v":0},{"$f":"IF(CD3=1,0,IF(AND('User Input'!$C$52='User Input'!$C$24,Ranking!CF3=1),1,0))","v":0},{"$f":"IF(CE3=1,0,IF(AND('User Input'!$C$52='User Input'!$C$25,Ranking!CG3=1),1,0))","v":0},{"$f":"IF(CF3=1,0,IF(AND('User Input'!$C$52='User Input'!$C$26,Ranking!CH3=1),1,0))","v":0},{"$f":"IF(CG3=1,0,IF(AND('User Input'!$C$52='User Input'!$C$27,Ranking!CI3=1),1,0))","v":0},{"$f":"IF(AND('User Input'!$D$52='User Input'!$D$23,Ranking!CJ3>5000),1,0)","v":0},{"$f":"IF('User Input'!$E$52='User Input'!$E$25,1,IF(AND('User Input'!$E$52='User Input'!$E$23,Ranking!CM3=1),1,IF(AND('User Input'!$E$52='User Input'!$E$24,Ranking!CM3=0),1,0)))","v":1},{"$f":"IF(AND('User Input'!$F$52='User Input'!$F$23,Ranking!DS3=1),1,0)","v":0},{"$f":"IF(AND('User Input'!$F$52='User Input'!$F$24,Ranking!DT3=1),1,0)","v":0},{"$f":"IF(AND('User Input'!$F$52='User Input'!$F$25,Ranking!DU3=1),1,0)","v":1},{"$f":"IF('User Input'!$G$52='User Input'!$G$24,1,IF(AND('User Input'!$G$52='User Input'!$G$23,DH3=\"Y\"),1,0))","v":1},{"$f":"IF('User Input'!$H$52='User Input'!$H$23,1,IF(AND('User Input'!$H$52='User Input'!$H$24,Ranking!BK3<>\"Video\"),1,0))","v":0},{"$f":"IF(AND('User Input'!$I$52='User Input'!$I$23,Ranking!DV3=1),1,0)","v":0},{"$f":"IF(AND('User Input'!$I$52='User Input'!$I$24,Ranking!DW3=1),1,0)","v":0},{"$f":"IF(AND('User Input'!$I$52='User Input'!$I$25,Ranking!DX3=1),1,0)","v":1},{"$f":"IF('User Input'!$J$52='User Input'!$J$23,1,IF(AND('User Input'!$J$52='User Input'!$J$24,Ranking!DY3=0),1,0))","v":1},{"$f":"IF('User Input'!$K$52='User Input'!$K$24,1,IF(AND('User Input'!$K$52='User Input'!$K$23,Ranking!CO3=1),1,0))","v":1},null,null,"Miovision Scout camera",null,"Video","software and hardware",2,1,1,0,1,1,1,0,0,1,1,0,0.95,0.95,0,1,1,0,0,0,0,1,1,5000,"$10/ hour",5000,1,"DC",1,1,"90°",".","Y","N","N","N","N",1,"Low","N",1,0,1,1,0,0,"Y","Y",1,0,0,1,0,0,0,0,0,0,1,1,1,1,0,1,1]
[{"$f":"IF(AND('User Input'!$D$35='User Input'!$D$6,Ranking!BN4=1),1,0)","v":0},{"$f":"IF(AND('User Input'!$D$35='User Input'!$D$7,Ranking!BO4=1),1,0)","v":0},{"$f":"IF(AND('User Input'!$D$35='User Input'!$D$8,Ranking!BP4=1),1,0)","v":1},{"$f":"IF(AND('User Input'!$F$35='User Input'!$F$7,Ranking!BQ4=1),1,0)","v":0},{"$f":"IF(AND('User Input'!$F$35='User Input'!$F$6,Ranking!BR4=1),1,0)","v":1},{"$f":"IF(AND('User Input'!$F$35='User Input'!$F$8,Ranking!BS4=1),1,0)","v":0},{"$f":"IF(AND('User Input'!$F$35='User Input'!$F$9,Ranking!BT4=1),1,0)","v":0},{"$f":"IF(AND('User Input'!$F$35='User Input'!$F$10,Ranking!BU4=1),1,0)","v":0},{"$f":"IF(BV4=0,1,IF(AND(BV4=1,'User Input'!$G$35='User Input'!$G$6),0,IF(AND(BV4=1,'User Input'!$G$35='User Input'!$G$7),1,0)))","v":1},{"$f":"IF(BW4=0,1,IF(AND(BW4=1,'User Input'!$H$35='User Input'!$H$6),1,IF(AND(BW4=1,'User Input'!$H$35='User Input'!$H$7),0)))","v":1},{"$f":"IF('User Input'!$I$35='User Input'!$I$6,1,IF(AND('User Input'!$I$35='User Input'!$I$7,Ranking!BX4=0),1,0))","v":1},{"$f":"IF('User Input'!$K$35='User Input'!$K$7,1,IF(AND(OR('User Input'!$K$35='User Input'!$K$6,'User Input'!$K$35='User Input'!$K$8),Ranking!$CZ4=\"Y\"),1,0))","v":0},{"$f":"IF(AND('User Input'!$B$38='User Input'!$B$13,Ranking!CA4=1),1,0)","v":1},{"$f":"IF(AND('User Input'!$B$38='User Input'!$B$14,Ranking!CB4=1),1,0)","v":0},{"$f":"IF(AND('User Input'!$B$38='User Input'!$B$15,Ranking!CC4=1),1,0)","v":0},{"$f":"IF(AND('User Input'!$C$38='User Input'!$C$13,DA4=1),1,0)","v":0},{"$f":"IF(AND('User Input'!$C$38='User Input'!$C$14,Ranking!DB4=1),1,0)","v":1},{"$f":"IF(AND('User Input'!$C$38='User Input'!$C$15,Ranking!DC4=1),1,0)","v":0},{"$f":"IF(AND('User Input'!$C$38='User Input'!$C$16,Ranking!DD4=1),1,0)","v":0},{"$f":"IF(AND('User Input'!$C$38='User Input'!$C$17,Ranking!DE4=1),1,0)","v":0},{"$f":"IF(AND('User Input'!$C$38='User Input'!$C$18,Ranking!DF4=1),1,0)","v":0},{"$f":"IF('User Input'!$I$38='User Input'!$I$13,1,IF(AND('User Input'!$I$38='User Input'!$I16,Ranking!$BY4>0.8),1,IF(AND('User Input'!$I$38='User Input'!$I$15,Ranking!$BY4>0.9),1,IF(AND('User Input'!$I$38='User Input'!$D$16,Ranking!$BY4>0.95),1,0))))","v":1},{"$f":"IF('User Input'!$D$38='User Input'!$D$13,1,IF(AND('User Input'!$D$38='User Input'!$D$14,Ranking!$BZ4>0.8),1,IF(AND('User Input'!$D$38='User Input'!$D$15,Ranking!$BZ4>0.9),1,IF(AND('User Input'!$D$38='User Input'!$D$16,Ranking!$BZ4>0.95),1,0))))","v":1},{"$f":"IF(AND('User Input'!$E$38='User Input'!$E$13,Ranking!DF4=1),1,0)","v":1},{"$f":"IF(AND('User Input'!$F$58=TRUE,Ranking!DI4=1),1,IF(AND('User Input'!$F$58=FALSE,Ranking!DI4=0),1,0))","v":1},{"$f":"IF(AND('User Input'!$F$59=TRUE,Ranking!DJ4=1),1,IF(AND('User Input'!$F$59=FALSE,Ranking!DJ4=0),1,0))","v":1},{"$f":"IF(AND('User Input'!$F$60=TRUE,Ranking!DK4=1),1,IF(AND('User Input'!$F$60=FALSE,Ranking!DK4=0),1,0))","v":1},{"$f":"IF(AND('User Input'!$F$61=TRUE,Ranking!DL4=1),1,IF(AND('User Input'!$F$61=FALSE,Ranking!DL4=0),1,0))","v":1},{"$f":"IF(AND('User Input'!$F$62=TRUE,Ranking!DM4=1),1,IF(AND('User Input'!$F$62=FALSE,Ranking!DM4=0),1,0))","v":0},{"$f":"IF(AND('User Input'!$F$63=TRUE,Ranking!DN4=1),1,IF(AND('User Input'!$F$63=FALSE,Ranking!DN4=0),1,0))","v":0},{"$f":"IF(AND('User Input'!$F$64=TRUE,Ranking!DO4=1),1,IF(AND('User Input'!$F$64=FALSE,Ranking!DO4=0),1,0))","v":1},{"$f":"IF(AND('User Input'!$F$65=TRUE,Ranking!DP4=1),1,IF(AND('User Input'!$F$65=FALSE,Ranking!DP4=0),1,0))","v":1},{"$f":"IF(AND('User Input'!$F$66=TRUE,Ranking!DQ4=1),1,IF(AND('User Input'!$F$66=FALSE,Ranking!DQ4=0),1,0))","v":1},{"$f":"IF(AND('User Input'!$F$67=TRUE,Ranking!DR4=1),1,IF(AND('User Input'!$F$67=FALSE,Ranking!DR4=0),1,0))","v":0},{"$f":"IF(Ranking!CV4=\"Y\",1,IF(AND('User Input'!$G$38='User Input'!$G$14,Ranking!CV4=\"N\"),1,0))","v":1},{"$f":"IF(OR(Ranking!DG4=\"Y\",'User Input'!$H$38='User Input'!$H$14),1,IF(AND('User Input'!$H$38='User Input'!$H$13,Ranking!DG4=\"Y\"),1,0))","v":0},{"$f":"IF(AND('User Input'!$B$52='User Input'!$B$23,Ranking!CL4<'User Input'!$A$23),1,0)","v":0},{"$f":"IF(AND('User Input'!$B$52='User Input'!$B$24,Ranking!CL4<'User Input'!$A$24),1,0)","v":0},{"$f":"IF(AND('User Input'!$B$52='User Input'!$B$25,Ranking!CL4<'User Input'!$A$25),1,0)","v":0},{"$f":"IF(AND('User Input'!$B$52='User Input'!$B$26,Ranking!CL4<'User Input'!$A$26),1,0)","v":0},{"$f":"IF('User Input'!$B$52='User Input'!$B$27,1,0)","v":0},{"$f":"IF(AND('User Input'!$C$52='User Input'!$C$23,CE4=1),1,0)","v":0},{"$f":"IF(CD4=1,0,IF(AND('User Input'!$C$52='User Input'!$C$24,Ranking!CF4=1),1,0))","v":1},{"$f":"IF(CE4=1,0,IF(AND('User Input'!$C$52='User Input'!$C$25,Ranking!CG4=1),1,0))","v":0},{"$f":"IF(CF4=1,0,IF(AND('User Input'!$C$52='User Input'!$C$26,Ranking!CH4=1),1,0))","v":0},{"$f":"IF(CG4=1,0,IF(AND('User Input'!$C$52='User Input'!$C$27,Ranking!CI4=1),1,0))","v":0},{"$f":"IF(AND('User Input'!$D$52='User Input'!$D$23,Ranking!CJ4>5000),1,0)","v":1},{"$f":"IF('User Input'!$E$52='User Input'!$E$25,1,IF(AND('User Input'!$E$52='User Input'!$E$23,Ranking!CM4=1),1,IF(AND('User Input'!$E$52='User Input'!$E$24,Ranking!CM4=0),1,0)))","v":1},{"$f":"IF(AND('User Input'!$F$52='User Input'!$F$23,Ranking!DS4=1),1,0)","v":0},{"$f":"IF(AND('User Input'!$F$52='User Input'!$F$24,Ranking!DT4=1),1,0)","v":0},{"$f":"IF(AND('User Input'!$F$52='User Input'!$F$25,Ranking!DU4=1),1,0)","v":1},{"$f":"IF('User Input'!$G$52='User Input'!$G$24,1,IF(AND('User Input'!$G$52='User Input'!$G$23,DH4=\"Y\"),1,0))","v":1},{"$f":"IF('User Input'!$H$52='User Input'!$H$23,1,IF(AND('User Input'!$H$52='User Input'!$H$24,Ranking!BK4<>\"Video\"),1,0))","v":0},{"$f":"IF(AND('User Input'!$I$52='User Input'!$I$23,Ranking!DV4=1),1,0)","v":0},{"$f":"IF(AND('User Input'!$I$52='User Input'!$I$24,Ranking!DW4=1),1,0)","v":0},{"$f":"IF(AND('User Input'!$I$52='User Input'!$I$25,Ranking!DX4=1),1,0)","v":0},{"$f":"IF('User Input'!$J$52='User Input'!$J$23,1,IF(AND('User Input'!$J$52='User Input'!$J$24,Ranking!DY4=0),1,0))","v":1},{"$f":"IF('User Input'!$K$52='User Input'!$K$24,1,IF(AND('User Input'!$K$52='User Input'!$K$23,Ranking!CO4=1),1,0))","v":1},null,null,"Miovision TrafficLink",null,"Video","software and hardware",1,0,1,1,0,1,0,0,0,1,1,1,0.99,0.99,1,0,0,0,0,1,1,0,0,14900,1000,14900,1,"AC",1,1,"360o","90m","Y","Y","Y","N","Y",1,"Medium","N",0,1,1,1,1,1,"N","Y",1,0,0,1,0,0,1,1,1,0,0,1,1,1,1,0,1]
[{"$f":"IF(AND('User Input'!$D$35='User Input'!$D$6,Ranking!BN5=1),1,0)","v":0},{"$f":"IF(AND('User Input'!$D$35='User Input'!$D$7,Ranking!BO5=1),1,0)","v":0},{"$f":"IF(AND('User Input'!$D$35='User Input'!$D$8,Ranking!BP5=1),1,0)","v":0},{"$f":"IF(AND('User Input'!$F$35='User Input'!$F$7,Ranking!BQ5=1),1,0)","v":0},{"$f":"IF(AND('User Input'!$F$35='User Input'!$F$6,Ranking!BR5=1),1,0)","v":1},{"$f":"IF(AND('User Input'!$F$35='User Input'!$F$8,Ranking!BS5=1),1,0)","v":0},{"$f":"IF(AND('User Input'!$F$35='User Input'!$F$9,Ranking!BT5=1),1,0)","v":0},{"$f":"IF(AND('User Input'!$F$35='User Input'!$F$10,Ranking!BU5=1),1,0)","v":0},{"$f":"IF(BV5=0,1,IF(AND(BV5=1,'User Input'!$G$35='User Input'!$G$6),0,IF(AND(BV5=1,'User Input'!$G$35='User Input'!$G$7),1,0)))","v":1},{"$f":"IF(BW5=0,1,IF(AND(BW5=1,'User Input'!$H$35='User Input'!$H$6),1,IF(AND(BW5=1,'User Input'!$H$35='User Input'!$H$7),0)))","v":1},{"$f":"IF('User Input'!$I$35='User Input'!$I$6,1,IF(AND('User Input'!$I$35='User Input'!$I$7,Ranking!BX5=0),1,0))","v":1},{"$f":"IF('User Input'!$K$35='User Input'!$K$7,1,IF(AND(OR('User Input'!$K$35='User Input'!$K$6,'User Input'!$K$35='User Input'!$K$8),Ranking!$CZ5=\"Y\"),1,0))","v":0},{"$f":"IF(AND('User Input'!$B$38='User Input'!$B$13,Ranking!CA5=1),1,0)","v":0},{"$f":"IF(AND('User Input'!$B$38='User Input'!$B$14,Ranking!CB5=1),1,0)","v":0},{"$f":"IF(AND('User Input'!$B$38='User Input'!$B$15,Ranking!CC5=1),1,0)","v":0},{"$f":"IF(AND('User Input'!$C$38='User Input'!$C$13,DA5=1),1,0)","v":0},{"$f":"IF(AND('User Input'!$C$38='User Input'!$C$14,Ranking!DB5=1),1,0)","v":0},{"$f":"IF(AND('User Input'!$C$38='User Input'!$C$15,Ranking!DC5=1),1,0)","v":0},{"$f":"IF(AND('User Input'!$C$38='User Input'!$C$16,Ranking!DD5=1),1,0)","v":0},{"$f":"IF(AND('User Input'!$C$38='User Input'!$C$17,Ranking!DE5=1),1,0)","v":0},{"$f":"IF(AND('User Input'!$C$38='User Input'!$C$18,Ranking!DF5=1),1,0)","v":0},{"$f":"IF('User Input'!$I$38='User Input'!$I$13,1,IF(AND('User Input'!$I$38='User Input'!$I17,Ranking!$BY5>0.8),1,IF(AND('User Input'!$I$38='User Input'!$I$15,Ranking!$BY5>0.9),1,IF(AND('User Input'!$I$38='User Input'!$D$16,Ranking!$BY5>0.95),1,0))))","v":1},{"$f":"IF('User Input'!$D$38='User Input'!$D$13,1,IF(AND('User Input'!$D$38='User Input'!$D$14,Ranking!$BZ5>0.8),1,IF(AND('User Input'!$D$38='User Input'!$D$15,Ranking!$BZ5>0.9),1,IF(AND('User Input'!$D$38='User Input'!$D$16,Ranking!$BZ5>0.95),1,0))))","v":1},{"$f":"IF(AND('User Input'!$E$38='User Input'!$E$13,Ranking!DF5=1),1,0)","v":0},{"$f":"IF(AND('User Input'!$F$58=TRUE,Ranking!DI5=1),1,IF(AND('User Input'!$F$58=FALSE,Ranking!DI5=0),1,0))","v":1},{"$f":"IF(AND('User Input'!$F$59=TRUE,Ranking!DJ5=1),1,IF(AND('User Input'!$F$59=FALSE,Ranking!DJ5=0),1,0))","v":1},{"$f":"IF(AND('User Input'!$F$60=TRUE,Ranking!DK5=1),1,IF(AND('User Input'!$F$60=FALSE,Ranking!DK5=0),1,0))","v":1},{"$f":"IF(AND('User Input'!$F$61=TRUE,Ranking!DL5=1),1,IF(AND('User Input'!$F$61=FALSE,Ranking!DL5=0),1,0))","v":1},{"$f":"IF(AND('User Input'!$F$62=TRUE,Ranking!DM5=1),1,IF(AND('User Input'!$F$62=FALSE,Ranking!DM5=0),1,0))","v":0},{"$f":"IF(AND('User Input'!$F$63=TRUE,Ranking!DN5=1),1,IF(AND('User Input'!$F$63=FALSE,Ranking!DN5=0),1,0))","v":0},{"$f":"IF(AND('User Input'!$F$64=TRUE,Ranking!DO5=1),1,IF(AND('User Input'!$F$64=FALSE,Ranking!DO5=0),1,0))","v":0},{"$f":"IF(AND('User Input'!$F$65=TRUE,Ranking!DP5=1),1,IF(AND('User Input'!$F$65=FALSE,Ranking!DP5=0),1,0))","v":0},{"$f":"IF(AND('User Input'!$F$66=TRUE,Ranking!DQ5=1),1,IF(AND('User Input'!$F$66=FALSE,Ranking!DQ5=0),1,0))","v":0},{"$f":"IF(AND('User Input'!$F$67=TRUE,Ranking!DR5=1),1,IF(AND('User Input'!$F$67=FALSE,Ranking!DR5=0),1,0))","v":0},{"$f":"IF(Ranking!CV5=\"Y\",1,IF(AND('User Input'!$G$38='User Input'!$G$14,Ranking!CV5=\"N\"),1,0))","v":1},{"$f":"IF(OR(Ranking!DG5=\"Y\",'User Input'!$H$38='User Input'!$H$14),1,IF(AND('User Input'!$H$38='User Input'!$H$13,Ranking!DG5=\"Y\"),1,0))","v":1},{"$f":"IF(AND('User Input'!$B$52='User Input'!$B$23,Ranking!CL5<'User Input'!$A$23),1,0)","v":0},{"$f":"IF(AND('User Input'!$B$52='User Input'!$B$24,Ranking!CL5<'User Input'!$A$24),1,0)","v":0},{"$f":"IF(AND('User Input'!$B$52='User Input'!$B$25,Ranking!CL5<'User Input'!$A$25),1,0)","v":1},{"$f":"IF(AND('User Input'!$B$52='User Input'!$B$26,Ranking!CL5<'User Input'!$A$26),1,0)","v":0},{"$f":"IF('User Input'!$B$52='User Input'!$B$27,1,0)","v":0},{"$f":"IF(AND('User Input'!$C$52='User Input'!$C$23,CE5=1),1,0)","v":0},{"$f":"IF(CD5=1,0,IF(AND('User Input'!$C$52='User Input'!$C$24,Ranking!CF5=1),1,0))","v":0},{"$f":"IF(CE5=1,0,IF(AND('User Input'!$C$52='User Input'!$C$25,Ranking!CG5=1),1,0))","v":0},{"$f":"IF(CF5=1,0,IF(AND('User Input'!$C$52='User Input'!$C$26,Ranking!CH5=1),1,0))","v":0},{"$f":"IF(CG5=1,0,IF(AND('User Input'!$C$52='User Input'!$C$27,Ranking!CI5=1),1,0))","v":0},{"$f":"IF(AND('User Input'!$D$52='User Input'!$D$23,Ranking!CJ5>5000),1,0)","v":0},{"$f":"IF('User Input'!$E$52='User Input'!$E$25,1,IF(AND('User Input'!$E$52='User Input'!$E$23,Ranking!CM5=1),1,IF(AND('User Input'!$E$52='User Input'!$E$24,Ranking!CM5=0),1,0)))","v":1},{"$f":"IF(AND('User Input'!$F$52='User Input'!$F$23,Ranking!DS5=1),1,0)","v":0},{"$f":"IF(AND('User Input'!$F$52='User Input'!$F$24,Ranking!DT5=1),1,0)","v":0},{"$f":"IF(AND('User Input'!$F$52='User Input'!$F$25,Ranking!DU5=1),1,0)","v":1},{"$f":"IF('User Input'!$G$52='User Input'!$G$24,1,IF(AND('User Input'!$G$52='User Input'!$G$23,DH5=\"Y\"),1,0))","v":1},{"$f":"IF('User Input'!$H$52='User Input'!$H$23,1,IF(AND('User Input'!$H$52='User Input'!$H$24,Ranking!BK5<>\"Video\"),1,0))","v":0},{"$f":"IF(AND('User Input'!$I$52='User Input'!$I$23,Ranking!DV5=1),1,0)","v":0},{"$f":"IF(AND('User Input'!$I$52='User Input'!$I$24,Ranking!DW5=1),1,0)","v":0},{"$f":"IF(AND('User Input'!$I$52='User Input'!$I$25,Ranking!DX5=1),1,0)","v":1},{"$f":"IF('User Input'!$J$52='User Input'!$J$23,1,IF(AND('User Input'!$J$52='User Input'!$J$24,Ranking!DY5=0),1,0))","v":1},{"$f":"IF('User Input'!$K$52='User Input'!$K$24,1,IF(AND('User Input'!$K$52='User Input'!$K$23,Ranking!CO5=1),1,0))","v":1},null,null,"Spack Solutions' countCAM3",null,"Video","software and hardware",1,1,1,0,0,1,0,0,0,1,1,0,"??","??",0,1,1,0,0,0,0,0,1,1300,"$300 for 24-hr video",1300,1,"DC",1,1,"??","??","N","N","N","N","N",0.5,"Low","N",1,0,1,1,0,0,"Y","Y",1,0,0,1,0,0,0,0,0,0,1,1,1,1,0,1,1]
[{"$f":"IF(AND('User Input'!$D$35='User Input'!$D$6,Ranking!BN6=1),1,0)","v":0},{"$f":"IF(AND('User Input'!$D$35='User Input'!$D$7,Ranking!BO6=1),1,0)","v":0},{"$f":"IF(AND('User Input'!$D$35='User Input'!$D$8,Ranking!BP6=1),1,0)","v":0},{"$f":"IF(AND('User Input'!$F$35='User Input'!$F$7,Ranking!BQ6=1),1,0)","v":0},{"$f":"IF(AND('User Input'!$F$35='User Input'!$F$6,Ranking!BR6=1),1,0)","v":1},{"$f":"IF(AND('User Input'!$F$35='User Input'!$F$8,Ranking!BS6=1),1,0)","v":0},{"$f":"IF(AND('User Input'!$F$35='User Input'!$F$9,Ranking!BT6=1),1,0)","v":0},{"$f":"IF(AND('User Input'!$F$35='User Input'!$F$10,Ranking!BU6=1),1,0)","v":0},{"$f":"IF(BV6=0,1,IF(AND(BV6=1,'User Input'!$G$35='User Input'!$G$6),0,IF(AND(BV6=1,'User Input'!$G$35='User Input'!$G$7),1,0)))","v":1},{"$f":"IF(BW6=0,1,IF(AND(BW6=1,'User Input'!$H$35='User Input'!$H$6),1,IF(AND(BW6=1,'User Input'!$H$35='User Input'!$H$7),0)))","v":1},{"$f":"IF('User Input'!$I$35='User Input'!$I$6,1,IF(AND('User Input'!$I$35='User Input'!$I$7,Ranking!BX6=0),1,0))","v":1},{"$f":"IF('User Input'!$K$35='User Input'!$K$7,1,IF(AND(OR('User Input'!$K$35='User Input'!$K$6,'User Input'!$K$35='User Input'!$K$8),Ranking!$CZ6=\"Y\"),1,0))","v":0},{"$f":"IF(AND('User Input'!$B$38='User Input'!$B$13,Ranking!CA6=1),1,0)","v":1},{"$f":"IF(AND('User Input'!$B$38='User Input'!$B$14,Ranking!CB6=1),1,0)","v":0},{"$f":"IF(AND('User Input'!$B$38='User Input'!$B$15,Ranking!CC6=1),1,0)","v":0},{"$f":"IF(AND('User Input'!$C$38='User Input'!$C$13,DA6=1),1,0)","v":0},{"$f":"IF(AND('User Input'!$C$38='User Input'!$C$14,Ranking!DB6=1),1,0)","v":0},{"$f":"IF(AND('User Input'!$C$38='User Input'!$C$15,Ranking!DC6=1),1,0)","v":0},{"$f":"IF(AND('User Input'!$C$38='User Input'!$C$16,Ranking!DD6=1),1,0)","v":0},{"$f":"IF(AND('User Input'!$C$38='User Input'!$C$17,Ranking!DE6=1),1,0)","v":0},{"$f":"IF(AND('User Input'!$C$38='User Input'!$C$18,Ranking!DF6=1),1,0)","v":0},{"$f":"IF('User Input'!$I$38='User Input'!$I$13,1,IF(AND('User Input'!$I$38='User Input'!$I18,Ranking!$BY6>0.8),1,IF(AND('User Input'!$I$38='User Input'!$I$15,Ranking!$BY6>0.9),1,IF(AND('User Input'!$I$38='User Input'!$D$16,Ranking!$BY6>0.95),1,0))))","v":0},{"$f":"IF('User Input'!$D$38='User Input'!$D$13,1,IF(AND('User Input'!$D$38='User Input'!$D$14,Ranking!$BZ6>0.8),1,IF(AND('User Input'!$D$38='User Input'!$D$15,Ranking!$BZ6>0.9),1,IF(AND('User Input'!$D$38='User Input'!$D$16,Ranking!$BZ6>0.95),1,0))))","v":1},{"$f":"IF(AND('User Input'!$E$38='User Input'!$E$13,Ranking!DF6=1),1,0)","v":0},{"$f":"IF(AND('User Input'!$F$58=TRUE,Ranking!DI6=1),1,IF(AND('User Input'!$F$58=FALSE,Ranking!DI6=0),1,0))","v":1},{"$f":"IF(AND('User Input'!$F$59=TRUE,Ranking!DJ6=1),1,IF(AND('User Input'!$F$59=FALSE,Ranking!DJ6=0),1,0))","v":1},{"$f":"IF(AND('User Input'!$F$60=TRUE,Ranking!DK6=1),1,IF(AND('User Input'!$F$60=FALSE,Ranking!DK6=0),1,0))","v":1},{"$f":"IF(AND('User Input'!$F$61=TRUE,Ranking!DL6=1),1,IF(AND('User Input'!$F$61=FALSE,Ranking!DL6=0),1,0))","v":1},{"$f":"IF(AND('User Input'!$F$62=TRUE,Ranking!DM6=1),1,IF(AND('User Input'!$F$62=FALSE,Ranking!DM6=0),1,0))","v":0},{"$f":"IF(AND('User Input'!$F$63=TRUE,Ranking!DN6=1),1,IF(AND('User Input'!$F$63=FALSE,Ranking!DN6=0),1,0))","v":0},{"$f":"IF(AND('User Input'!$F$64=TRUE,Ranking!DO6=1),1,IF(AND('User Input'!$F$64=FALSE,Ranking!DO6=0),1,0))","v":0},{"$f":"IF(AND('User Input'!$F$65=TRUE,Ranking!DP6=1),1,IF(AND('User Input'!$F$65=FALSE,Ranking!DP6=0),1,0))","v":0},{"$f":"IF(AND('User Input'!$F$66=TRUE,Ranking!DQ6=1),1,IF(AND('User Input'!$F$66=FALSE,Ranking!DQ6=0),1,0))","v":0},{"$f":"IF(AND('User Input'!$F$67=TRUE,Ranking!DR6=1),1,IF(AND('User Input'!$F$67=FALSE,Ranking!DR6=0),1,0))","v":0},{"$f":"IF(Ranking!CV6=\"Y\",1,IF(AND('User Input'!$G$38='User Input'!$G$14,Ranking!CV6=\"N\"),1,0))","v":1},{"$f":"IF(OR(Ranking!DG6=\"Y\",'User Input'!$H$38='User Input'!$H$14),1,IF(AND('User Input'!$H$38='User Input'!$H$13,Ranking!DG6=\"Y\"),1,0))","v":0},{"$f":"IF(AND('User Input'!$B$52='User Input'!$B$23,Ranking!CL6<'User Input'!$A$23),1,0)","v":0},{"$f":"IF(AND('User Input'!$B$52='User Input'!$B$24,Ranking!CL6<'User Input'!$A$24),1,0)","v":0},{"$f":"IF(AND('User Input'!$B$52='User Input'!$B$25,Ranking!CL6<'User Input'!$A$25),1,0)","v":0},{"$f":"IF(AND('User Input'!$B$52='User Input'!$B$26,Ranking!CL6<'User Input'!$A$26),1,0)","v":0},{"$f":"IF('User Input'!$B$52='User Input'!$B$27,1,0)","v":0},{"$f":"IF(AND('User Input'!$C$52='User Input'!$C$23,CE6=1),1,0)","v":0},{"$f":"IF(CD6=1,0,IF(AND('User Input'!$C$52='User Input'!$C$24,Ranking!CF6=1),1,0))","v":1},{"$f":"IF(CE6=1,0,IF(AND('User Input'!$C$52='User Input'!$C$25,Ranking!CG6=1),1,0))","v":0},{"$f":"IF(CF6=1,0,IF(AND('User Input'!$C$52='User Input'!$C$26,Ranking!CH6=1),1,0))","v":0},{"$f":"IF(CG6=1,0,IF(AND('User Input'!$C$52='User Input'!$C$27,Ranking!CI6=1),1,0))","v":0},{"$f":"IF(AND('User Input'!$D$52='User Input'!$D$23,Ranking!CJ6>5000),1,0)","v":1},{"$f":"IF('User Input'!$E$52='User Input'!$E$25,1,IF(AND('User Input'!$E$52='User Input'!$E$23,Ranking!CM6=1),1,IF(AND('User Input'!$E$52='User Input'!$E$24,Ranking!CM6=0),1,0)))","v":1},{"$f":"IF(AND('User Input'!$F$52='User Input'!$F$23,Ranking!DS6=1),1,0)","v":0},{"$f":"IF(AND('User Input'!$F$52='User Input'!$F$24,Ranking!DT6=1),1,0)","v":0},{"$f":"IF(AND('User Input'!$F$52='User Input'!$F$25,Ranking!DU6=1),1,0)","v":1},{"$f":"IF('User Input'!$G$52='User Input'!$G$24,1,IF(AND('User Input'!$G$52='User Input'!$G$23,DH6=\"Y\"),1,0))","v":0},{"$f":"IF('User Input'!$H$52='User Input'!$H$23,1,IF(AND('User Input'!$H$52='User Input'!$H$24,Ranking!BK6<>\"Video\"),1,0))","v":0},{"$f":"IF(AND('User Input'!$I$52='User Input'!$I$23,Ranking!DV6=1),1,0)","v":0},{"$f":"IF(AND('User Input'!$I$52='User Input'!$I$24,Ranking!DW6=1),1,0)","v":0},{"$f":"IF(AND('User Input'!$I$52='User Input'!$I$25,Ranking!DX6=1),1,0)","v":0},{"$f":"IF('User Input'!$J$52='User Input'!$J$23,1,IF(AND('User Input'!$J$52='User Input'!$J$24,Ranking!DY6=0),1,0))","v":1},{"$f":"IF('User Input'!$K$52='User Input'!$K$24,1,IF(AND('User Input'!$K$52='User Input'!$K$23,Ranking!CO6=1),1,0))","v":0},null,null,"Eco-counter CITIX – AI ",null,"Video","software and hardware",2,1,1,0,0,1,0,0,0,1,1,1,0.95,0.95,1,0,0,0,0,1,1,0,0,13800,400,{"$f":"CJ6*2","v":27600},1,"AC",0,1,"??","10m","Y","Y","Y","Y","N",0.5,"Medium","N",0,0,1,1,0,0,"??","??",1,0,0,1,0,0,0,0,0,0,0,0,1,1,0,0,1]
[{"$f":"IF(AND('User Input'!$D$35='User Input'!$D$6,Ranking!BN7=1),1,0)","v":0},{"$f":"IF(AND('User Input'!$D$35='User Input'!$D$7,Ranking!BO7=1),1,0)","v":0},{"$f":"IF(AND('User Input'!$D$35='User Input'!$D$8,Ranking!BP7=1),1,0)","v":0},{"$f":"IF(AND('User Input'!$F$35='User Input'!$F$7,Ranking!BQ7=1),1,0)","v":0},{"$f":"IF(AND('User Input'!$F$35='User Input'!$F$6,Ranking!BR7=1),1,0)","v":1},{"$f":"IF(AND('User Input'!$F$35='User Input'!$F$8,Ranking!BS7=1),1,0)","v":0},{"$f":"IF(AND('User Input'!$F$35='User Input'!$F$9,Ranking!BT7=1),1,0)","v":0},{"$f":"IF(AND('User Input'!$F$35='User Input'!$F$10,Ranking!BU7=1),1,0)","v":0},{"$f":"IF(BV7=0,1,IF(AND(BV7=1,'User Input'!$G$35='User Input'!$G$6),0,IF(AND(BV7=1,'User Input'!$G$35='User Input'!$G$7),1,0)))","v":1},{"$f":"IF(BW7=0,1,IF(AND(BW7=1,'User Input'!$H$35='User Input'!$H$6),1,IF(AND(BW7=1,'User Input'!$H$35='User Input'!$H$7),0)))","v":1},{"$f":"IF('User Input'!$I$35='User Input'!$I$6,1,IF(AND('User Input'!$I$35='User Input'!$I$7,Ranking!BX7=0),1,0))","v":1},{"$f":"IF('User Input'!$K$35='User Input'!$K$7,1,IF(AND(OR('User Input'!$K$35='User Input'!$K$6,'User Input'!$K$35='User Input'!$K$8),Ranking!$CZ7=\"Y\"),1,0))","v":0},{"$f":"IF(AND('User Input'!$B$38='User Input'!$B$13,Ranking!CA7=1),1,0)","v":1},{"$f":"IF(AND('User Input'!$B$38='User Input'!$B$14,Ranking!CB7=1),1,0)","v":0},{"$f":"IF(AND('User Input'!$B$38='User Input'!$B$15,Ranking!CC7=1),1,0)","v":0},{"$f":"IF(AND('User Input'!$C$38='User Input'!$C$13,DA7=1),1,0)","v":0},{"$f":"IF(AND('User Input'!$C$38='User Input'!$C$14,Ranking!DB7=1),1,0)","v":0},{"$f":"IF(AND('User Input'!$C$38='User Input'!$C$15,Ranking!DC7=1),1,0)","v":0},{"$f":"IF(AND('User Input'!$C$38='User Input'!$C$16,Ranking!DD7=1),1,0)","v":0},{"$f":"IF(AND('User Input'!$C$38='User Input'!$C$17,Ranking!DE7=1),1,0)","v":0},{"$f":"IF(AND('User Input'!$C$38='User Input'!$C$18,Ranking!DF7=1),1,0)","v":0},{"$f":"IF('User Input'!$I$38='User Input'!$I$13,1,IF(AND('User Input'!$I$38='User Input'!$I19,Ranking!$BY7>0.8),1,IF(AND('User Input'!$I$38='User Input'!$I$15,Ranking!$BY7>0.9),1,IF(AND('User Input'!$I$38='User Input'!$D$16,Ranking!$BY7>0.95),1,0))))","v":0},{"$f":"IF('User Input'!$D$38='User Input'!$D$13,1,IF(AND('User Input'!$D$38='User Input'!$D$14,Ranking!$BZ7>0.8),1,IF(AND('User Input'!$D$38='User Input'!$D$15,Ranking!$BZ7>0.9),1,IF(AND('User Input'!$D$38='User Input'!$D$16,Ranking!$BZ7>0.95),1,0))))","v":1},{"$f":"IF(AND('User Input'!$E$38='User Input'!$E$13,Ranking!DF7=1),1,0)","v":0},{"$f":"IF(AND('User Input'!$F$58=TRUE,Ranking!DI7=1),1,IF(AND('User Input'!$F$58=FALSE,Ranking!DI7=0),1,0))","v":1},{"$f":"IF(AND('User Input'!$F$59=TRUE,Ranking!DJ7=1),1,IF(AND('User Input'!$F$59=FALSE,Ranking!DJ7=0),1,0))","v":1},{"$f":"IF(AND('User Input'!$F$60=TRUE,Ranking!DK7=1),1,IF(AND('User Input'!$F$60=FALSE,Ranking!DK7=0),1,0))","v":0},{"$f":"IF(AND('User Input'!$F$61=TRUE,Ranking!DL7=1),1,IF(AND('User Input'!$F$61=FALSE,Ranking!DL7=0),1,0))","v":1},{"$f":"IF(AND('User Input'!$F$62=TRUE,Ranking!DM7=1),1,IF(AND('User Input'!$F$62=FALSE,Ranking!DM7=0),1,0))","v":1},{"$f":"IF(AND('User Input'!$F$63=TRUE,Ranking!DN7=1),1,IF(AND('User Input'!$F$63=FALSE,Ranking!DN7=0),1,0))","v":0},{"$f":"IF(AND('User Input'!$F$64=TRUE,Ranking!DO7=1),1,IF(AND('User Input'!$F$64=FALSE,Ranking!DO7=0),1,0))","v":0},{"$f":"IF(AND('User Input'!$F$65=TRUE,Ranking!DP7=1),1,IF(AND('User Input'!$F$65=FALSE,Ranking!DP7=0),1,0))","v":0},{"$f":"IF(AND('User Input'!$F$66=TRUE,Ranking!DQ7=1),1,IF(AND('User Input'!$F$66=FALSE,Ranking!DQ7=0),1,0))","v":0},{"$f":"IF(AND('User Input'!$F$67=TRUE,Ranking!DR7=1),1,IF(AND('User Input'!$F$67=FALSE,Ranking!DR7=0),1,0))","v":0},{"$f":"IF(Ranking!CV7=\"Y\",1,IF(AND('User Input'!$G$38='User Input'!$G$14,Ranking!CV7=\"N\"),1,0))","v":1},{"$f":"IF(OR(Ranking!DG7=\"Y\",'User Input'!$H$38='User Input'!$H$14),1,IF(AND('User Input'!$H$38='User Input'!$H$13,Ranking!DG7=\"Y\"),1,0))","v":0},{"$f":"IF(AND('User Input'!$B$52='User Input'!$B$23,Ranking!CL7<'User Input'!$A$23),1,0)","v":0},{"$f":"IF(AND('User Input'!$B$52='User Input'!$B$24,Ranking!CL7<'User Input'!$A$24),1,0)","v":0},{"$f":"IF(AND('User Input'!$B$52='User Input'!$B$25,Ranking!CL7<'User Input'!$A$25),1,0)","v":0},{"$f":"IF(AND('User Input'!$B$52='User Input'!$B$26,Ranking!CL7<'User Input'!$A$26),1,0)","v":0},{"$f":"IF('User Input'!$B$52='User Input'!$B$27,1,0)","v":0},{"$f":"IF(AND('User Input'!$C$52='User Input'!$C$23,CE7=1),1,0)","v":0},{"$f":"IF(CD7=1,0,IF(AND('User Input'!$C$52='User Input'!$C$24,Ranking!CF7=1),1,0))","v":0},{"$f":"IF(CE7=1,0,IF(AND('User Input'!$C$52='User Input'!$C$25,Ranking!CG7=1),1,0))","v":0},{"$f":"IF(CF7=1,0,IF(AND('User Input'!$C$52='User Input'!$C$26,Ranking!CH7=1),1,0))","v":0},{"$f":"IF(CG7=1,0,IF(AND('User Input'!$C$52='User Input'!$C$27,Ranking!CI7=1),1,0))","v":0},{"$f":"IF(AND('User Input'!$D$52='User Input'!$D$23,Ranking!CJ7>5000),1,0)","v":1},{"$f":"IF('User Input'!$E$52='User Input'!$E$25,1,IF(AND('User Input'!$E$52='User Input'!$E$23,Ranking!CM7=1),1,IF(AND('User Input'!$E$52='User Input'!$E$24,Ranking!CM7=0),1,0)))","v":0},{"$f":"IF(AND('User Input'!$F$52='User Input'!$F$23,Ranking!DS7=1),1,0)","v":0},{"$f":"IF(AND('User Input'!$F$52='User Input'!$F$24,Ranking!DT7=1),1,0)","v":0},{"$f":"IF(AND('User Input'!$F$52='User Input'!$F$25,Ranking!DU7=1),1,0)","v":1},{"$f":"IF('User Input'!$G$52='User Input'!$G$24,1,IF(AND('User Input'!$G$52='User Input'!$G$23,DH7=\"Y\"),1,0))","v":1},{"$f":"IF('User Input'!$H$52='User Input'!$H$23,1,IF(AND('User Input'!$H$52='User Input'!$H$24,Ranking!BK7<>\"Video\"),1,0))","v":0},{"$f":"IF(AND('User Input'!$I$52='User Input'!$I$23,Ranking!DV7=1),1,0)","v":0},{"$f":"IF(AND('User Input'!$I$52='User Input'!$I$24,Ranking!DW7=1),1,0)","v":0},{"$f":"IF(AND('User Input'!$I$52='User Input'!$I$25,Ranking!DX7=1),1,0)","v":0},{"$f":"IF('User Input'!$J$52='User Input'!$J$23,1,IF(AND('User Input'!$J$52='User Input'!$J$24,Ranking!DY7=0),1,0))","v":1},{"$f":"IF('User Input'!$K$52='User Input'!$K$24,1,IF(AND('User Input'!$K$52='User Input'!$K$23,Ranking!CO7=1),1,0))","v":0},null,null,"Numina ",null,"Video","software and hardware",4,1,1,0,1,1,0,0,0,1,1,1,0.95,0.95,1,0,0,0,0,0,1,0,0,"??",1500,"??",0,"AC",0,1,"90°","40m","Y","Y","N","N","N",0.5,"High","N",0,0,1,1,0,0,"??","Y",1,0,1,1,1,0,0,0,0,0,0,1,1,1,0,0,0]
[{"$f":"IF(AND('User Input'!$D$35='User Input'!$D$6,Ranking!BN8=1),1,0)","v":0},{"$f":"IF(AND('User Input'!$D$35='User Input'!$D$7,Ranking!BO8=1),1,0)","v":0},{"$f":"IF(AND('User Input'!$D$35='User Input'!$D$8,Ranking!BP8=1),1,0)","v":1},{"$f":"IF(AND('User Input'!$F$35='User Input'!$F$7,Ranking!BQ8=1),1,0)","v":0},{"$f":"IF(AND('User Input'!$F$35='User Input'!$F$6,Ranking!BR8=1),1,0)","v":1},{"$f":"IF(AND('User Input'!$F$35='User Input'!$F$8,Ranking!BS8=1),1,0)","v":0},{"$f":"IF(AND('User Input'!$F$35='User Input'!$F$9,Ranking!BT8=1),1,0)","v":0},{"$f":"IF(AND('User Input'!$F$35='User Input'!$F$10,Ranking!BU8=1),1,0)","v":0},{"$f":"IF(BV8=0,1,IF(AND(BV8=1,'User Input'!$G$35='User Input'!$G$6),0,IF(AND(BV8=1,'User Input'!$G$35='User Input'!$G$7),1,0)))","v":1},{"$f":"IF(BW8=0,1,IF(AND(BW8=1,'User Input'!$H$35='User Input'!$H$6),1,IF(AND(BW8=1,'User Input'!$H$35='User Input'!$H$7),0)))","v":1},{"$f":"IF('User Input'!$I$35='User Input'!$I$6,1,IF(AND('User Input'!$I$35='User Input'!$I$7,Ranking!BX8=0),1,0))","v":1},{"$f":"IF('User Input'!$K$35='User Input'!$K$7,1,IF(AND(OR('User Input'!$K$35='User Input'!$K$6,'User Input'!$K$35='User Input'!$K$8),Ranking!$CZ8=\"Y\"),1,0))","v":0},{"$f":"IF(AND('User Input'!$B$38='User Input'!$B$13,Ranking!CA8=1),1,0)","v":0},{"$f":"IF(AND('User Input'!$B$38='User Input'!$B$14,Ranking!CB8=1),1,0)","v":0},{"$f":"IF(AND('User Input'!$B$38='User Input'!$B$15,Ranking!CC8=1),1,0)","v":0},{"$f":"IF(AND('User Input'!$C$38='User Input'!$C$13,DA8=1),1,0)","v":0},{"$f":"IF(AND('User Input'!$C$38='User Input'!$C$14,Ranking!DB8=1),1,0)","v":1},{"$f":"IF(AND('User Input'!$C$38='User Input'!$C$15,Ranking!DC8=1),1,0)","v":0},{"$f":"IF(AND('User Input'!$C$38='User Input'!$C$16,Ranking!DD8=1),1,0)","v":0},{"$f":"IF(AND('User Input'!$C$38='User Input'!$C$17,Ranking!DE8=1),1,0)","v":0},{"$f":"IF(AND('User Input'!$C$38='User Input'!$C$18,Ranking!DF8=1),1,0)","v":0},{"$f":"IF('User Input'!$I$38='User Input'!$I$13,1,IF(AND('User Input'!$I$38='User Input'!$I20,Ranking!$BY8>0.8),1,IF(AND('User Input'!$I$38='User Input'!$I$15,Ranking!$BY8>0.9),1,IF(AND('User Input'!$I$38='User Input'!$D$16,Ranking!$BY8>0.95),1,0))))","v":1},{"$f":"IF('User Input'!$D$38='User Input'!$D$13,1,IF(AND('User Input'!$D$38='User Input'!$D$14,Ranking!$BZ8>0.8),1,IF(AND('User Input'!$D$38='User Input'!$D$15,Ranking!$BZ8>0.9),1,IF(AND('User Input'!$D$38='User Input'!$D$16,Ranking!$BZ8>0.95),1,0))))","v":0},{"$f":"IF(AND('User Input'!$E$38='User Input'!$E$13,Ranking!DF8=1),1,0)","v":0},{"$f":"IF(AND('User Input'!$F$58=TRUE,Ranking!DI8=1),1,IF(AND('User Input'!$F$58=FALSE,Ranking!DI8=0),1,0))","v":1},{"$f":"IF(AND('User Input'!$F$59=TRUE,Ranking!DJ8=1),1,IF(AND('User Input'!$F$59=FALSE,Ranking!DJ8=0),1,0))","v":1},{"$f":"IF(AND('User Input'!$F$60=TRUE,Ranking!DK8=1),1,IF(AND('User Input'!$F$60=FALSE,Ranking!DK8=0),1,0))","v":0},{"$f":"IF(AND('User Input'!$F$61=TRUE,Ranking!DL8=1),1,IF(AND('User Input'!$F$61=FALSE,Ranking!DL8=0),1,0))","v":1},{"$f":"IF(AND('User Input'!$F$62=TRUE,Ranking!DM8=1),1,IF(AND('User Input'!$F$62=FALSE,Ranking!DM8=0),1,0))","v":1},{"$f":"IF(AND('User Input'!$F$63=TRUE,Ranking!DN8=1),1,IF(AND('User Input'!$F$63=FALSE,Ranking!DN8=0),1,0))","v":1},{"$f":"IF(AND('User Input'!$F$64=TRUE,Ranking!DO8=1),1,IF(AND('User Input'!$F$64=FALSE,Ranking!DO8=0),1,0))","v":1},{"$f":"IF(AND('User Input'!$F$65=TRUE,Ranking!DP8=1),1,IF(AND('User Input'!$F$65=FALSE,Ranking!DP8=0),1,0))","v":1},{"$f":"IF(AND('User Input'!$F$66=TRUE,Ranking!DQ8=1),1,IF(AND('User Input'!$F$66=FALSE,Ranking!DQ8=0),1,0))","v":0},{"$f":"IF(AND('User Input'!$F$67=TRUE,Ranking!DR8=1),1,IF(AND('User Input'!$F$67=FALSE,Ranking!DR8=0),1,0))","v":1},{"$f":"IF(Ranking!CV8=\"Y\",1,IF(AND('User Input'!$G$38='User Input'!$G$14,Ranking!CV8=\"N\"),1,0))","v":1},{"$f":"IF(OR(Ranking!DG8=\"Y\",'User Input'!$H$38='User Input'!$H$14),1,IF(AND('User Input'!$H$38='User Input'!$H$13,Ranking!DG8=\"Y\"),1,0))","v":1},{"$f":"IF(AND('User Input'!$B$52='User Input'!$B$23,Ranking!CL8<'User Input'!$A$23),1,0)","v":0},{"$f":"IF(AND('User Input'!$B$52='User Input'!$B$24,Ranking!CL8<'User Input'!$A$24),1,0)","v":0},{"$f":"IF(AND('User Input'!$B$52='User Input'!$B$25,Ranking!CL8<'User Input'!$A$25),1,0)","v":0},{"$f":"IF(AND('User Input'!$B$52='User Input'!$B$26,Ranking!CL8<'User Input'!$A$26),1,0)","v":0},{"$f":"IF('User Input'!$B$52='User Input'!$B$27,1,0)","v":0},{"$f":"IF(AND('User Input'!$C$52='User Input'!$C$23,CE8=1),1,0)","v":0},{"$f":"IF(CD8=1,0,IF(AND('User Input'!$C$52='User Input'!$C$24,Ranking!CF8=1),1,0))","v":0},{"$f":"IF(CE8=1,0,IF(AND('User Input'!$C$52='User Input'!$C$25,Ranking!CG8=1),1,0))","v":0},{"$f":"IF(CF8=1,0,IF(AND('User Input'!$C$52='User Input'!$C$26,Ranking!CH8=1),1,0))","v":0},{"$f":"IF(CG8=1,0,IF(AND('User Input'!$C$52='User Input'!$C$27,Ranking!CI8=1),1,0))","v":0},{"$f":"IF(AND('User Input'!$D$52='User Input'!$D$23,Ranking!CJ8>5000),1,0)","v":0},{"$f":"IF('User Input'!$E$52='User Input'!$E$25,1,IF(AND('User Input'!$E$52='User Input'!$E$23,Ranking!CM8=1),1,IF(AND('User Input'!$E$52='User Input'!$E$24,Ranking!CM8=0),1,0)))","v":0},{"$f":"IF(AND('User Input'!$F$52='User Input'!$F$23,Ranking!DS8=1),1,0)","v":0},{"$f":"IF(AND('User Input'!$F$52='User Input'!$F$24,Ranking!DT8=1),1,0)","v":0},{"$f":"IF(AND('User Input'!$F$52='User Input'!$F$25,Ranking!DU8=1),1,0)","v":1},{"$f":"IF('User Input'!$G$52='User Input'!$G$24,1,IF(AND('User Input'!$G$52='User Input'!$G$23,DH8=\"Y\"),1,0))","v":1},{"$f":"IF('User Input'!$H$52='User Input'!$H$23,1,IF(AND('User Input'!$H$52='User Input'!$H$24,Ranking!BK8<>\"Video\"),1,0))","v":0},{"$f":"IF(AND('User Input'!$I$52='User Input'!$I$23,Ranking!DV8=1),1,0)","v":0},{"$f":"IF(AND('User Input'!$I$52='User Input'!$I$24,Ranking!DW8=1),1,0)","v":0},{"$f":"IF(AND('User Input'!$I$52='User Input'!$I$25,Ranking!DX8=1),1,0)","v":0},{"$f":"IF('User Input'!$J$52='User Input'!$J$23,1,IF(AND('User Input'!$J$52='User Input'!$J$24,Ranking!DY8=0),1,0))","v":1},{"$f":"IF('User Input'!$K$52='User Input'!$K$24,1,IF(AND('User Input'!$K$52='User Input'!$K$23,Ranking!CO8=1),1,0))","v":1},null,null,"Street Simplified",null,"Video","software and hardware",2,1,1,1,1,1,0,0,0,1,1,0,98,0.9,0,1,1,1,0,0,0,0,0,5000,0,5000,0,"AC",1,0,"??","??","Y","N","N","N","N",0.5,"Low","N",1,1,1,1,1,0,"Y","Y",1,0,1,1,1,1,1,1,0,1,1,1,1,1,0,0,0]
[{"$f":"IF(AND('User Input'!$D$35='User Input'!$D$6,Ranking!BN9=1),1,0)","v":0},{"$f":"IF(AND('User Input'!$D$35='User Input'!$D$7,Ranking!BO9=1),1,0)","v":0},{"$f":"IF(AND('User Input'!$D$35='User Input'!$D$8,Ranking!BP9=1),1,0)","v":0},{"$f":"IF(AND('User Input'!$F$35='User Input'!$F$7,Ranking!BQ9=1),1,0)","v":0},{"$f":"IF(AND('User Input'!$F$35='User Input'!$F$6,Ranking!BR9=1),1,0)","v":1},{"$f":"IF(AND('User Input'!$F$35='User Input'!$F$8,Ranking!BS9=1),1,0)","v":0},{"$f":"IF(AND('User Input'!$F$35='User Input'!$F$9,Ranking!BT9=1),1,0)","v":0},{"$f":"IF(AND('User Input'!$F$35='User Input'!$F$10,Ranking!BU9=1),1,0)","v":0},{"$f":"IF(BV9=0,1,IF(AND(BV9=1,'User Input'!$G$35='User Input'!$G$6),0,IF(AND(BV9=1,'User Input'!$G$35='User Input'!$G$7),1,0)))","v":1},{"$f":"IF(BW9=0,1,IF(AND(BW9=1,'User Input'!$H$35='User Input'!$H$6),1,IF(AND(BW9=1,'User Input'!$H$35='User Input'!$H$7),0)))","v":1},{"$f":"IF('User Input'!$I$35='User Input'!$I$6,1,IF(AND('User Input'!$I$35='User Input'!$I$7,Ranking!BX9=0),1,0))","v":1},{"$f":"IF('User Input'!$K$35='User Input'!$K$7,1,IF(AND(OR('User Input'!$K$35='User Input'!$K$6,'User Input'!$K$35='User Input'!$K$8),Ranking!$CZ9=\"Y\"),1,0))","v":1},{"$f":"IF(AND('User Input'!$B$38='User Input'!$B$13,Ranking!CA9=1),1,0)","v":1},{"$f":"IF(AND('User Input'!$B$38='User Input'!$B$14,Ranking!CB9=1),1,0)","v":0},{"$f":"IF(AND('User Input'!$B$38='User Input'!$B$15,Ranking!CC9=1),1,0)","v":0},{"$f":"IF(AND('User Input'!$C$38='User Input'!$C$13,DA9=1),1,0)","v":0},{"$f":"IF(AND('User Input'!$C$38='User Input'!$C$14,Ranking!DB9=1),1,0)","v":1},{"$f":"IF(AND('User Input'!$C$38='User Input'!$C$15,Ranking!DC9=1),1,0)","v":0},{"$f":"IF(AND('User Input'!$C$38='User Input'!$C$16,Ranking!DD9=1),1,0)","v":0},{"$f":"IF(AND('User Input'!$C$38='User Input'!$C$17,Ranking!DE9=1),1,0)","v":0},{"$f":"IF(AND('User Input'!$C$38='User Input'!$C$18,Ranking!DF9=1),1,0)","v":0},{"$f":"IF('User Input'!$I$38='User Input'!$I$13,1,IF(AND('User Input'!$I$38='User Input'!$I21,Ranking!$BY9>0.8),1,IF(AND('User Input'!$I$38='User Input'!$I$15,Ranking!$BY9>0.9),1,IF(AND('User Input'!$I$38='User Input'!$D$16,Ranking!$BY9>0.95),1,0))))","v":1},{"$f":"IF('User Input'!$D$38='User Input'!$D$13,1,IF(AND('User Input'!$D$38='User Input'!$D$14,Ranking!$BZ9>0.8),1,IF(AND('User Input'!$D$38='User Input'!$D$15,Ranking!$BZ9>0.9),1,IF(AND('User Input'!$D$38='User Input'!$D$16,Ranking!$BZ9>0.95),1,0))))","v":1},{"$f":"IF(AND('User Input'!$E$38='User Input'!$E$13,Ranking!DF9=1),1,0)","v":1},{"$f":"IF(AND('User Input'!$F$58=TRUE,Ranking!DI9=1),1,IF(AND('User Input'!$F$58=FALSE,Ranking!DI9=0),1,0))","v":1},{"$f":"IF(AND('User Input'!$F$59=TRUE,Ranking!DJ9=1),1,IF(AND('User Input'!$F$59=FALSE,Ranking!DJ9=0),1,0))","v":1},{"$f":"IF(AND('User Input'!$F$60=TRUE,Ranking!DK9=1),1,IF(AND('User Input'!$F$60=FALSE,Ranking!DK9=0),1,0))","v":1},{"$f":"IF(AND('User Input'!$F$61=TRUE,Ranking!DL9=1),1,IF(AND('User Input'!$F$61=FALSE,Ranking!DL9=0),1,0))","v":1},{"$f":"IF(AND('User Input'!$F$62=TRUE,Ranking!DM9=1),1,IF(AND('User Input'!$F$62=FALSE,Ranking!DM9=0),1,0))","v":1},{"$f":"IF(AND('User Input'!$F$63=TRUE,Ranking!DN9=1),1,IF(AND('User Input'!$F$63=FALSE,Ranking!DN9=0),1,0))","v":1},{"$f":"IF(AND('User Input'!$F$64=TRUE,Ranking!DO9=1),1,IF(AND('User Input'!$F$64=FALSE,Ranking!DO9=0),1,0))","v":1},{"$f":"IF(AND('User Input'!$F$65=TRUE,Ranking!DP9=1),1,IF(AND('User Input'!$F$65=FALSE,Ranking!DP9=0),1,0))","v":0},{"$f":"IF(AND('User Input'!$F$66=TRUE,Ranking!DQ9=1),1,IF(AND('User Input'!$F$66=FALSE,Ranking!DQ9=0),1,0))","v":0},{"$f":"IF(AND('User Input'!$F$67=TRUE,Ranking!DR9=1),1,IF(AND('User Input'!$F$67=FALSE,Ranking!DR9=0),1,0))","v":1},{"$f":"IF(Ranking!CV9=\"Y\",1,IF(AND('User Input'!$G$38='User Input'!$G$14,Ranking!CV9=\"N\"),1,0))","v":1},{"$f":"IF(OR(Ranking!DG9=\"Y\",'User Input'!$H$38='User Input'!$H$14),1,IF(AND('User Input'!$H$38='User Input'!$H$13,Ranking!DG9=\"Y\"),1,0))","v":0},{"$f":"IF(AND('User Input'!$B$52='User Input'!$B$23,Ranking!CL9<'User Input'!$A$23),1,0)","v":0},{"$f":"IF(AND('User Input'!$B$52='User Input'!$B$24,Ranking!CL9<'User Input'!$A$24),1,0)","v":0},{"$f":"IF(AND('User Input'!$B$52='User Input'!$B$25,Ranking!CL9<'User Input'!$A$25),1,0)","v":0},{"$f":"IF(AND('User Input'!$B$52='User Input'!$B$26,Ranking!CL9<'User Input'!$A$26),1,0)","v":0},{"$f":"IF('User Input'!$B$52='User Input'!$B$27,1,0)","v":0},{"$f":"IF(AND('User Input'!$C$52='User Input'!$C$23,CE9=1),1,0)","v":0},{"$f":"IF(CD9=1,0,IF(AND('User Input'!$C$52='User Input'!$C$24,Ranking!CF9=1),1,0))","v":0},{"$f":"IF(CE9=1,0,IF(AND('User Input'!$C$52='User Input'!$C$25,Ranking!CG9=1),1,0))","v":0},{"$f":"IF(CF9=1,0,IF(AND('User Input'!$C$52='User Input'!$C$26,Ranking!CH9=1),1,0))","v":0},{"$f":"IF(CG9=1,0,IF(AND('User Input'!$C$52='User Input'!$C$27,Ranking!CI9=1),1,0))","v":0},{"$f":"IF(AND('User Input'!$D$52='User Input'!$D$23,Ranking!CJ9>5000),1,0)","v":1},{"$f":"IF('User Input'!$E$52='User Input'!$E$25,1,IF(AND('User Input'!$E$52='User Input'!$E$23,Ranking!CM9=1),1,IF(AND('User Input'!$E$52='User Input'!$E$24,Ranking!CM9=0),1,0)))","v":1},{"$f":"IF(AND('User Input'!$F$52='User Input'!$F$23,Ranking!DS9=1),1,0)","v":0},{"$f":"IF(AND('User Input'!$F$52='User Input'!$F$24,Ranking!DT9=1),1,0)","v":0},{"$f":"IF(AND('User Input'!$F$52='User Input'!$F$25,Ranking!DU9=1),1,0)","v":1},{"$f":"IF('User Input'!$G$52='User Input'!$G$24,1,IF(AND('User Input'!$G$52='User Input'!$G$23,DH9=\"Y\"),1,0))","v":0},{"$f":"IF('User Input'!$H$52='User Input'!$H$23,1,IF(AND('User Input'!$H$52='User Input'!$H$24,Ranking!BK9<>\"Video\"),1,0))","v":0},{"$f":"IF(AND('User Input'!$I$52='User Input'!$I$23,Ranking!DV9=1),1,0)","v":0},{"$f":"IF(AND('User Input'!$I$52='User Input'!$I$24,Ranking!DW9=1),1,0)","v":0},{"$f":"IF(AND('User Input'!$I$52='User Input'!$I$25,Ranking!DX9=1),1,0)","v":0},{"$f":"IF('User Input'!$J$52='User Input'!$J$23,1,IF(AND('User Input'!$J$52='User Input'!$J$24,Ranking!DY9=0),1,0))","v":1},{"$f":"IF('User Input'!$K$52='User Input'!$K$24,1,IF(AND('User Input'!$K$52='User Input'!$K$23,Ranking!CO9=1),1,0))","v":0},null,null,"Boulder AI DNN Node ",null,"Video","software",4,1,1,0,0,1,0,0,0,1,1,1,"??","??",1,0,0,"??","??","??","??","??","??","??","??","??",1,"AC",0,1,"??","??","Y","Y","Y","N","Y","??","High","Y",0,1,1,1,1,1,"??","N",1,0,0,1,1,1,1,0,0,1,0,0,1,1,1,0,1]
[{"$f":"IF(AND('User Input'!$D$35='User Input'!$D$6,Ranking!BN10=1),1,0)","v":0},{"$f":"IF(AND('User Input'!$D$35='User Input'!$D$7,Ranking!BO10=1),1,0)","v":0},{"$f":"IF(AND('User Input'!$D$35='User Input'!$D$8,Ranking!BP10=1),1,0)","v":1},{"$f":"IF(AND('User Input'!$F$35='User Input'!$F$7,Ranking!BQ10=1),1,0)","v":0},{"$f":"IF(AND('User Input'!$F$35='User Input'!$F$6,Ranking!BR10=1),1,0)","v":1},{"$f":"IF(AND('User Input'!$F$35='User Input'!$F$8,Ranking!BS10=1),1,0)","v":0},{"$f":"IF(AND('User Input'!$F$35='User Input'!$F$9,Ranking!BT10=1),1,0)","v":0},{"$f":"IF(AND('User Input'!$F$35='User Input'!$F$10,Ranking!BU10=1),1,0)","v":0},{"$f":"IF(BV10=0,1,IF(AND(BV10=1,'User Input'!$G$35='User Input'!$G$6),0,IF(AND(BV10=1,'User Input'!$G$35='User Input'!$G$7),1,0)))","v":1},{"$f":"IF(BW10=0,1,IF(AND(BW10=1,'User Input'!$H$35='User Input'!$H$6),1,IF(AND(BW10=1,'User Input'!$H$35='User Input'!$H$7),0)))","v":1},{"$f":"IF('User Input'!$I$35='User Input'!$I$6,1,IF(AND('User Input'!$I$35='User Input'!$I$7,Ranking!BX10=0),1,0))","v":1},{"$f":"IF('User Input'!$K$35='User Input'!$K$7,1,IF(AND(OR('User Input'!$K$35='User Input'!$K$6,'User Input'!$K$35='User Input'!$K$8),Ranking!$CZ10=\"Y\"),1,0))","v":0},{"$f":"IF(AND('User Input'!$B$38='User Input'!$B$13,Ranking!CA10=1),1,0)","v":1},{"$f":"IF(AND('User Input'!$B$38='User Input'!$B$14,Ranking!CB10=1),1,0)","v":0},{"$f":"IF(AND('User Input'!$B$38='User Input'!$B$15,Ranking!CC10=1),1,0)","v":0},{"$f":"IF(AND('User Input'!$C$38='User Input'!$C$13,DA10=1),1,0)","v":0},{"$f":"IF(AND('User Input'!$C$38='User Input'!$C$14,Ranking!DB10=1),1,0)","v":1},{"$f":"IF(AND('User Input'!$C$38='User Input'!$C$15,Ranking!DC10=1),1,0)","v":0},{"$f":"IF(AND('User Input'!$C$38='User Input'!$C$16,Ranking!DD10=1),1,0)","v":0},{"$f":"IF(AND('User Input'!$C$38='User Input'!$C$17,Ranking!DE10=1),1,0)","v":0},{"$f":"IF(AND('User Input'!$C$38='User Input'!$C$18,Ranking!DF10=1),1,0)","v":0},{"$f":"IF('User Input'!$I$38='User Input'!$I$13,1,IF(AND('User Input'!$I$38='User Input'!$I22,Ranking!$BY10>0.8),1,IF(AND('User Input'!$I$38='User Input'!$I$15,Ranking!$BY10>0.9),1,IF(AND('User Input'!$I$38='User Input'!$D$16,Ranking!$BY10>0.95),1,0))))","v":1},{"$f":"IF('User Input'!$D$38='User Input'!$D$13,1,IF(AND('User Input'!$D$38='User Input'!$D$14,Ranking!$BZ10>0.8),1,IF(AND('User Input'!$D$38='User Input'!$D$15,Ranking!$BZ10>0.9),1,IF(AND('User Input'!$D$38='User Input'!$D$16,Ranking!$BZ10>0.95),1,0))))","v":1},{"$f":"IF(AND('User Input'!$E$38='User Input'!$E$13,Ranking!DF10=1),1,0)","v":1},{"$f":"IF(AND('User Input'!$F$58=TRUE,Ranking!DI10=1),1,IF(AND('User Input'!$F$58=FALSE,Ranking!DI10=0),1,0))","v":1},{"$f":"IF(AND('User Input'!$F$59=TRUE,Ranking!DJ10=1),1,IF(AND('User Input'!$F$59=FALSE,Ranking!DJ10=0),1,0))","v":1},{"$f":"IF(AND('User Input'!$F$60=TRUE,Ranking!DK10=1),1,IF(AND('User Input'!$F$60=FALSE,Ranking!DK10=0),1,0))","v":1},{"$f":"IF(AND('User Input'!$F$61=TRUE,Ranking!DL10=1),1,IF(AND('User Input'!$F$61=FALSE,Ranking!DL10=0),1,0))","v":1},{"$f":"IF(AND('User Input'!$F$62=TRUE,Ranking!DM10=1),1,IF(AND('User Input'!$F$62=FALSE,Ranking!DM10=0),1,0))","v":1},{"$f":"IF(AND('User Input'!$F$63=TRUE,Ranking!DN10=1),1,IF(AND('User Input'!$F$63=FALSE,Ranking!DN10=0),1,0))","v":1},{"$f":"IF(AND('User Input'!$F$64=TRUE,Ranking!DO10=1),1,IF(AND('User Input'!$F$64=FALSE,Ranking!DO10=0),1,0))","v":1},{"$f":"IF(AND('User Input'!$F$65=TRUE,Ranking!DP10=1),1,IF(AND('User Input'!$F$65=FALSE,Ranking!DP10=0),1,0))","v":0},{"$f":"IF(AND('User Input'!$F$66=TRUE,Ranking!DQ10=1),1,IF(AND('User Input'!$F$66=FALSE,Ranking!DQ10=0),1,0))","v":0},{"$f":"IF(AND('User Input'!$F$67=TRUE,Ranking!DR10=1),1,IF(AND('User Input'!$F$67=FALSE,Ranking!DR10=0),1,0))","v":1},{"$f":"IF(Ranking!CV10=\"Y\",1,IF(AND('User Input'!$G$38='User Input'!$G$14,Ranking!CV10=\"N\"),1,0))","v":1},{"$f":"IF(OR(Ranking!DG10=\"Y\",'User Input'!$H$38='User Input'!$H$14),1,IF(AND('User Input'!$H$38='User Input'!$H$13,Ranking!DG10=\"Y\"),1,0))","v":0},{"$f":"IF(AND('User Input'!$B$52='User Input'!$B$23,Ranking!CL10<'User Input'!$A$23),1,0)","v":0},{"$f":"IF(AND('User Input'!$B$52='User Input'!$B$24,Ranking!CL10<'User Input'!$A$24),1,0)","v":0},{"$f":"IF(AND('User Input'!$B$52='User Input'!$B$25,Ranking!CL10<'User Input'!$A$25),1,0)","v":0},{"$f":"IF(AND('User Input'!$B$52='User Input'!$B$26,Ranking!CL10<'User Input'!$A$26),1,0)","v":0},{"$f":"IF('User Input'!$B$52='User Input'!$B$27,1,0)","v":0},{"$f":"IF(AND('User Input'!$C$52='User Input'!$C$23,CE10=1),1,0)","v":0},{"$f":"IF(CD10=1,0,IF(AND('User Input'!$C$52='User Input'!$C$24,Ranking!CF10=1),1,0))","v":0},{"$f":"IF(CE10=1,0,IF(AND('User Input'!$C$52='User Input'!$C$25,Ranking!CG10=1),1,0))","v":0},{"$f":"IF(CF10=1,0,IF(AND('User Input'!$C$52='User Input'!$C$26,Ranking!CH10=1),1,0))","v":0},{"$f":"IF(CG10=1,0,IF(AND('User Input'!$C$52='User Input'!$C$27,Ranking!CI10=1),1,0))","v":0},{"$f":"IF(AND('User Input'!$D$52='User Input'!$D$23,Ranking!CJ10>5000),1,0)","v":1},{"$f":"IF('User Input'!$E$52='User Input'!$E$25,1,IF(AND('User Input'!$E$52='User Input'!$E$23,Ranking!CM10=1),1,IF(AND('User Input'!$E$52='User Input'!$E$24,Ranking!CM10=0),1,0)))","v":1},{"$f":"IF(AND('User Input'!$F$52='User Input'!$F$23,Ranking!DS10=1),1,0)","v":0},{"$f":"IF(AND('User Input'!$F$52='User Input'!$F$24,Ranking!DT10=1),1,0)","v":0},{"$f":"IF(AND('User Input'!$F$52='User Input'!$F$25,Ranking!DU10=1),1,0)","v":1},{"$f":"IF('User Input'!$G$52='User Input'!$G$24,1,IF(AND('User Input'!$G$52='User Input'!$G$23,DH10=\"Y\"),1,0))","v":1},{"$f":"IF('User Input'!$H$52='User Input'!$H$23,1,IF(AND('User Input'!$H$52='User Input'!$H$24,Ranking!BK10<>\"Video\"),1,0))","v":0},{"$f":"IF(AND('User Input'!$I$52='User Input'!$I$23,Ranking!DV10=1),1,0)","v":0},{"$f":"IF(AND('User Input'!$I$52='User Input'!$I$24,Ranking!DW10=1),1,0)","v":0},{"$f":"IF(AND('User Input'!$I$52='User Input'!$I$25,Ranking!DX10=1),1,0)","v":0},{"$f":"IF('User Input'!$J$52='User Input'!$J$23,1,IF(AND('User Input'!$J$52='User Input'!$J$24,Ranking!DY10=0),1,0))","v":1},{"$f":"IF('User Input'!$K$52='User Input'!$K$24,1,IF(AND('User Input'!$K$52='User Input'!$K$23,Ranking!CO10=1),1,0))","v":1},null,null,"Boulder AI DNN Cam ",null,"Video","software and hardware",4,1,1,1,0,1,0,0,0,1,1,1,"??","??",1,0,0,"??","??","??","??","??","??","??","??","??",1,"AC",1,1,"83°","90m","Y","Y","Y","N","Y",0,"Low","N",0,1,null,1,1,1,"??","Y",1,0,0,1,1,1,1,0,0,1,0,1,1,1,1,0,"??"]
[{"$f":"IF(AND('User Input'!$D$35='User Input'!$D$6,Ranking!BN11=1),1,0)","v":0},{"$f":"IF(AND('User Input'!$D$35='User Input'!$D$7,Ranking!BO11=1),1,0)","v":0},{"$f":"IF(AND('User Input'!$D$35='User Input'!$D$8,Ranking!BP11=1),1,0)","v":0},{"$f":"IF(AND('User Input'!$F$35='User Input'!$F$7,Ranking!BQ11=1),1,0)","v":0},{"$f":"IF(AND('User Input'!$F$35='User Input'!$F$6,Ranking!BR11=1),1,0)","v":1},{"$f":"IF(AND('User Input'!$F$35='User Input'!$F$8,Ranking!BS11=1),1,0)","v":0},{"$f":"IF(AND('User Input'!$F$35='User Input'!$F$9,Ranking!BT11=1),1,0)","v":0},{"$f":"IF(AND('User Input'!$F$35='User Input'!$F$10,Ranking!BU11=1),1,0)","v":0},{"$f":"IF(BV11=0,1,IF(AND(BV11=1,'User Input'!$G$35='User Input'!$G$6),0,IF(AND(BV11=1,'User Input'!$G$35='User Input'!$G$7),1,0)))","v":1},{"$f":"IF(BW11=0,1,IF(AND(BW11=1,'User Input'!$H$35='User Input'!$H$6),1,IF(AND(BW11=1,'User Input'!$H$35='User Input'!$H$7),0)))","v":1},{"$f":"IF('User Input'!$I$35='User Input'!$I$6,1,IF(AND('User Input'!$I$35='User Input'!$I$7,Ranking!BX11=0),1,0))","v":1},{"$f":"IF('User Input'!$K$35='User Input'!$K$7,1,IF(AND(OR('User Input'!$K$35='User Input'!$K$6,'User Input'!$K$35='User Input'!$K$8),Ranking!$CZ11=\"Y\"),1,0))","v":1},{"$f":"IF(AND('User Input'!$B$38='User Input'!$B$13,Ranking!CA11=1),1,0)","v":1},{"$f":"IF(AND('User Input'!$B$38='User Input'!$B$14,Ranking!CB11=1),1,0)","v":0},{"$f":"IF(AND('User Input'!$B$38='User Input'!$B$15,Ranking!CC11=1),1,0)","v":0},{"$f":"IF(AND('User Input'!$C$38='User Input'!$C$13,DA11=1),1,0)","v":0},{"$f":"IF(AND('User Input'!$C$38='User Input'!$C$14,Ranking!DB11=1),1,0)","v":1},{"$f":"IF(AND('User Input'!$C$38='User Input'!$C$15,Ranking!DC11=1),1,0)","v":0},{"$f":"IF(AND('User Input'!$C$38='User Input'!$C$16,Ranking!DD11=1),1,0)","v":0},{"$f":"IF(AND('User Input'!$C$38='User Input'!$C$17,Ranking!DE11=1),1,0)","v":0},{"$f":"IF(AND('User Input'!$C$38='User Input'!$C$18,Ranking!DF11=1),1,0)","v":0},{"$f":"IF('User Input'!$I$38='User Input'!$I$13,1,IF(AND('User Input'!$I$38='User Input'!$I23,Ranking!$BY11>0.8),1,IF(AND('User Input'!$I$38='User Input'!$I$15,Ranking!$BY11>0.9),1,IF(AND('User Input'!$I$38='User Input'!$D$16,Ranking!$BY11>0.95),1,0))))","v":1},{"$f":"IF('User Input'!$D$38='User Input'!$D$13,1,IF(AND('User Input'!$D$38='User Input'!$D$14,Ranking!$BZ11>0.8),1,IF(AND('User Input'!$D$38='User Input'!$D$15,Ranking!$BZ11>0.9),1,IF(AND('User Input'!$D$38='User Input'!$D$16,Ranking!$BZ11>0.95),1,0))))","v":1},{"$f":"IF(AND('User Input'!$E$38='User Input'!$E$13,Ranking!DF11=1),1,0)","v":1},{"$f":"IF(AND('User Input'!$F$58=TRUE,Ranking!DI11=1),1,IF(AND('User Input'!$F$58=FALSE,Ranking!DI11=0),1,0))","v":1},{"$f":"IF(AND('User Input'!$F$59=TRUE,Ranking!DJ11=1),1,IF(AND('User Input'!$F$59=FALSE,Ranking!DJ11=0),1,0))","v":0},{"$f":"IF(AND('User Input'!$F$60=TRUE,Ranking!DK11=1),1,IF(AND('User Input'!$F$60=FALSE,Ranking!DK11=0),1,0))","v":1},{"$f":"IF(AND('User Input'!$F$61=TRUE,Ranking!DL11=1),1,IF(AND('User Input'!$F$61=FALSE,Ranking!DL11=0),1,0))","v":1},{"$f":"IF(AND('User Input'!$F$62=TRUE,Ranking!DM11=1),1,IF(AND('User Input'!$F$62=FALSE,Ranking!DM11=0),1,0))","v":1},{"$f":"IF(AND('User Input'!$F$63=TRUE,Ranking!DN11=1),1,IF(AND('User Input'!$F$63=FALSE,Ranking!DN11=0),1,0))","v":0},{"$f":"IF(AND('User Input'!$F$64=TRUE,Ranking!DO11=1),1,IF(AND('User Input'!$F$64=FALSE,Ranking!DO11=0),1,0))","v":1},{"$f":"IF(AND('User Input'!$F$65=TRUE,Ranking!DP11=1),1,IF(AND('User Input'!$F$65=FALSE,Ranking!DP11=0),1,0))","v":1},{"$f":"IF(AND('User Input'!$F$66=TRUE,Ranking!DQ11=1),1,IF(AND('User Input'!$F$66=FALSE,Ranking!DQ11=0),1,0))","v":1},{"$f":"IF(AND('User Input'!$F$67=TRUE,Ranking!DR11=1),1,IF(AND('User Input'!$F$67=FALSE,Ranking!DR11=0),1,0))","v":1},{"$f":"IF(Ranking!CV11=\"Y\",1,IF(AND('User Input'!$G$38='User Input'!$G$14,Ranking!CV11=\"N\"),1,0))","v":1},{"$f":"IF(OR(Ranking!DG11=\"Y\",'User Input'!$H$38='User Input'!$H$14),1,IF(AND('User Input'!$H$38='User Input'!$H$13,Ranking!DG11=\"Y\"),1,0))","v":0},{"$f":"IF(AND('User Input'!$B$52='User Input'!$B$23,Ranking!CL11<'User Input'!$A$23),1,0)","v":0},{"$f":"IF(AND('User Input'!$B$52='User Input'!$B$24,Ranking!CL11<'User Input'!$A$24),1,0)","v":0},{"$f":"IF(AND('User Input'!$B$52='User Input'!$B$25,Ranking!CL11<'User Input'!$A$25),1,0)","v":0},{"$f":"IF(AND('User Input'!$B$52='User Input'!$B$26,Ranking!CL11<'User Input'!$A$26),1,0)","v":0},{"$f":"IF('User Input'!$B$52='User Input'!$B$27,1,0)","v":0},{"$f":"IF(AND('User Input'!$C$52='User Input'!$C$23,CE11=1),1,0)","v":0},{"$f":"IF(CD11=1,0,IF(AND('User Input'!$C$52='User Input'!$C$24,Ranking!CF11=1),1,0))","v":0},{"$f":"IF(CE11=1,0,IF(AND('User Input'!$C$52='User Input'!$C$25,Ranking!CG11=1),1,0))","v":0},{"$f":"IF(CF11=1,0,IF(AND('User Input'!$C$52='User Input'!$C$26,Ranking!CH11=1),1,0))","v":0},{"$f":"IF(CG11=1,0,IF(AND('User Input'!$C$52='User Input'!$C$27,Ranking!CI11=1),1,0))","v":0},{"$f":"IF(AND('User Input'!$D$52='User Input'!$D$23,Ranking!CJ11>5000),1,0)","v":1},{"$f":"IF('User Input'!$E$52='User Input'!$E$25,1,IF(AND('User Input'!$E$52='User Input'!$E$23,Ranking!CM11=1),1,IF(AND('User Input'!$E$52='User Input'!$E$24,Ranking!CM11=0),1,0)))","v":1},{"$f":"IF(AND('User Input'!$F$52='User Input'!$F$23,Ranking!DS11=1),1,0)","v":0},{"$f":"IF(AND('User Input'!$F$52='User Input'!$F$24,Ranking!DT11=1),1,0)","v":0},{"$f":"IF(AND('User Input'!$F$52='User Input'!$F$25,Ranking!DU11=1),1,0)","v":1},{"$f":"IF('User Input'!$G$52='User Input'!$G$24,1,IF(AND('User Input'!$G$52='User Input'!$G$23,DH11=\"Y\"),1,0))","v":0},{"$f":"IF('User Input'!$H$52='User Input'!$H$23,1,IF(AND('User Input'!$H$52='User Input'!$H$24,Ranking!BK11<>\"Video\"),1,0))","v":0},{"$f":"IF(AND('User Input'!$I$52='User Input'!$I$23,Ranking!DV11=1),1,0)","v":0},{"$f":"IF(AND('User Input'!$I$52='User Input'!$I$24,Ranking!DW11=1),1,0)","v":0},{"$f":"IF(AND('User Input'!$I$52='User Input'!$I$25,Ranking!DX11=1),1,0)","v":0},{"$f":"IF('User Input'!$J$52='User Input'!$J$23,1,IF(AND('User Input'!$J$52='User Input'!$J$24,Ranking!DY11=0),1,0))","v":1},{"$f":"IF('User Input'!$K$52='User Input'!$K$24,1,IF(AND('User Input'!$K$52='User Input'!$K$23,Ranking!CO11=1),1,0))","v":0},null,null,"Currux Vision",null,"Video","software",4,1,1,0,1,1,0,0,0,1,1,1,0.98,0.97,1,0,0,"??","??","??","??","??","??","??","??","??",1,"AC",0,1,"??","??","Y","Y","Y","Y","Y",1,"Medium","Y",0,1,1,1,1,1,"N","N",1,1,0,1,1,0,1,1,1,1,0,0,1,1,1,0,1]
[{"$f":"IF(AND('User Input'!$D$35='User Input'!$D$6,Ranking!BN12=1),1,0)","v":0},{"$f":"IF(AND('User Input'!$D$35='User Input'!$D$7,Ranking!BO12=1),1,0)","v":0},{"$f":"IF(AND('User Input'!$D$35='User Input'!$D$8,Ranking!BP12=1),1,0)","v":0},{"$f":"IF(AND('User Input'!$F$35='User Input'!$F$7,Ranking!BQ12=1),1,0)","v":0},{"$f":"IF(AND('User Input'!$F$35='User Input'!$F$6,Ranking!BR12=1),1,0)","v":1},{"$f":"IF(AND('User Input'!$F$35='User Input'!$F$8,Ranking!BS12=1),1,0)","v":0},{"$f":"IF(AND('User Input'!$F$35='User Input'!$F$9,Ranking!BT12=1),1,0)","v":0},{"$f":"IF(AND('User Input'!$F$35='User Input'!$F$10,Ranking!BU12=1),1,0)","v":0},{"$f":"IF(BV12=0,1,IF(AND(BV12=1,'User Input'!$G$35='User Input'!$G$6),0,IF(AND(BV12=1,'User Input'!$G$35='User Input'!$G$7),1,0)))","v":1},{"$f":"IF(BW12=0,1,IF(AND(BW12=1,'User Input'!$H$35='User Input'!$H$6),1,IF(AND(BW12=1,'User Input'!$H$35='User Input'!$H$7),0)))","v":1},{"$f":"IF('User Input'!$I$35='User Input'!$I$6,1,IF(AND('User Input'!$I$35='User Input'!$I$7,Ranking!BX12=0),1,0))","v":1},{"$f":"IF('User Input'!$K$35='User Input'!$K$7,1,IF(AND(OR('User Input'!$K$35='User Input'!$K$6,'User Input'!$K$35='User Input'!$K$8),Ranking!$CZ12=\"Y\"),1,0))","v":0},{"$f":"IF(AND('User Input'!$B$38='User Input'!$B$13,Ranking!CA12=1),1,0)","v":1},{"$f":"IF(AND('User Input'!$B$38='User Input'!$B$14,Ranking!CB12=1),1,0)","v":0},{"$f":"IF(AND('User Input'!$B$38='User Input'!$B$15,Ranking!CC12=1),1,0)","v":0},{"$f":"IF(AND('User Input'!$C$38='User Input'!$C$13,DA12=1),1,0)","v":0},{"$f":"IF(AND('User Input'!$C$38='User Input'!$C$14,Ranking!DB12=1),1,0)","v":1},{"$f":"IF(AND('User Input'!$C$38='User Input'!$C$15,Ranking!DC12=1),1,0)","v":0},{"$f":"IF(AND('User Input'!$C$38='User Input'!$C$16,Ranking!DD12=1),1,0)","v":0},{"$f":"IF(AND('User Input'!$C$38='User Input'!$C$17,Ranking!DE12=1),1,0)","v":0},{"$f":"IF(AND('User Input'!$C$38='User Input'!$C$18,Ranking!DF12=1),1,0)","v":0},{"$f":"IF('User Input'!$I$38='User Input'!$I$13,1,IF(AND('User Input'!$I$38='User Input'!$I24,Ranking!$BY12>0.8),1,IF(AND('User Input'!$I$38='User Input'!$I$15,Ranking!$BY12>0.9),1,IF(AND('User Input'!$I$38='User Input'!$D$16,Ranking!$BY12>0.95),1,0))))","v":0},{"$f":"IF('User Input'!$D$38='User Input'!$D$13,1,IF(AND('User Input'!$D$38='User Input'!$D$14,Ranking!$BZ12>0.8),1,IF(AND('User Input'!$D$38='User Input'!$D$15,Ranking!$BZ12>0.9),1,IF(AND('User Input'!$D$38='User Input'!$D$16,Ranking!$BZ12>0.95),1,0))))","v":1},{"$f":"IF(AND('User Input'!$E$38='User Input'!$E$13,Ranking!DF12=1),1,0)","v":1},{"$f":"IF(AND('User Input'!$F$58=TRUE,Ranking!DI12=1),1,IF(AND('User Input'!$F$58=FALSE,Ranking!DI12=0),1,0))","v":1},{"$f":"IF(AND('User Input'!$F$59=TRUE,Ranking!DJ12=1),1,IF(AND('User Input'!$F$59=FALSE,Ranking!DJ12=0),1,0))","v":1},{"$f":"IF(AND('User Input'!$F$60=TRUE,Ranking!DK12=1),1,IF(AND('User Input'!$F$60=FALSE,Ranking!DK12=0),1,0))","v":1},{"$f":"IF(AND('User Input'!$F$61=TRUE,Ranking!DL12=1),1,IF(AND('User Input'!$F$61=FALSE,Ranking!DL12=0),1,0))","v":1},{"$f":"IF(AND('User Input'!$F$62=TRUE,Ranking!DM12=1),1,IF(AND('User Input'!$F$62=FALSE,Ranking!DM12=0),1,0))","v":0},{"$f":"IF(AND('User Input'!$F$63=TRUE,Ranking!DN12=1),1,IF(AND('User Input'!$F$63=FALSE,Ranking!DN12=0),1,0))","v":0},{"$f":"IF(AND('User Input'!$F$64=TRUE,Ranking!DO12=1),1,IF(AND('User Input'!$F$64=FALSE,Ranking!DO12=0),1,0))","v":0},{"$f":"IF(AND('User Input'!$F$65=TRUE,Ranking!DP12=1),1,IF(AND('User Input'!$F$65=FALSE,Ranking!DP12=0),1,0))","v":0},{"$f":"IF(AND('User Input'!$F$66=TRUE,Ranking!DQ12=1),1,IF(AND('User Input'!$F$66=FALSE,Ranking!DQ12=0),1,0))","v":1},{"$f":"IF(AND('User Input'!$F$67=TRUE,Ranking!DR12=1),1,IF(AND('User Input'!$F$67=FALSE,Ranking!DR12=0),1,0))","v":0},{"$f":"IF(Ranking!CV12=\"Y\",1,IF(AND('User Input'!$G$38='User Input'!$G$14,Ranking!CV12=\"N\"),1,0))","v":1},{"$f":"IF(OR(Ranking!DG12=\"Y\",'User Input'!$H$38='User Input'!$H$14),1,IF(AND('User Input'!$H$38='User Input'!$H$13,Ranking!DG12=\"Y\"),1,0))","v":1},{"$f":"IF(AND('User Input'!$B$52='User Input'!$B$23,Ranking!CL12<'User Input'!$A$23),1,0)","v":0},{"$f":"IF(AND('User Input'!$B$52='User Input'!$B$24,Ranking!CL12<'User Input'!$A$24),1,0)","v":0},{"$f":"IF(AND('User Input'!$B$52='User Input'!$B$25,Ranking!CL12<'User Input'!$A$25),1,0)","v":0},{"$f":"IF(AND('User Input'!$B$52='User Input'!$B$26,Ranking!CL12<'User Input'!$A$26),1,0)","v":0},{"$f":"IF('User Input'!$B$52='User Input'!$B$27,1,0)","v":0},{"$f":"IF(AND('User Input'!$C$52='User Input'!$C$23,CE12=1),1,0)","v":0},{"$f":"IF(CD12=1,0,IF(AND('User Input'!$C$52='User Input'!$C$24,Ranking!CF12=1),1,0))","v":0},{"$f":"IF(CE12=1,0,IF(AND('User Input'!$C$52='User Input'!$C$25,Ranking!CG12=1),1,0))","v":0},{"$f":"IF(CF12=1,0,IF(AND('User Input'!$C$52='User Input'!$C$26,Ranking!CH12=1),1,0))","v":0},{"$f":"IF(CG12=1,0,IF(AND('User Input'!$C$52='User Input'!$C$27,Ranking!CI12=1),1,0))","v":0},{"$f":"IF(AND('User Input'!$D$52='User Input'!$D$23,Ranking!CJ12>5000),1,0)","v":1},{"$f":"IF('User Input'!$E$52='User Input'!$E$25,1,IF(AND('User Input'!$E$52='User Input'!$E$23,Ranking!CM12=1),1,IF(AND('User Input'!$E$52='User Input'!$E$24,Ranking!CM12=0),1,0)))","v":1},{"$f":"IF(AND('User Input'!$F$52='User Input'!$F$23,Ranking!DS12=1),1,0)","v":0},{"$f":"IF(AND('User Input'!$F$52='User Input'!$F$24,Ranking!DT12=1),1,0)","v":0},{"$f":"IF(AND('User Input'!$F$52='User Input'!$F$25,Ranking!DU12=1),1,0)","v":1},{"$f":"IF('User Input'!$G$52='User Input'!$G$24,1,IF(AND('User Input'!$G$52='User Input'!$G$23,DH12=\"Y\"),1,0))","v":1},{"$f":"IF('User Input'!$H$52='User Input'!$H$23,1,IF(AND('User Input'!$H$52='User Input'!$H$24,Ranking!BK12<>\"Video\"),1,0))","v":0},{"$f":"IF(AND('User Input'!$I$52='User Input'!$I$23,Ranking!DV12=1),1,0)","v":0},{"$f":"IF(AND('User Input'!$I$52='User Input'!$I$24,Ranking!DW12=1),1,0)","v":0},{"$f":"IF(AND('User Input'!$I$52='User Input'!$I$25,Ranking!DX12=1),1,0)","v":0},{"$f":"IF('User Input'!$J$52='User Input'!$J$23,1,IF(AND('User Input'!$J$52='User Input'!$J$24,Ranking!DY12=0),1,0))","v":1},{"$f":"IF('User Input'!$K$52='User Input'!$K$24,1,IF(AND('User Input'!$K$52='User Input'!$K$23,Ranking!CO12=1),1,0))","v":1},null,null,"Gridsmart",null,"Video","software and hardware",1,1,1,0,0,1,0,0,0,1,1,1,0.92,0.98,1,0,0,0,1,0,0,0,0,18000,0,18000,1,"AC",1,1,"180°","75m","Y","Y","Y","N","Y",0,"Low","N",0,1,1,1,1,1,"Y","Y",1,0,0,1,0,0,0,0,1,0,0,1,1,1,1,0,"??"]
[{"$f":"IF(AND('User Input'!$D$35='User Input'!$D$6,Ranking!BN13=1),1,0)","v":0},{"$f":"IF(AND('User Input'!$D$35='User Input'!$D$7,Ranking!BO13=1),1,0)","v":0},{"$f":"IF(AND('User Input'!$D$35='User Input'!$D$8,Ranking!BP13=1),1,0)","v":1},{"$f":"IF(AND('User Input'!$F$35='User Input'!$F$7,Ranking!BQ13=1),1,0)","v":0},{"$f":"IF(AND('User Input'!$F$35='User Input'!$F$6,Ranking!BR13=1),1,0)","v":1},{"$f":"IF(AND('User Input'!$F$35='User Input'!$F$8,Ranking!BS13=1),1,0)","v":0},{"$f":"IF(AND('User Input'!$F$35='User Input'!$F$9,Ranking!BT13=1),1,0)","v":0},{"$f":"IF(AND('User Input'!$F$35='User Input'!$F$10,Ranking!BU13=1),1,0)","v":0},{"$f":"IF(BV13=0,1,IF(AND(BV13=1,'User Input'!$G$35='User Input'!$G$6),0,IF(AND(BV13=1,'User Input'!$G$35='User Input'!$G$7),1,0)))","v":1},{"$f":"IF(BW13=0,1,IF(AND(BW13=1,'User Input'!$H$35='User Input'!$H$6),1,IF(AND(BW13=1,'User Input'!$H$35='User Input'!$H$7),0)))","v":1},{"$f":"IF('User Input'!$I$35='User Input'!$I$6,1,IF(AND('User Input'!$I$35='User Input'!$I$7,Ranking!BX13=0),1,0))","v":1},{"$f":"IF('User Input'!$K$35='User Input'!$K$7,1,IF(AND(OR('User Input'!$K$35='User Input'!$K$6,'User Input'!$K$35='User Input'!$K$8),Ranking!$CZ13=\"Y\"),1,0))","v":0},{"$f":"IF(AND('User Input'!$B$38='User Input'!$B$13,Ranking!CA13=1),1,0)","v":1},{"$f":"IF(AND('User Input'!$B$38='User Input'!$B$14,Ranking!CB13=1),1,0)","v":0},{"$f":"IF(AND('User Input'!$B$38='User Input'!$B$15,Ranking!CC13=1),1,0)","v":0},{"$f":"IF(AND('User Input'!$C$38='User Input'!$C$13,DA13=1),1,0)","v":0},{"$f":"IF(AND('User Input'!$C$38='User Input'!$C$14,Ranking!DB13=1),1,0)","v":1},{"$f":"IF(AND('User Input'!$C$38='User Input'!$C$15,Ranking!DC13=1),1,0)","v":0},{"$f":"IF(AND('User Input'!$C$38='User Input'!$C$16,Ranking!DD13=1),1,0)","v":0},{"$f":"IF(AND('User Input'!$C$38='User Input'!$C$17,Ranking!DE13=1),1,0)","v":0},{"$f":"IF(AND('User Input'!$C$38='User Input'!$C$18,Ranking!DF13=1),1,0)","v":0},{"$f":"IF('User Input'!$I$38='User Input'!$I$13,1,IF(AND('User Input'!$I$38='User Input'!$I25,Ranking!$BY13>0.8),1,IF(AND('User Input'!$I$38='User Input'!$I$15,Ranking!$BY13>0.9),1,IF(AND('User Input'!$I$38='User Input'!$D$16,Ranking!$BY13>0.95),1,0))))","v":0},{"$f":"IF('User Input'!$D$38='User Input'!$D$13,1,IF(AND('User Input'!$D$38='User Input'!$D$14,Ranking!$BZ13>0.8),1,IF(AND('User Input'!$D$38='User Input'!$D$15,Ranking!$BZ13>0.9),1,IF(AND('User Input'!$D$38='User Input'!$D$16,Ranking!$BZ13>0.95),1,0))))","v":1},{"$f":"IF(AND('User Input'!$E$38='User Input'!$E$13,Ranking!DF13=1),1,0)","v":1},{"$f":"IF(AND('User Input'!$F$58=TRUE,Ranking!DI13=1),1,IF(AND('User Input'!$F$58=FALSE,Ranking!DI13=0),1,0))","v":1},{"$f":"IF(AND('User Input'!$F$59=TRUE,Ranking!DJ13=1),1,IF(AND('User Input'!$F$59=FALSE,Ranking!DJ13=0),1,0))","v":1},{"$f":"IF(AND('User Input'!$F$60=TRUE,Ranking!DK13=1),1,IF(AND('User Input'!$F$60=FALSE,Ranking!DK13=0),1,0))","v":1},{"$f":"IF(AND('User Input'!$F$61=TRUE,Ranking!DL13=1),1,IF(AND('User Input'!$F$61=FALSE,Ranking!DL13=0),1,0))","v":1},{"$f":"IF(AND('User Input'!$F$62=TRUE,Ranking!DM13=1),1,IF(AND('User Input'!$F$62=FALSE,Ranking!DM13=0),1,0))","v":0},{"$f":"IF(AND('User Input'!$F$63=TRUE,Ranking!DN13=1),1,IF(AND('User Input'!$F$63=FALSE,Ranking!DN13=0),1,0))","v":0},{"$f":"IF(AND('User Input'!$F$64=TRUE,Ranking!DO13=1),1,IF(AND('User Input'!$F$64=FALSE,Ranking!DO13=0),1,0))","v":0},{"$f":"IF(AND('User Input'!$F$65=TRUE,Ranking!DP13=1),1,IF(AND('User Input'!$F$65=FALSE,Ranking!DP13=0),1,0))","v":0},{"$f":"IF(AND('User Input'!$F$66=TRUE,Ranking!DQ13=1),1,IF(AND('User Input'!$F$66=FALSE,Ranking!DQ13=0),1,0))","v":1},{"$f":"IF(AND('User Input'!$F$67=TRUE,Ranking!DR13=1),1,IF(AND('User Input'!$F$67=FALSE,Ranking!DR13=0),1,0))","v":0},{"$f":"IF(Ranking!CV13=\"Y\",1,IF(AND('User Input'!$G$38='User Input'!$G$14,Ranking!CV13=\"N\"),1,0))","v":1},{"$f":"IF(OR(Ranking!DG13=\"Y\",'User Input'!$H$38='User Input'!$H$14),1,IF(AND('User Input'!$H$38='User Input'!$H$13,Ranking!DG13=\"Y\"),1,0))","v":0},{"$f":"IF(AND('User Input'!$B$52='User Input'!$B$23,Ranking!CL13<'User Input'!$A$23),1,0)","v":0},{"$f":"IF(AND('User Input'!$B$52='User Input'!$B$24,Ranking!CL13<'User Input'!$A$24),1,0)","v":0},{"$f":"IF(AND('User Input'!$B$52='User Input'!$B$25,Ranking!CL13<'User Input'!$A$25),1,0)","v":0},{"$f":"IF(AND('User Input'!$B$52='User Input'!$B$26,Ranking!CL13<'User Input'!$A$26),1,0)","v":0},{"$f":"IF('User Input'!$B$52='User Input'!$B$27,1,0)","v":0},{"$f":"IF(AND('User Input'!$C$52='User Input'!$C$23,CE13=1),1,0)","v":0},{"$f":"IF(CD13=1,0,IF(AND('User Input'!$C$52='User Input'!$C$24,Ranking!CF13=1),1,0))","v":0},{"$f":"IF(CE13=1,0,IF(AND('User Input'!$C$52='User Input'!$C$25,Ranking!CG13=1),1,0))","v":0},{"$f":"IF(CF13=1,0,IF(AND('User Input'!$C$52='User Input'!$C$26,Ranking!CH13=1),1,0))","v":0},{"$f":"IF(CG13=1,0,IF(AND('User Input'!$C$52='User Input'!$C$27,Ranking!CI13=1),1,0))","v":0},{"$f":"IF(AND('User Input'!$D$52='User Input'!$D$23,Ranking!CJ13>5000),1,0)","v":1},{"$f":"IF('User Input'!$E$52='User Input'!$E$25,1,IF(AND('User Input'!$E$52='User Input'!$E$23,Ranking!CM13=1),1,IF(AND('User Input'!$E$52='User Input'!$E$24,Ranking!CM13=0),1,0)))","v":1},{"$f":"IF(AND('User Input'!$F$52='User Input'!$F$23,Ranking!DS13=1),1,0)","v":0},{"$f":"IF(AND('User Input'!$F$52='User Input'!$F$24,Ranking!DT13=1),1,0)","v":0},{"$f":"IF(AND('User Input'!$F$52='User Input'!$F$25,Ranking!DU13=1),1,0)","v":1},{"$f":"IF('User Input'!$G$52='User Input'!$G$24,1,IF(AND('User Input'!$G$52='User Input'!$G$23,DH13=\"Y\"),1,0))","v":0},{"$f":"IF('User Input'!$H$52='User Input'!$H$23,1,IF(AND('User Input'!$H$52='User Input'!$H$24,Ranking!BK13<>\"Video\"),1,0))","v":0},{"$f":"IF(AND('User Input'!$I$52='User Input'!$I$23,Ranking!DV13=1),1,0)","v":0},{"$f":"IF(AND('User Input'!$I$52='User Input'!$I$24,Ranking!DW13=1),1,0)","v":0},{"$f":"IF(AND('User Input'!$I$52='User Input'!$I$25,Ranking!DX13=1),1,0)","v":0},{"$f":"IF('User Input'!$J$52='User Input'!$J$23,1,IF(AND('User Input'!$J$52='User Input'!$J$24,Ranking!DY13=0),1,0))","v":1},{"$f":"IF('User Input'!$K$52='User Input'!$K$24,1,IF(AND('User Input'!$K$52='User Input'!$K$23,Ranking!CO13=1),1,0))","v":0},null,null,"Iteris Vantage Vector with Vantage Next",null,"Video","software and hardware",4,1,1,1,0,1,0,0,0,0,1,1,0.9,0.98,1,0,0,1,"??","??","??","??","??",12000,null,{"$f":"CJ13*4","v":48000},1,"AC","??",1,"50°","120m","Y","Y","Y","Y","Y",1,"Medium","N",0,1,1,1,1,1,"??","??",1,0,0,1,0,0,0,0,1,0,0,1,1,1,1,0,"??"]
[{"$f":"IF(AND('User Input'!$D$35='User Input'!$D$6,Ranking!BN14=1),1,0)","v":0},{"$f":"IF(AND('User Input'!$D$35='User Input'!$D$7,Ranking!BO14=1),1,0)","v":0},{"$f":"IF(AND('User Input'!$D$35='User Input'!$D$8,Ranking!BP14=1),1,0)","v":0},{"$f":"IF(AND('User Input'!$F$35='User Input'!$F$7,Ranking!BQ14=1),1,0)","v":0},{"$f":"IF(AND('User Input'!$F$35='User Input'!$F$6,Ranking!BR14=1),1,0)","v":1},{"$f":"IF(AND('User Input'!$F$35='User Input'!$F$8,Ranking!BS14=1),1,0)","v":0},{"$f":"IF(AND('User Input'!$F$35='User Input'!$F$9,Ranking!BT14=1),1,0)","v":0},{"$f":"IF(AND('User Input'!$F$35='User Input'!$F$10,Ranking!BU14=1),1,0)","v":0},{"$f":"IF(BV14=0,1,IF(AND(BV14=1,'User Input'!$G$35='User Input'!$G$6),0,IF(AND(BV14=1,'User Input'!$G$35='User Input'!$G$7),1,0)))","v":1},{"$f":"IF(BW14=0,1,IF(AND(BW14=1,'User Input'!$H$35='User Input'!$H$6),1,IF(AND(BW14=1,'User Input'!$H$35='User Input'!$H$7),0)))","v":1},{"$f":"IF('User Input'!$I$35='User Input'!$I$6,1,IF(AND('User Input'!$I$35='User Input'!$I$7,Ranking!BX14=0),1,0))","v":1},{"$f":"IF('User Input'!$K$35='User Input'!$K$7,1,IF(AND(OR('User Input'!$K$35='User Input'!$K$6,'User Input'!$K$35='User Input'!$K$8),Ranking!$CZ14=\"Y\"),1,0))","v":0},{"$f":"IF(AND('User Input'!$B$38='User Input'!$B$13,Ranking!CA14=1),1,0)","v":1},{"$f":"IF(AND('User Input'!$B$38='User Input'!$B$14,Ranking!CB14=1),1,0)","v":0},{"$f":"IF(AND('User Input'!$B$38='User Input'!$B$15,Ranking!CC14=1),1,0)","v":0},{"$f":"IF(AND('User Input'!$C$38='User Input'!$C$13,DA14=1),1,0)","v":0},{"$f":"IF(AND('User Input'!$C$38='User Input'!$C$14,Ranking!DB14=1),1,0)","v":1},{"$f":"IF(AND('User Input'!$C$38='User Input'!$C$15,Ranking!DC14=1),1,0)","v":0},{"$f":"IF(AND('User Input'!$C$38='User Input'!$C$16,Ranking!DD14=1),1,0)","v":0},{"$f":"IF(AND('User Input'!$C$38='User Input'!$C$17,Ranking!DE14=1),1,0)","v":0},{"$f":"IF(AND('User Input'!$C$38='User Input'!$C$18,Ranking!DF14=1),1,0)","v":0},{"$f":"IF('User Input'!$I$38='User Input'!$I$13,1,IF(AND('User Input'!$I$38='User Input'!$I26,Ranking!$BY14>0.8),1,IF(AND('User Input'!$I$38='User Input'!$I$15,Ranking!$BY14>0.9),1,IF(AND('User Input'!$I$38='User Input'!$D$16,Ranking!$BY14>0.95),1,0))))","v":0},{"$f":"IF('User Input'!$D$38='User Input'!$D$13,1,IF(AND('User Input'!$D$38='User Input'!$D$14,Ranking!$BZ14>0.8),1,IF(AND('User Input'!$D$38='User Input'!$D$15,Ranking!$BZ14>0.9),1,IF(AND('User Input'!$D$38='User Input'!$D$16,Ranking!$BZ14>0.95),1,0))))","v":1},{"$f":"IF(AND('User Input'!$E$38='User Input'!$E$13,Ranking!DF14=1),1,0)","v":1},{"$f":"IF(AND('User Input'!$F$58=TRUE,Ranking!DI14=1),1,IF(AND('User Input'!$F$58=FALSE,Ranking!DI14=0),1,0))","v":0},{"$f":"IF(AND('User Input'!$F$59=TRUE,Ranking!DJ14=1),1,IF(AND('User Input'!$F$59=FALSE,Ranking!DJ14=0),1,0))","v":1},{"$f":"IF(AND('User Input'!$F$60=TRUE,Ranking!DK14=1),1,IF(AND('User Input'!$F$60=FALSE,Ranking!DK14=0),1,0))","v":1},{"$f":"IF(AND('User Input'!$F$61=TRUE,Ranking!DL14=1),1,IF(AND('User Input'!$F$61=FALSE,Ranking!DL14=0),1,0))","v":0},{"$f":"IF(AND('User Input'!$F$62=TRUE,Ranking!DM14=1),1,IF(AND('User Input'!$F$62=FALSE,Ranking!DM14=0),1,0))","v":1},{"$f":"IF(AND('User Input'!$F$63=TRUE,Ranking!DN14=1),1,IF(AND('User Input'!$F$63=FALSE,Ranking!DN14=0),1,0))","v":0},{"$f":"IF(AND('User Input'!$F$64=TRUE,Ranking!DO14=1),1,IF(AND('User Input'!$F$64=FALSE,Ranking!DO14=0),1,0))","v":0},{"$f":"IF(AND('User Input'!$F$65=TRUE,Ranking!DP14=1),1,IF(AND('User Input'!$F$65=FALSE,Ranking!DP14=0),1,0))","v":0},{"$f":"IF(AND('User Input'!$F$66=TRUE,Ranking!DQ14=1),1,IF(AND('User Input'!$F$66=FALSE,Ranking!DQ14=0),1,0))","v":1},{"$f":"IF(AND('User Input'!$F$67=TRUE,Ranking!DR14=1),1,IF(AND('User Input'!$F$67=FALSE,Ranking!DR14=0),1,0))","v":1},{"$f":"IF(Ranking!CV14=\"Y\",1,IF(AND('User Input'!$G$38='User Input'!$G$14,Ranking!CV14=\"N\"),1,0))","v":1},{"$f":"IF(OR(Ranking!DG14=\"Y\",'User Input'!$H$38='User Input'!$H$14),1,IF(AND('User Input'!$H$38='User Input'!$H$13,Ranking!DG14=\"Y\"),1,0))","v":0},{"$f":"IF(AND('User Input'!$B$52='User Input'!$B$23,Ranking!CL14<'User Input'!$A$23),1,0)","v":0},{"$f":"IF(AND('User Input'!$B$52='User Input'!$B$24,Ranking!CL14<'User Input'!$A$24),1,0)","v":0},{"$f":"IF(AND('User Input'!$B$52='User Input'!$B$25,Ranking!CL14<'User Input'!$A$25),1,0)","v":0},{"$f":"IF(AND('User Input'!$B$52='User Input'!$B$26,Ranking!CL14<'User Input'!$A$26),1,0)","v":0},{"$f":"IF('User Input'!$B$52='User Input'!$B$27,1,0)","v":0},{"$f":"IF(AND('User Input'!$C$52='User Input'!$C$23,CE14=1),1,0)","v":0},{"$f":"IF(CD14=1,0,IF(AND('User Input'!$C$52='User Input'!$C$24,Ranking!CF14=1),1,0))","v":1},{"$f":"IF(CE14=1,0,IF(AND('User Input'!$C$52='User Input'!$C$25,Ranking!CG14=1),1,0))","v":0},{"$f":"IF(CF14=1,0,IF(AND('User Input'!$C$52='User Input'!$C$26,Ranking!CH14=1),1,0))","v":0},{"$f":"IF(CG14=1,0,IF(AND('User Input'!$C$52='User Input'!$C$27,Ranking!CI14=1),1,0))","v":0},{"$f":"IF(AND('User Input'!$D$52='User Input'!$D$23,Ranking!CJ14>5000),1,0)","v":1},{"$f":"IF('User Input'!$E$52='User Input'!$E$25,1,IF(AND('User Input'!$E$52='User Input'!$E$23,Ranking!CM14=1),1,IF(AND('User Input'!$E$52='User Input'!$E$24,Ranking!CM14=0),1,0)))","v":1},{"$f":"IF(AND('User Input'!$F$52='User Input'!$F$23,Ranking!DS14=1),1,0)","v":0},{"$f":"IF(AND('User Input'!$F$52='User Input'!$F$24,Ranking!DT14=1),1,0)","v":0},{"$f":"IF(AND('User Input'!$F$52='User Input'!$F$25,Ranking!DU14=1),1,0)","v":1},{"$f":"IF('User Input'!$G$52='User Input'!$G$24,1,IF(AND('User Input'!$G$52='User Input'!$G$23,DH14=\"Y\"),1,0))","v":0},{"$f":"IF('User Input'!$H$52='User Input'!$H$23,1,IF(AND('User Input'!$H$52='User Input'!$H$24,Ranking!BK14<>\"Video\"),1,0))","v":1},{"$f":"IF(AND('User Input'!$I$52='User Input'!$I$23,Ranking!DV14=1),1,0)","v":0},{"$f":"IF(AND('User Input'!$I$52='User Input'!$I$24,Ranking!DW14=1),1,0)","v":0},{"$f":"IF(AND('User Input'!$I$52='User Input'!$I$25,Ranking!DX14=1),1,0)","v":0},{"$f":"IF('User Input'!$J$52='User Input'!$J$23,1,IF(AND('User Input'!$J$52='User Input'!$J$24,Ranking!DY14=0),1,0))","v":1},{"$f":"IF('User Input'!$K$52='User Input'!$K$24,1,IF(AND('User Input'!$K$52='User Input'!$K$23,Ranking!CO14=1),1,0))","v":0},null,null,"TrafiOne – FLIR",null,"Thermal","software and hardware",8,1,0,0,1,1,0,0,0,0,0,1,0.7,0.99,1,0,0,0,0,1,1,0,0,6000,0,24000,1,1,0,1,"95°","15m","Y","Y","Y","Y","Y",0.5,"High","N",0,1,0,0,0,1,"N","N",0,0,0,0,1,0,0,0,1,1,0,1,1,0,1,0,"??"]
[{"$f":"IF(AND('User Input'!$D$35='User Input'!$D$6,Ranking!BN15=1),1,0)","v":0},{"$f":"IF(AND('User Input'!$D$35='User Input'!$D$7,Ranking!BO15=1),1,0)","v":0},{"$f":"IF(AND('User Input'!$D$35='User Input'!$D$8,Ranking!BP15=1),1,0)","v":0},{"$f":"IF(AND('User Input'!$F$35='User Input'!$F$7,Ranking!BQ15=1),1,0)","v":0},{"$f":"IF(AND('User Input'!$F$35='User Input'!$F$6,Ranking!BR15=1),1,0)","v":1},{"$f":"IF(AND('User Input'!$F$35='User Input'!$F$8,Ranking!BS15=1),1,0)","v":0},{"$f":"IF(AND('User Input'!$F$35='User Input'!$F$9,Ranking!BT15=1),1,0)","v":0},{"$f":"IF(AND('User Input'!$F$35='User Input'!$F$10,Ranking!BU15=1),1,0)","v":0},{"$f":"IF(BV15=0,1,IF(AND(BV15=1,'User Input'!$G$35='User Input'!$G$6),0,IF(AND(BV15=1,'User Input'!$G$35='User Input'!$G$7),1,0)))","v":1},{"$f":"IF(BW15=0,1,IF(AND(BW15=1,'User Input'!$H$35='User Input'!$H$6),1,IF(AND(BW15=1,'User Input'!$H$35='User Input'!$H$7),0)))","v":1},{"$f":"IF('User Input'!$I$35='User Input'!$I$6,1,IF(AND('User Input'!$I$35='User Input'!$I$7,Ranking!BX15=0),1,0))","v":1},{"$f":"IF('User Input'!$K$35='User Input'!$K$7,1,IF(AND(OR('User Input'!$K$35='User Input'!$K$6,'User Input'!$K$35='User Input'!$K$8),Ranking!$CZ15=\"Y\"),1,0))","v":0},{"$f":"IF(AND('User Input'!$B$38='User Input'!$B$13,Ranking!CA15=1),1,0)","v":1},{"$f":"IF(AND('User Input'!$B$38='User Input'!$B$14,Ranking!CB15=1),1,0)","v":0},{"$f":"IF(AND('User Input'!$B$38='User Input'!$B$15,Ranking!CC15=1),1,0)","v":0},{"$f":"IF(AND('User Input'!$C$38='User Input'!$C$13,DA15=1),1,0)","v":0},{"$f":"IF(AND('User Input'!$C$38='User Input'!$C$14,Ranking!DB15=1),1,0)","v":1},{"$f":"IF(AND('User Input'!$C$38='User Input'!$C$15,Ranking!DC15=1),1,0)","v":0},{"$f":"IF(AND('User Input'!$C$38='User Input'!$C$16,Ranking!DD15=1),1,0)","v":0},{"$f":"IF(AND('User Input'!$C$38='User Input'!$C$17,Ranking!DE15=1),1,0)","v":0},{"$f":"IF(AND('User Input'!$C$38='User Input'!$C$18,Ranking!DF15=1),1,0)","v":0},{"$f":"IF('User Input'!$I$38='User Input'!$I$13,1,IF(AND('User Input'!$I$38='User Input'!$I27,Ranking!$BY15>0.8),1,IF(AND('User Input'!$I$38='User Input'!$I$15,Ranking!$BY15>0.9),1,IF(AND('User Input'!$I$38='User Input'!$D$16,Ranking!$BY15>0.95),1,0))))","v":0},{"$f":"IF('User Input'!$D$38='User Input'!$D$13,1,IF(AND('User Input'!$D$38='User Input'!$D$14,Ranking!$BZ15>0.8),1,IF(AND('User Input'!$D$38='User Input'!$D$15,Ranking!$BZ15>0.9),1,IF(AND('User Input'!$D$38='User Input'!$D$16,Ranking!$BZ15>0.95),1,0))))","v":1},{"$f":"IF(AND('User Input'!$E$38='User Input'!$E$13,Ranking!DF15=1),1,0)","v":1},{"$f":"IF(AND('User Input'!$F$58=TRUE,Ranking!DI15=1),1,IF(AND('User Input'!$F$58=FALSE,Ranking!DI15=0),1,0))","v":0},{"$f":"IF(AND('User Input'!$F$59=TRUE,Ranking!DJ15=1),1,IF(AND('User Input'!$F$59=FALSE,Ranking!DJ15=0),1,0))","v":1},{"$f":"IF(AND('User Input'!$F$60=TRUE,Ranking!DK15=1),1,IF(AND('User Input'!$F$60=FALSE,Ranking!DK15=0),1,0))","v":1},{"$f":"IF(AND('User Input'!$F$61=TRUE,Ranking!DL15=1),1,IF(AND('User Input'!$F$61=FALSE,Ranking!DL15=0),1,0))","v":0},{"$f":"IF(AND('User Input'!$F$62=TRUE,Ranking!DM15=1),1,IF(AND('User Input'!$F$62=FALSE,Ranking!DM15=0),1,0))","v":0},{"$f":"IF(AND('User Input'!$F$63=TRUE,Ranking!DN15=1),1,IF(AND('User Input'!$F$63=FALSE,Ranking!DN15=0),1,0))","v":0},{"$f":"IF(AND('User Input'!$F$64=TRUE,Ranking!DO15=1),1,IF(AND('User Input'!$F$64=FALSE,Ranking!DO15=0),1,0))","v":0},{"$f":"IF(AND('User Input'!$F$65=TRUE,Ranking!DP15=1),1,IF(AND('User Input'!$F$65=FALSE,Ranking!DP15=0),1,0))","v":0},{"$f":"IF(AND('User Input'!$F$66=TRUE,Ranking!DQ15=1),1,IF(AND('User Input'!$F$66=FALSE,Ranking!DQ15=0),1,0))","v":0},{"$f":"IF(AND('User Input'!$F$67=TRUE,Ranking!DR15=1),1,IF(AND('User Input'!$F$67=FALSE,Ranking!DR15=0),1,0))","v":0},{"$f":"IF(Ranking!CV15=\"Y\",1,IF(AND('User Input'!$G$38='User Input'!$G$14,Ranking!CV15=\"N\"),1,0))","v":1},{"$f":"IF(OR(Ranking!DG15=\"Y\",'User Input'!$H$38='User Input'!$H$14),1,IF(AND('User Input'!$H$38='User Input'!$H$13,Ranking!DG15=\"Y\"),1,0))","v":0},{"$f":"IF(AND('User Input'!$B$52='User Input'!$B$23,Ranking!CL15<'User Input'!$A$23),1,0)","v":0},{"$f":"IF(AND('User Input'!$B$52='User Input'!$B$24,Ranking!CL15<'User Input'!$A$24),1,0)","v":0},{"$f":"IF(AND('User Input'!$B$52='User Input'!$B$25,Ranking!CL15<'User Input'!$A$25),1,0)","v":0},{"$f":"IF(AND('User Input'!$B$52='User Input'!$B$26,Ranking!CL15<'User Input'!$A$26),1,0)","v":0},{"$f":"IF('User Input'!$B$52='User Input'!$B$27,1,0)","v":0},{"$f":"IF(AND('User Input'!$C$52='User Input'!$C$23,CE15=1),1,0)","v":0},{"$f":"IF(CD15=1,0,IF(AND('User Input'!$C$52='User Input'!$C$24,Ranking!CF15=1),1,0))","v":1},{"$f":"IF(CE15=1,0,IF(AND('User Input'!$C$52='User Input'!$C$25,Ranking!CG15=1),1,0))","v":0},{"$f":"IF(CF15=1,0,IF(AND('User Input'!$C$52='User Input'!$C$26,Ranking!CH15=1),1,0))","v":0},{"$f":"IF(CG15=1,0,IF(AND('User Input'!$C$52='User Input'!$C$27,Ranking!CI15=1),1,0))","v":0},{"$f":"IF(AND('User Input'!$D$52='User Input'!$D$23,Ranking!CJ15>5000),1,0)","v":1},{"$f":"IF('User Input'!$E$52='User Input'!$E$25,1,IF(AND('User Input'!$E$52='User Input'!$E$23,Ranking!CM15=1),1,IF(AND('User Input'!$E$52='User Input'!$E$24,Ranking!CM15=0),1,0)))","v":1},{"$f":"IF(AND('User Input'!$F$52='User Input'!$F$23,Ranking!DS15=1),1,0)","v":0},{"$f":"IF(AND('User Input'!$F$52='User Input'!$F$24,Ranking!DT15=1),1,0)","v":0},{"$f":"IF(AND('User Input'!$F$52='User Input'!$F$25,Ranking!DU15=1),1,0)","v":1},{"$f":"IF('User Input'!$G$52='User Input'!$G$24,1,IF(AND('User Input'!$G$52='User Input'!$G$23,DH15=\"Y\"),1,0))","v":0},{"$f":"IF('User Input'!$H$52='User Input'!$H$23,1,IF(AND('User Input'!$H$52='User Input'!$H$24,Ranking!BK15<>\"Video\"),1,0))","v":1},{"$f":"IF(AND('User Input'!$I$52='User Input'!$I$23,Ranking!DV15=1),1,0)","v":0},{"$f":"IF(AND('User Input'!$I$52='User Input'!$I$24,Ranking!DW15=1),1,0)","v":0},{"$f":"IF(AND('User Input'!$I$52='User Input'!$I$25,Ranking!DX15=1),1,0)","v":0},{"$f":"IF('User Input'!$J$52='User Input'!$J$23,1,IF(AND('User Input'!$J$52='User Input'!$J$24,Ranking!DY15=0),1,0))","v":1},{"$f":"IF('User Input'!$K$52='User Input'!$K$24,1,IF(AND('User Input'!$K$52='User Input'!$K$23,Ranking!CO15=1),1,0))","v":0},null,null,"TrafiSense AI– FLIR",null,"Thermal","software and hardware",8,1,1,0,1,1,0,0,0,0,0,0,0.7,0.99,1,0,0,0,0,1,1,0,0,"??","??","??",1,1,0,1,"32°","90m","Y","Y","N","Y","Y",0.5,"High","N",0,1,0,0,0,1,"N","N",0,0,0,0,0,0,0,0,0,0,0,1,1,0,1,0,"??"]
[{"$f":"IF(AND('User Input'!$D$35='User Input'!$D$6,Ranking!BN16=1),1,0)","v":0},{"$f":"IF(AND('User Input'!$D$35='User Input'!$D$7,Ranking!BO16=1),1,0)","v":0},{"$f":"IF(AND('User Input'!$D$35='User Input'!$D$8,Ranking!BP16=1),1,0)","v":1},{"$f":"IF(AND('User Input'!$F$35='User Input'!$F$7,Ranking!BQ16=1),1,0)","v":0},{"$f":"IF(AND('User Input'!$F$35='User Input'!$F$6,Ranking!BR16=1),1,0)","v":1},{"$f":"IF(AND('User Input'!$F$35='User Input'!$F$8,Ranking!BS16=1),1,0)","v":0},{"$f":"IF(AND('User Input'!$F$35='User Input'!$F$9,Ranking!BT16=1),1,0)","v":0},{"$f":"IF(AND('User Input'!$F$35='User Input'!$F$10,Ranking!BU16=1),1,0)","v":0},{"$f":"IF(BV16=0,1,IF(AND(BV16=1,'User Input'!$G$35='User Input'!$G$6),0,IF(AND(BV16=1,'User Input'!$G$35='User Input'!$G$7),1,0)))","v":1},{"$f":"IF(BW16=0,1,IF(AND(BW16=1,'User Input'!$H$35='User Input'!$H$6),1,IF(AND(BW16=1,'User Input'!$H$35='User Input'!$H$7),0)))","v":1},{"$f":"IF('User Input'!$I$35='User Input'!$I$6,1,IF(AND('User Input'!$I$35='User Input'!$I$7,Ranking!BX16=0),1,0))","v":1},{"$f":"IF('User Input'!$K$35='User Input'!$K$7,1,IF(AND(OR('User Input'!$K$35='User Input'!$K$6,'User Input'!$K$35='User Input'!$K$8),Ranking!$CZ16=\"Y\"),1,0))","v":0},{"$f":"IF(AND('User Input'!$B$38='User Input'!$B$13,Ranking!CA16=1),1,0)","v":0},{"$f":"IF(AND('User Input'!$B$38='User Input'!$B$14,Ranking!CB16=1),1,0)","v":0},{"$f":"IF(AND('User Input'!$B$38='User Input'!$B$15,Ranking!CC16=1),1,0)","v":0},{"$f":"IF(AND('User Input'!$C$38='User Input'!$C$13,DA16=1),1,0)","v":0},{"$f":"IF(AND('User Input'!$C$38='User Input'!$C$14,Ranking!DB16=1),1,0)","v":0},{"$f":"IF(AND('User Input'!$C$38='User Input'!$C$15,Ranking!DC16=1),1,0)","v":0},{"$f":"IF(AND('User Input'!$C$38='User Input'!$C$16,Ranking!DD16=1),1,0)","v":0},{"$f":"IF(AND('User Input'!$C$38='User Input'!$C$17,Ranking!DE16=1),1,0)","v":0},{"$f":"IF(AND('User Input'!$C$38='User Input'!$C$18,Ranking!DF16=1),1,0)","v":0},{"$f":"IF('User Input'!$I$38='User Input'!$I$13,1,IF(AND('User Input'!$I$38='User Input'!$I28,Ranking!$BY16>0.8),1,IF(AND('User Input'!$I$38='User Input'!$I$15,Ranking!$BY16>0.9),1,IF(AND('User Input'!$I$38='User Input'!$D$16,Ranking!$BY16>0.95),1,0))))","v":1},{"$f":"IF('User Input'!$D$38='User Input'!$D$13,1,IF(AND('User Input'!$D$38='User Input'!$D$14,Ranking!$BZ16>0.8),1,IF(AND('User Input'!$D$38='User Input'!$D$15,Ranking!$BZ16>0.9),1,IF(AND('User Input'!$D$38='User Input'!$D$16,Ranking!$BZ16>0.95),1,0))))","v":1},{"$f":"IF(AND('User Input'!$E$38='User Input'!$E$13,Ranking!DF16=1),1,0)","v":1},{"$f":"IF(AND('User Input'!$F$58=TRUE,Ranking!DI16=1),1,IF(AND('User Input'!$F$58=FALSE,Ranking!DI16=0),1,0))","v":1},{"$f":"IF(AND('User Input'!$F$59=TRUE,Ranking!DJ16=1),1,IF(AND('User Input'!$F$59=FALSE,Ranking!DJ16=0),1,0))","v":1},{"$f":"IF(AND('User Input'!$F$60=TRUE,Ranking!DK16=1),1,IF(AND('User Input'!$F$60=FALSE,Ranking!DK16=0),1,0))","v":0},{"$f":"IF(AND('User Input'!$F$61=TRUE,Ranking!DL16=1),1,IF(AND('User Input'!$F$61=FALSE,Ranking!DL16=0),1,0))","v":1},{"$f":"IF(AND('User Input'!$F$62=TRUE,Ranking!DM16=1),1,IF(AND('User Input'!$F$62=FALSE,Ranking!DM16=0),1,0))","v":1},{"$f":"IF(AND('User Input'!$F$63=TRUE,Ranking!DN16=1),1,IF(AND('User Input'!$F$63=FALSE,Ranking!DN16=0),1,0))","v":0},{"$f":"IF(AND('User Input'!$F$64=TRUE,Ranking!DO16=1),1,IF(AND('User Input'!$F$64=FALSE,Ranking!DO16=0),1,0))","v":0},{"$f":"IF(AND('User Input'!$F$65=TRUE,Ranking!DP16=1),1,IF(AND('User Input'!$F$65=FALSE,Ranking!DP16=0),1,0))","v":0},{"$f":"IF(AND('User Input'!$F$66=TRUE,Ranking!DQ16=1),1,IF(AND('User Input'!$F$66=FALSE,Ranking!DQ16=0),1,0))","v":0},{"$f":"IF(AND('User Input'!$F$67=TRUE,Ranking!DR16=1),1,IF(AND('User Input'!$F$67=FALSE,Ranking!DR16=0),1,0))","v":0},{"$f":"IF(Ranking!CV16=\"Y\",1,IF(AND('User Input'!$G$38='User Input'!$G$14,Ranking!CV16=\"N\"),1,0))","v":1},{"$f":"IF(OR(Ranking!DG16=\"Y\",'User Input'!$H$38='User Input'!$H$14),1,IF(AND('User Input'!$H$38='User Input'!$H$13,Ranking!DG16=\"Y\"),1,0))","v":0},{"$f":"IF(AND('User Input'!$B$52='User Input'!$B$23,Ranking!CL16<'User Input'!$A$23),1,0)","v":0},{"$f":"IF(AND('User Input'!$B$52='User Input'!$B$24,Ranking!CL16<'User Input'!$A$24),1,0)","v":0},{"$f":"IF(AND('User Input'!$B$52='User Input'!$B$25,Ranking!CL16<'User Input'!$A$25),1,0)","v":1},{"$f":"IF(AND('User Input'!$B$52='User Input'!$B$26,Ranking!CL16<'User Input'!$A$26),1,0)","v":0},{"$f":"IF('User Input'!$B$52='User Input'!$B$27,1,0)","v":0},{"$f":"IF(AND('User Input'!$C$52='User Input'!$C$23,CE16=1),1,0)","v":0},{"$f":"IF(CD16=1,0,IF(AND('User Input'!$C$52='User Input'!$C$24,Ranking!CF16=1),1,0))","v":1},{"$f":"IF(CE16=1,0,IF(AND('User Input'!$C$52='User Input'!$C$25,Ranking!CG16=1),1,0))","v":0},{"$f":"IF(CF16=1,0,IF(AND('User Input'!$C$52='User Input'!$C$26,Ranking!CH16=1),1,0))","v":0},{"$f":"IF(CG16=1,0,IF(AND('User Input'!$C$52='User Input'!$C$27,Ranking!CI16=1),1,0))","v":0},{"$f":"IF(AND('User Input'!$D$52='User Input'!$D$23,Ranking!CJ16>5000),1,0)","v":0},{"$f":"IF('User Input'!$E$52='User Input'!$E$25,1,IF(AND('User Input'!$E$52='User Input'!$E$23,Ranking!CM16=1),1,IF(AND('User Input'!$E$52='User Input'!$E$24,Ranking!CM16=0),1,0)))","v":0},{"$f":"IF(AND('User Input'!$F$52='User Input'!$F$23,Ranking!DS16=1),1,0)","v":0},{"$f":"IF(AND('User Input'!$F$52='User Input'!$F$24,Ranking!DT16=1),1,0)","v":0},{"$f":"IF(AND('User Input'!$F$52='User Input'!$F$25,Ranking!DU16=1),1,0)","v":1},{"$f":"IF('User Input'!$G$52='User Input'!$G$24,1,IF(AND('User Input'!$G$52='User Input'!$G$23,DH16=\"Y\"),1,0))","v":0},{"$f":"IF('User Input'!$H$52='User Input'!$H$23,1,IF(AND('User Input'!$H$52='User Input'!$H$24,Ranking!BK16<>\"Video\"),1,0))","v":1},{"$f":"IF(AND('User Input'!$I$52='User Input'!$I$23,Ranking!DV16=1),1,0)","v":0},{"$f":"IF(AND('User Input'!$I$52='User Input'!$I$24,Ranking!DW16=1),1,0)","v":0},{"$f":"IF(AND('User Input'!$I$52='User Input'!$I$25,Ranking!DX16=1),1,0)","v":0},{"$f":"IF('User Input'!$J$52='User Input'!$J$23,1,IF(AND('User Input'!$J$52='User Input'!$J$24,Ranking!DY16=0),1,0))","v":1},{"$f":"IF('User Input'!$K$52='User Input'!$K$24,1,IF(AND('User Input'!$K$52='User Input'!$K$23,Ranking!CO16=1),1,0))","v":1},null,null,"LiDAR Matrix Inc.",null,"LiDAR","software and hardware",1,1,1,1,1,1,0,0,0,0,0,0,0.98,0.995,0,1,1,0,0,1,1,0,0,0,0,0,0,"DC",1,0,"360°","90m","N","N","N","Y","N",0,"High","N",1,0,1,1,1,1,"N","N",1,0,1,1,1,0,0,0,0,0,1,1,1,1,0,0,0]
[{"$f":"IF(AND('User Input'!$D$35='User Input'!$D$6,Ranking!BN17=1),1,0)","v":0},{"$f":"IF(AND('User Input'!$D$35='User Input'!$D$7,Ranking!BO17=1),1,0)","v":0},{"$f":"IF(AND('User Input'!$D$35='User Input'!$D$8,Ranking!BP17=1),1,0)","v":0},{"$f":"IF(AND('User Input'!$F$35='User Input'!$F$7,Ranking!BQ17=1),1,0)","v":0},{"$f":"IF(AND('User Input'!$F$35='User Input'!$F$6,Ranking!BR17=1),1,0)","v":0},{"$f":"IF(AND('User Input'!$F$35='User Input'!$F$8,Ranking!BS17=1),1,0)","v":0},{"$f":"IF(AND('User Input'!$F$35='User Input'!$F$9,Ranking!BT17=1),1,0)","v":0},{"$f":"IF(AND('User Input'!$F$35='User Input'!$F$10,Ranking!BU17=1),1,0)","v":0},{"$f":"IF(BV17=0,1,IF(AND(BV17=1,'User Input'!$G$35='User Input'!$G$6),0,IF(AND(BV17=1,'User Input'!$G$35='User Input'!$G$7),1,0)))","v":1},{"$f":"IF(BW17=0,1,IF(AND(BW17=1,'User Input'!$H$35='User Input'!$H$6),1,IF(AND(BW17=1,'User Input'!$H$35='User Input'!$H$7),0)))","v":1},{"$f":"IF('User Input'!$I$35='User Input'!$I$6,1,IF(AND('User Input'!$I$35='User Input'!$I$7,Ranking!BX17=0),1,0))","v":1},{"$f":"IF('User Input'!$K$35='User Input'!$K$7,1,IF(AND(OR('User Input'!$K$35='User Input'!$K$6,'User Input'!$K$35='User Input'!$K$8),Ranking!$CZ17=\"Y\"),1,0))","v":0},{"$f":"IF(AND('User Input'!$B$38='User Input'!$B$13,Ranking!CA17=1),1,0)","v":0},{"$f":"IF(AND('User Input'!$B$38='User Input'!$B$14,Ranking!CB17=1),1,0)","v":0},{"$f":"IF(AND('User Input'!$B$38='User Input'!$B$15,Ranking!CC17=1),1,0)","v":0},{"$f":"IF(AND('User Input'!$C$38='User Input'!$C$13,DA17=1),1,0)","v":0},{"$f":"IF(AND('User Input'!$C$38='User Input'!$C$14,Ranking!DB17=1),1,0)","v":0},{"$f":"IF(AND('User Input'!$C$38='User Input'!$C$15,Ranking!DC17=1),1,0)","v":0},{"$f":"IF(AND('User Input'!$C$38='User Input'!$C$16,Ranking!DD17=1),1,0)","v":0},{"$f":"IF(AND('User Input'!$C$38='User Input'!$C$17,Ranking!DE17=1),1,0)","v":0},{"$f":"IF(AND('User Input'!$C$38='User Input'!$C$18,Ranking!DF17=1),1,0)","v":0},{"$f":"IF('User Input'!$I$38='User Input'!$I$13,1,IF(AND('User Input'!$I$38='User Input'!$I29,Ranking!$BY17>0.8),1,IF(AND('User Input'!$I$38='User Input'!$I$15,Ranking!$BY17>0.9),1,IF(AND('User Input'!$I$38='User Input'!$D$16,Ranking!$BY17>0.95),1,0))))","v":0},{"$f":"IF('User Input'!$D$38='User Input'!$D$13,1,IF(AND('User Input'!$D$38='User Input'!$D$14,Ranking!$BZ17>0.8),1,IF(AND('User Input'!$D$38='User Input'!$D$15,Ranking!$BZ17>0.9),1,IF(AND('User Input'!$D$38='User Input'!$D$16,Ranking!$BZ17>0.95),1,0))))","v":0},{"$f":"IF(AND('User Input'!$E$38='User Input'!$E$13,Ranking!DF17=1),1,0)","v":0},{"$f":"IF(AND('User Input'!$F$58=TRUE,Ranking!DI17=1),1,IF(AND('User Input'!$F$58=FALSE,Ranking!DI17=0),1,0))","v":0},{"$f":"IF(AND('User Input'!$F$59=TRUE,Ranking!DJ17=1),1,IF(AND('User Input'!$F$59=FALSE,Ranking!DJ17=0),1,0))","v":1},{"$f":"IF(AND('User Input'!$F$60=TRUE,Ranking!DK17=1),1,IF(AND('User Input'!$F$60=FALSE,Ranking!DK17=0),1,0))","v":1},{"$f":"IF(AND('User Input'!$F$61=TRUE,Ranking!DL17=1),1,IF(AND('User Input'!$F$61=FALSE,Ranking!DL17=0),1,0))","v":0},{"$f":"IF(AND('User Input'!$F$62=TRUE,Ranking!DM17=1),1,IF(AND('User Input'!$F$62=FALSE,Ranking!DM17=0),1,0))","v":0},{"$f":"IF(AND('User Input'!$F$63=TRUE,Ranking!DN17=1),1,IF(AND('User Input'!$F$63=FALSE,Ranking!DN17=0),1,0))","v":0},{"$f":"IF(AND('User Input'!$F$64=TRUE,Ranking!DO17=1),1,IF(AND('User Input'!$F$64=FALSE,Ranking!DO17=0),1,0))","v":0},{"$f":"IF(AND('User Input'!$F$65=TRUE,Ranking!DP17=1),1,IF(AND('User Input'!$F$65=FALSE,Ranking!DP17=0),1,0))","v":0},{"$f":"IF(AND('User Input'!$F$66=TRUE,Ranking!DQ17=1),1,IF(AND('User Input'!$F$66=FALSE,Ranking!DQ17=0),1,0))","v":0},{"$f":"IF(AND('User Input'!$F$67=TRUE,Ranking!DR17=1),1,IF(AND('User Input'!$F$67=FALSE,Ranking!DR17=0),1,0))","v":0},{"$f":"IF(Ranking!CV17=\"Y\",1,IF(AND('User Input'!$G$38='User Input'!$G$14,Ranking!CV17=\"N\"),1,0))","v":0},{"$f":"IF(OR(Ranking!DG17=\"Y\",'User Input'!$H$38='User Input'!$H$14),1,IF(AND('User Input'!$H$38='User Input'!$H$13,Ranking!DG17=\"Y\"),1,0))","v":0},{"$f":"IF(AND('User Input'!$B$52='User Input'!$B$23,Ranking!CL17<'User Input'!$A$23),1,0)","v":0},{"$f":"IF(AND('User Input'!$B$52='User Input'!$B$24,Ranking!CL17<'User Input'!$A$24),1,0)","v":0},{"$f":"IF(AND('User Input'!$B$52='User Input'!$B$25,Ranking!CL17<'User Input'!$A$25),1,0)","v":1},{"$f":"IF(AND('User Input'!$B$52='User Input'!$B$26,Ranking!CL17<'User Input'!$A$26),1,0)","v":0},{"$f":"IF('User Input'!$B$52='User Input'!$B$27,1,0)","v":0},{"$f":"IF(AND('User Input'!$C$52='User Input'!$C$23,CE17=1),1,0)","v":0},{"$f":"IF(CD17=1,0,IF(AND('User Input'!$C$52='User Input'!$C$24,Ranking!CF17=1),1,0))","v":0},{"$f":"IF(CE17=1,0,IF(AND('User Input'!$C$52='User Input'!$C$25,Ranking!CG17=1),1,0))","v":0},{"$f":"IF(CF17=1,0,IF(AND('User Input'!$C$52='User Input'!$C$26,Ranking!CH17=1),1,0))","v":0},{"$f":"IF(CG17=1,0,IF(AND('User Input'!$C$52='User Input'!$C$27,Ranking!CI17=1),1,0))","v":0},{"$f":"IF(AND('User Input'!$D$52='User Input'!$D$23,Ranking!CJ17>5000),1,0)","v":0},{"$f":"IF('User Input'!$E$52='User Input'!$E$25,1,IF(AND('User Input'!$E$52='User Input'!$E$23,Ranking!CM17=1),1,IF(AND('User Input'!$E$52='User Input'!$E$24,Ranking!CM17=0),1,0)))","v":0},{"$f":"IF(AND('User Input'!$F$52='User Input'!$F$23,Ranking!DS17=1),1,0)","v":0},{"$f":"IF(AND('User Input'!$F$52='User Input'!$F$24,Ranking!DT17=1),1,0)","v":0},{"$f":"IF(AND('User Input'!$F$52='User Input'!$F$25,Ranking!DU17=1),1,0)","v":0},{"$f":"IF('User Input'!$G$52='User Input'!$G$24,1,IF(AND('User Input'!$G$52='User Input'!$G$23,DH17=\"Y\"),1,0))","v":0},{"$f":"IF('User Input'!$H$52='User Input'!$H$23,1,IF(AND('User Input'!$H$52='User Input'!$H$24,Ranking!BK17<>\"Video\"),1,0))","v":1},{"$f":"IF(AND('User Input'!$I$52='User Input'!$I$23,Ranking!DV17=1),1,0)","v":0},{"$f":"IF(AND('User Input'!$I$52='User Input'!$I$24,Ranking!DW17=1),1,0)","v":0},{"$f":"IF(AND('User Input'!$I$52='User Input'!$I$25,Ranking!DX17=1),1,0)","v":0},{"$f":"IF('User Input'!$J$52='User Input'!$J$23,1,IF(AND('User Input'!$J$52='User Input'!$J$24,Ranking!DY17=0),1,0))","v":1},{"$f":"IF('User Input'!$K$52='User Input'!$K$24,1,IF(AND('User Input'!$K$52='User Input'!$K$23,Ranking!CO17=1),1,0))","v":0},null,null,"Placeholder"]
[{"$f":"IF(AND('User Input'!$D$35='User Input'!$D$6,Ranking!BN18=1),1,0)","v":0},{"$f":"IF(AND('User Input'!$D$35='User Input'!$D$7,Ranking!BO18=1),1,0)","v":0},{"$f":"IF(AND('User Input'!$D$35='User Input'!$D$8,Ranking!BP18=1),1,0)","v":0},{"$f":"IF(AND('User Input'!$F$35='User Input'!$F$7,Ranking!BQ18=1),1,0)","v":0},{"$f":"IF(AND('User Input'!$F$35='User Input'!$F$6,Ranking!BR18=1),1,0)","v":0},{"$f":"IF(AND('User Input'!$F$35='User Input'!$F$8,Ranking!BS18=1),1,0)","v":0},{"$f":"IF(AND('User Input'!$F$35='User Input'!$F$9,Ranking!BT18=1),1,0)","v":0},{"$f":"IF(AND('User Input'!$F$35='User Input'!$F$10,Ranking!BU18=1),1,0)","v":0},{"$f":"IF(BV18=0,1,IF(AND(BV18=1,'User Input'!$G$35='User Input'!$G$6),0,IF(AND(BV18=1,'User Input'!$G$35='User Input'!$G$7),1,0)))","v":1},{"$f":"IF(BW18=0,1,IF(AND(BW18=1,'User Input'!$H$35='User Input'!$H$6),1,IF(AND(BW18=1,'User Input'!$H$35='User Input'!$H$7),0)))","v":1},{"$f":"IF('User Input'!$I$35='User Input'!$I$6,1,IF(AND('User Input'!$I$35='User Input'!$I$7,Ranking!BX18=0),1,0))","v":1},{"$f":"IF('User Input'!$K$35='User Input'!$K$7,1,IF(AND(OR('User Input'!$K$35='User Input'!$K$6,'User Input'!$K$35='User Input'!$K$8),Ranking!$CZ18=\"Y\"),1,0))","v":0},{"$f":"IF(AND('User Input'!$B$38='User Input'!$B$13,Ranking!CA18=1),1,0)","v":0},{"$f":"IF(AND('User Input'!$B$38='User Input'!$B$14,Ranking!CB18=1),1,0)","v":0},{"$f":"IF(AND('User Input'!$B$38='User Input'!$B$15,Ranking!CC18=1),1,0)","v":0},{"$f":"IF(AND('User Input'!$C$38='User Input'!$C$13,DA18=1),1,0)","v":0},{"$f":"IF(AND('User Input'!$C$38='User Input'!$C$14,Ranking!DB18=1),1,0)","v":0},{"$f":"IF(AND('User Input'!$C$38='User Input'!$C$15,Ranking!DC18=1),1,0)","v":0},{"$f":"IF(AND('User Input'!$C$38='User Input'!$C$16,Ranking!DD18=1),1,0)","v":0},{"$f":"IF(AND('User Input'!$C$38='User Input'!$C$17,Ranking!DE18=1),1,0)","v":0},{"$f":"IF(AND('User Input'!$C$38='User Input'!$C$18,Ranking!DF18=1),1,0)","v":0},{"$f":"IF('User Input'!$I$38='User Input'!$I$13,1,IF(AND('User Input'!$I$38='User Input'!$I30,Ranking!$BY18>0.8),1,IF(AND('User Input'!$I$38='User Input'!$I$15,Ranking!$BY18>0.9),1,IF(AND('User Input'!$I$38='User Input'!$D$16,Ranking!$BY18>0.95),1,0))))","v":0},{"$f":"IF('User Input'!$D$38='User Input'!$D$13,1,IF(AND('User Input'!$D$38='User Input'!$D$14,Ranking!$BZ18>0.8),1,IF(AND('User Input'!$D$38='User Input'!$D$15,Ranking!$BZ18>0.9),1,IF(AND('User Input'!$D$38='User Input'!$D$16,Ranking!$BZ18>0.95),1,0))))","v":0},{"$f":"IF(AND('User Input'!$E$38='User Input'!$E$13,Ranking!DF18=1),1,0)","v":0},{"$f":"IF(AND('User Input'!$F$58=TRUE,Ranking!DI18=1),1,IF(AND('User Input'!$F$58=FALSE,Ranking!DI18=0),1,0))","v":0},{"$f":"IF(AND('User Input'!$F$59=TRUE,Ranking!DJ18=1),1,IF(AND('User Input'!$F$59=FALSE,Ranking!DJ18=0),1,0))","v":1},{"$f":"IF(AND('User Input'!$F$60=TRUE,Ranking!DK18=1),1,IF(AND('User Input'!$F$60=FALSE,Ranking!DK18=0),1,0))","v":1},{"$f":"IF(AND('User Input'!$F$61=TRUE,Ranking!DL18=1),1,IF(AND('User Input'!$F$61=FALSE,Ranking!DL18=0),1,0))","v":0},{"$f":"IF(AND('User Input'!$F$62=TRUE,Ranking!DM18=1),1,IF(AND('User Input'!$F$62=FALSE,Ranking!DM18=0),1,0))","v":0},{"$f":"IF(AND('User Input'!$F$63=TRUE,Ranking!DN18=1),1,IF(AND('User Input'!$F$63=FALSE,Ranking!DN18=0),1,0))","v":0},{"$f":"IF(AND('User Input'!$F$64=TRUE,Ranking!DO18=1),1,IF(AND('User Input'!$F$64=FALSE,Ranking!DO18=0),1,0))","v":0},{"$f":"IF(AND('User Input'!$F$65=TRUE,Ranking!DP18=1),1,IF(AND('User Input'!$F$65=FALSE,Ranking!DP18=0),1,0))","v":0},{"$f":"IF(AND('User Input'!$F$66=TRUE,Ranking!DQ18=1),1,IF(AND('User Input'!$F$66=FALSE,Ranking!DQ18=0),1,0))","v":0},{"$f":"IF(AND('User Input'!$F$67=TRUE,Ranking!DR18=1),1,IF(AND('User Input'!$F$67=FALSE,Ranking!DR18=0),1,0))","v":0},{"$f":"IF(Ranking!CV18=\"Y\",1,IF(AND('User Input'!$G$38='User Input'!$G$14,Ranking!CV18=\"N\"),1,0))","v":0},{"$f":"IF(OR(Ranking!DG18=\"Y\",'User Input'!$H$38='User Input'!$H$14),1,IF(AND('User Input'!$H$38='User Input'!$H$13,Ranking!DG18=\"Y\"),1,0))","v":0},{"$f":"IF(AND('User Input'!$B$52='User Input'!$B$23,Ranking!CL18<'User Input'!$A$23),1,0)","v":0},{"$f":"IF(AND('User Input'!$B$52='User Input'!$B$24,Ranking!CL18<'User Input'!$A$24),1,0)","v":0},{"$f":"IF(AND('User Input'!$B$52='User Input'!$B$25,Ranking!CL18<'User Input'!$A$25),1,0)","v":1},{"$f":"IF(AND('User Input'!$B$52='User Input'!$B$26,Ranking!CL18<'User Input'!$A$26),1,0)","v":0},{"$f":"IF('User Input'!$B$52='User Input'!$B$27,1,0)","v":0},{"$f":"IF(AND('User Input'!$C$52='User Input'!$C$23,CE18=1),1,0)","v":0},{"$f":"IF(CD18=1,0,IF(AND('User Input'!$C$52='User Input'!$C$24,Ranking!CF18=1),1,0))","v":0},{"$f":"IF(CE18=1,0,IF(AND('User Input'!$C$52='User Input'!$C$25,Ranking!CG18=1),1,0))","v":0},{"$f":"IF(CF18=1,0,IF(AND('User Input'!$C$52='User Input'!$C$26,Ranking!CH18=1),1,0))","v":0},{"$f":"IF(CG18=1,0,IF(AND('User Input'!$C$52='User Input'!$C$27,Ranking!CI18=1),1,0))","v":0},{"$f":"IF(AND('User Input'!$D$52='User Input'!$D$23,Ranking!CJ18>5000),1,0)","v":0},{"$f":"IF('User Input'!$E$52='User Input'!$E$25,1,IF(AND('User Input'!$E$52='User Input'!$E$23,Ranking!CM18=1),1,IF(AND('User Input'!$E$52='User Input'!$E$24,Ranking!CM18=0),1,0)))","v":0},{"$f":"IF(AND('User Input'!$F$52='User Input'!$F$23,Ranking!DS18=1),1,0)","v":0},{"$f":"IF(AND('User Input'!$F$52='User Input'!$F$24,Ranking!DT18=1),1,0)","v":0},{"$f":"IF(AND('User Input'!$F$52='User Input'!$F$25,Ranking!DU18=1),1,0)","v":0},{"$f":"IF('User Input'!$G$52='User Input'!$G$24,1,IF(AND('User Input'!$G$52='User Input'!$G$23,DH18=\"Y\"),1,0))","v":0},{"$f":"IF('User Input'!$H$52='User Input'!$H$23,1,IF(AND('User Input'!$H$52='User Input'!$H$24,Ranking!BK18<>\"Video\"),1,0))","v":1},{"$f":"IF(AND('User Input'!$I$52='User Input'!$I$23,Ranking!DV18=1),1,0)","v":0},{"$f":"IF(AND('User Input'!$I$52='User Input'!$I$24,Ranking!DW18=1),1,0)","v":0},{"$f":"IF(AND('User Input'!$I$52='User Input'!$I$25,Ranking!DX18=1),1,0)","v":0},{"$f":"IF('User Input'!$J$52='User Input'!$J$23,1,IF(AND('User Input'!$J$52='User Input'!$J$24,Ranking!DY18=0),1,0))","v":1},{"$f":"IF('User Input'!$K$52='User Input'!$K$24,1,IF(AND('User Input'!$K$52='User Input'!$K$23,Ranking!CO18=1),1,0))","v":0},null,null,"Placeholder"]
[{"$f":"IF(AND('User Input'!$D$35='User Input'!$D$6,Ranking!BN19=1),1,0)","v":0},{"$f":"IF(AND('User Input'!$D$35='User Input'!$D$7,Ranking!BO19=1),1,0)","v":0},{"$f":"IF(AND('User Input'!$D$35='User Input'!$D$8,Ranking!BP19=1),1,0)","v":0},{"$f":"IF(AND('User Input'!$F$35='User Input'!$F$7,Ranking!BQ19=1),1,0)","v":0},{"$f":"IF(AND('User Input'!$F$35='User Input'!$F$6,Ranking!BR19=1),1,0)","v":0},{"$f":"IF(AND('User Input'!$F$35='User Input'!$F$8,Ranking!BS19=1),1,0)","v":0},{"$f":"IF(AND('User Input'!$F$35='User Input'!$F$9,Ranking!BT19=1),1,0)","v":0},{"$f":"IF(AND('User Input'!$F$35='User Input'!$F$10,Ranking!BU19=1),1,0)","v":0},{"$f":"IF(BV19=0,1,IF(AND(BV19=1,'User Input'!$G$35='User Input'!$G$6),0,IF(AND(BV19=1,'User Input'!$G$35='User Input'!$G$7),1,0)))","v":1},{"$f":"IF(BW19=0,1,IF(AND(BW19=1,'User Input'!$H$35='User Input'!$H$6),1,IF(AND(BW19=1,'User Input'!$H$35='User Input'!$H$7),0)))","v":1},{"$f":"IF('User Input'!$I$35='User Input'!$I$6,1,IF(AND('User Input'!$I$35='User Input'!$I$7,Ranking!BX19=0),1,0))","v":1},{"$f":"IF('User Input'!$K$35='User Input'!$K$7,1,IF(AND(OR('User Input'!$K$35='User Input'!$K$6,'User Input'!$K$35='User Input'!$K$8),Ranking!$CZ19=\"Y\"),1,0))","v":0},{"$f":"IF(AND('User Input'!$B$38='User Input'!$B$13,Ranking!CA19=1),1,0)","v":0},{"$f":"IF(AND('User Input'!$B$38='User Input'!$B$14,Ranking!CB19=1),1,0)","v":0},{"$f":"IF(AND('User Input'!$B$38='User Input'!$B$15,Ranking!CC19=1),1,0)","v":0},{"$f":"IF(AND('User Input'!$C$38='User Input'!$C$13,DA19=1),1,0)","v":0},{"$f":"IF(AND('User Input'!$C$38='User Input'!$C$14,Ranking!DB19=1),1,0)","v":0},{"$f":"IF(AND('User Input'!$C$38='User Input'!$C$15,Ranking!DC19=1),1,0)","v":0},{"$f":"IF(AND('User Input'!$C$38='User Input'!$C$16,Ranking!DD19=1),1,0)","v":0},{"$f":"IF(AND('User Input'!$C$38='User Input'!$C$17,Ranking!DE19=1),1,0)","v":0},{"$f":"IF(AND('User Input'!$C$38='User Input'!$C$18,Ranking!DF19=1),1,0)","v":0},{"$f":"IF('User Input'!$I$38='User Input'!$I$13,1,IF(AND('User Input'!$I$38='User Input'!$I31,Ranking!$BY19>0.8),1,IF(AND('User Input'!$I$38='User Input'!$I$15,Ranking!$BY19>0.9),1,IF(AND('User Input'!$I$38='User Input'!$D$16,Ranking!$BY19>0.95),1,0))))","v":0},{"$f":"IF('User Input'!$D$38='User Input'!$D$13,1,IF(AND('User Input'!$D$38='User Input'!$D$14,Ranking!$BZ19>0.8),1,IF(AND('User Input'!$D$38='User Input'!$D$15,Ranking!$BZ19>0.9),1,IF(AND('User Input'!$D$38='User Input'!$D$16,Ranking!$BZ19>0.95),1,0))))","v":0},{"$f":"IF(AND('User Input'!$E$38='User Input'!$E$13,Ranking!DF19=1),1,0)","v":0},{"$f":"IF(AND('User Input'!$F$58=TRUE,Ranking!DI19=1),1,IF(AND('User Input'!$F$58=FALSE,Ranking!DI19=0),1,0))","v":0},{"$f":"IF(AND('User Input'!$F$59=TRUE,Ranking!DJ19=1),1,IF(AND('User Input'!$F$59=FALSE,Ranking!DJ19=0),1,0))","v":1},{"$f":"IF(AND('User Input'!$F$60=TRUE,Ranking!DK19=1),1,IF(AND('User Input'!$F$60=FALSE,Ranking!DK19=0),1,0))","v":1},{"$f":"IF(AND('User Input'!$F$61=TRUE,Ranking!DL19=1),1,IF(AND('User Input'!$F$61=FALSE,Ranking!DL19=0),1,0))","v":0},{"$f":"IF(AND('User Input'!$F$62=TRUE,Ranking!DM19=1),1,IF(AND('User Input'!$F$62=FALSE,Ranking!DM19=0),1,0))","v":0},{"$f":"IF(AND('User Input'!$F$63=TRUE,Ranking!DN19=1),1,IF(AND('User Input'!$F$63=FALSE,Ranking!DN19=0),1,0))","v":0},{"$f":"IF(AND('User Input'!$F$64=TRUE,Ranking!DO19=1),1,IF(AND('User Input'!$F$64=FALSE,Ranking!DO19=0),1,0))","v":0},{"$f":"IF(AND('User Input'!$F$65=TRUE,Ranking!DP19=1),1,IF(AND('User Input'!$F$65=FALSE,Ranking!DP19=0),1,0))","v":0},{"$f":"IF(AND('User Input'!$F$66=TRUE,Ranking!DQ19=1),1,IF(AND('User Input'!$F$66=FALSE,Ranking!DQ19=0),1,0))","v":0},{"$f":"IF(AND('User Input'!$F$67=TRUE,Ranking!DR19=1),1,IF(AND('User Input'!$F$67=FALSE,Ranking!DR19=0),1,0))","v":0},{"$f":"IF(Ranking!CV19=\"Y\",1,IF(AND('User Input'!$G$38='User Input'!$G$14,Ranking!CV19=\"N\"),1,0))","v":0},{"$f":"IF(OR(Ranking!DG19=\"Y\",'User Input'!$H$38='User Input'!$H$14),1,IF(AND('User Input'!$H$38='User Input'!$H$13,Ranking!DG19=\"Y\"),1,0))","v":0},{"$f":"IF(AND('User Input'!$B$52='User Input'!$B$23,Ranking!CL19<'User Input'!$A$23),1,0)","v":0},{"$f":"IF(AND('User Input'!$B$52='User Input'!$B$24,Ranking!CL19<'User Input'!$A$24),1,0)","v":0},{"$f":"IF(AND('User Input'!$B$52='User Input'!$B$25,Ranking!CL19<'User Input'!$A$25),1,0)","v":1},{"$f":"IF(AND('User Input'!$B$52='User Input'!$B$26,Ranking!CL19<'User Input'!$A$26),1,0)","v":0},{"$f":"IF('User Input'!$B$52='User Input'!$B$27,1,0)","v":0},{"$f":"IF(AND('User Input'!$C$52='User Input'!$C$23,CE19=1),1,0)","v":0},{"$f":"IF(CD19=1,0,IF(AND('User Input'!$C$52='User Input'!$C$24,Ranking!CF19=1),1,0))","v":0},{"$f":"IF(CE19=1,0,IF(AND('User Input'!$C$52='User Input'!$C$25,Ranking!CG19=1),1,0))","v":0},{"$f":"IF(CF19=1,0,IF(AND('User Input'!$C$52='User Input'!$C$26,Ranking!CH19=1),1,0))","v":0},{"$f":"IF(CG19=1,0,IF(AND('User Input'!$C$52='User Input'!$C$27,Ranking!CI19=1),1,0))","v":0},{"$f":"IF(AND('User Input'!$D$52='User Input'!$D$23,Ranking!CJ19>5000),1,0)","v":0},{"$f":"IF('User Input'!$E$52='User Input'!$E$25,1,IF(AND('User Input'!$E$52='User Input'!$E$23,Ranking!CM19=1),1,IF(AND('User Input'!$E$52='User Input'!$E$24,Ranking!CM19=0),1,0)))","v":0},{"$f":"IF(AND('User Input'!$F$52='User Input'!$F$23,Ranking!DS19=1),1,0)","v":0},{"$f":"IF(AND('User Input'!$F$52='User Input'!$F$24,Ranking!DT19=1),1,0)","v":0},{"$f":"IF(AND('User Input'!$F$52='User Input'!$F$25,Ranking!DU19=1),1,0)","v":0},{"$f":"IF('User Input'!$G$52='User Input'!$G$24,1,IF(AND('User Input'!$G$52='User Input'!$G$23,DH19=\"Y\"),1,0))","v":0},{"$f":"IF('User Input'!$H$52='User Input'!$H$23,1,IF(AND('User Input'!$H$52='User Input'!$H$24,Ranking!BK19<>\"Video\"),1,0))","v":1},{"$f":"IF(AND('User Input'!$I$52='User Input'!$I$23,Ranking!DV19=1),1,0)","v":0},{"$f":"IF(AND('User Input'!$I$52='User Input'!$I$24,Ranking!DW19=1),1,0)","v":0},{"$f":"IF(AND('User Input'!$I$52='User Input'!$I$25,Ranking!DX19=1),1,0)","v":0},{"$f":"IF('User Input'!$J$52='User Input'!$J$23,1,IF(AND('User Input'!$J$52='User Input'!$J$24,Ranking!DY19=0),1,0))","v":1},{"$f":"IF('User Input'!$K$52='User Input'!$K$24,1,IF(AND('User Input'!$K$52='User Input'!$K$23,Ranking!CO19=1),1,0))","v":0},null,null,"Placeholder"]
[{"$f":"IF(AND('User Input'!$D$35='User Input'!$D$6,Ranking!BN20=1),1,0)","v":0},{"$f":"IF(AND('User Input'!$D$35='User Input'!$D$7,Ranking!BO20=1),1,0)","v":0},{"$f":"IF(AND('User Input'!$D$35='User Input'!$D$8,Ranking!BP20=1),1,0)","v":0},{"$f":"IF(AND('User Input'!$F$35='User Input'!$F$7,Ranking!BQ20=1),1,0)","v":0},{"$f":"IF(AND('User Input'!$F$35='User Input'!$F$6,Ranking!BR20=1),1,0)","v":0},{"$f":"IF(AND('User Input'!$F$35='User Input'!$F$8,Ranking!BS20=1),1,0)","v":0},{"$f":"IF(AND('User Input'!$F$35='User Input'!$F$9,Ranking!BT20=1),1,0)","v":0},{"$f":"IF(AND('User Input'!$F$35='User Input'!$F$10,Ranking!BU20=1),1,0)","v":0},{"$f":"IF(BV20=0,1,IF(AND(BV20=1,'User Input'!$G$35='User Input'!$G$6),0,IF(AND(BV20=1,'User Input'!$G$35='User Input'!$G$7),1,0)))","v":1},{"$f":"IF(BW20=0,1,IF(AND(BW20=1,'User Input'!$H$35='User Input'!$H$6),1,IF(AND(BW20=1,'User Input'!$H$35='User Input'!$H$7),0)))","v":1},{"$f":"IF('User Input'!$I$35='User Input'!$I$6,1,IF(AND('User Input'!$I$35='User Input'!$I$7,Ranking!BX20=0),1,0))","v":1},{"$f":"IF('User Input'!$K$35='User Input'!$K$7,1,IF(AND(OR('User Input'!$K$35='User Input'!$K$6,'User Input'!$K$35='User Input'!$K$8),Ranking!$CZ20=\"Y\"),1,0))","v":0},{"$f":"IF(AND('User Input'!$B$38='User Input'!$B$13,Ranking!CA20=1),1,0)","v":0},{"$f":"IF(AND('User Input'!$B$38='User Input'!$B$14,Ranking!CB20=1),1,0)","v":0},{"$f":"IF(AND('User Input'!$B$38='User Input'!$B$15,Ranking!CC20=1),1,0)","v":0},{"$f":"IF(AND('User Input'!$C$38='User Input'!$C$13,DA20=1),1,0)","v":0},{"$f":"IF(AND('User Input'!$C$38='User Input'!$C$14,Ranking!DB20=1),1,0)","v":0},{"$f":"IF(AND('User Input'!$C$38='User Input'!$C$15,Ranking!DC20=1),1,0)","v":0},{"$f":"IF(AND('User Input'!$C$38='User Input'!$C$16,Ranking!DD20=1),1,0)","v":0},{"$f":"IF(AND('User Input'!$C$38='User Input'!$C$17,Ranking!DE20=1),1,0)","v":0},{"$f":"IF(AND('User Input'!$C$38='User Input'!$C$18,Ranking!DF20=1),1,0)","v":0},{"$f":"IF('User Input'!$I$38='User Input'!$I$13,1,IF(AND('User Input'!$I$38='User Input'!$I32,Ranking!$BY20>0.8),1,IF(AND('User Input'!$I$38='User Input'!$I$15,Ranking!$BY20>0.9),1,IF(AND('User Input'!$I$38='User Input'!$D$16,Ranking!$BY20>0.95),1,0))))","v":0},{"$f":"IF('User Input'!$D$38='User Input'!$D$13,1,IF(AND('User Input'!$D$38='User Input'!$D$14,Ranking!$BZ20>0.8),1,IF(AND('User Input'!$D$38='User Input'!$D$15,Ranking!$BZ20>0.9),1,IF(AND('User Input'!$D$38='User Input'!$D$16,Ranking!$BZ20>0.95),1,0))))","v":0},{"$f":"IF(AND('User Input'!$E$38='User Input'!$E$13,Ranking!DF20=1),1,0)","v":0},{"$f":"IF(AND('User Input'!$F$58=TRUE,Ranking!DI20=1),1,IF(AND('User Input'!$F$58=FALSE,Ranking!DI20=0),1,0))","v":0},{"$f":"IF(AND('User Input'!$F$59=TRUE,Ranking!DJ20=1),1,IF(AND('User Input'!$F$59=FALSE,Ranking!DJ20=0),1,0))","v":1},{"$f":"IF(AND('User Input'!$F$60=TRUE,Ranking!DK20=1),1,IF(AND('User Input'!$F$60=FALSE,Ranking!DK20=0),1,0))","v":1},{"$f":"IF(AND('User Input'!$F$61=TRUE,Ranking!DL20=1),1,IF(AND('User Input'!$F$61=FALSE,Ranking!DL20=0),1,0))","v":0},{"$f":"IF(AND('User Input'!$F$62=TRUE,Ranking!DM20=1),1,IF(AND('User Input'!$F$62=FALSE,Ranking!DM20=0),1,0))","v":0},{"$f":"IF(AND('User Input'!$F$63=TRUE,Ranking!DN20=1),1,IF(AND('User Input'!$F$63=FALSE,Ranking!DN20=0),1,0))","v":0},{"$f":"IF(AND('User Input'!$F$64=TRUE,Ranking!DO20=1),1,IF(AND('User Input'!$F$64=FALSE,Ranking!DO20=0),1,0))","v":0},{"$f":"IF(AND('User Input'!$F$65=TRUE,Ranking!DP20=1),1,IF(AND('User Input'!$F$65=FALSE,Ranking!DP20=0),1,0))","v":0},{"$f":"IF(AND('User Input'!$F$66=TRUE,Ranking!DQ20=1),1,IF(AND('User Input'!$F$66=FALSE,Ranking!DQ20=0),1,0))","v":0},{"$f":"IF(AND('User Input'!$F$67=TRUE,Ranking!DR20=1),1,IF(AND('User Input'!$F$67=FALSE,Ranking!DR20=0),1,0))","v":0},{"$f":"IF(Ranking!CV20=\"Y\",1,IF(AND('User Input'!$G$38='User Input'!$G$14,Ranking!CV20=\"N\"),1,0))","v":0},{"$f":"IF(OR(Ranking!DG20=\"Y\",'User Input'!$H$38='User Input'!$H$14),1,IF(AND('User Input'!$H$38='User Input'!$H$13,Ranking!DG20=\"Y\"),1,0))","v":0},{"$f":"IF(AND('User Input'!$B$52='User Input'!$B$23,Ranking!CL20<'User Input'!$A$23),1,0)","v":0},{"$f":"IF(AND('User Input'!$B$52='User Input'!$B$24,Ranking!CL20<'User Input'!$A$24),1,0)","v":0},{"$f":"IF(AND('User Input'!$B$52='User Input'!$B$25,Ranking!CL20<'User Input'!$A$25),1,0)","v":1},{"$f":"IF(AND('User Input'!$B$52='User Input'!$B$26,Ranking!CL20<'User Input'!$A$26),1,0)","v":0},{"$f":"IF('User Input'!$B$52='User Input'!$B$27,1,0)","v":0},{"$f":"IF(AND('User Input'!$C$52='User Input'!$C$23,CE20=1),1,0)","v":0},{"$f":"IF(CD20=1,0,IF(AND('User Input'!$C$52='User Input'!$C$24,Ranking!CF20=1),1,0))","v":0},{"$f":"IF(CE20=1,0,IF(AND('User Input'!$C$52='User Input'!$C$25,Ranking!CG20=1),1,0))","v":0},{"$f":"IF(CF20=1,0,IF(AND('User Input'!$C$52='User Input'!$C$26,Ranking!CH20=1),1,0))","v":0},{"$f":"IF(CG20=1,0,IF(AND('User Input'!$C$52='User Input'!$C$27,Ranking!CI20=1),1,0))","v":0},{"$f":"IF(AND('User Input'!$D$52='User Input'!$D$23,Ranking!CJ20>5000),1,0)","v":0},{"$f":"IF('User Input'!$E$52='User Input'!$E$25,1,IF(AND('User Input'!$E$52='User Input'!$E$23,Ranking!CM20=1),1,IF(AND('User Input'!$E$52='User Input'!$E$24,Ranking!CM20=0),1,0)))","v":0},{"$f":"IF(AND('User Input'!$F$52='User Input'!$F$23,Ranking!DS20=1),1,0)","v":0},{"$f":"IF(AND('User Input'!$F$52='User Input'!$F$24,Ranking!DT20=1),1,0)","v":0},{"$f":"IF(AND('User Input'!$F$52='User Input'!$F$25,Ranking!DU20=1),1,0)","v":0},{"$f":"IF('User Input'!$G$52='User Input'!$G$24,1,IF(AND('User Input'!$G$52='User Input'!$G$23,DH20=\"Y\"),1,0))","v":0},{"$f":"IF('User Input'!$H$52='User Input'!$H$23,1,IF(AND('User Input'!$H$52='User Input'!$H$24,Ranking!BK20<>\"Video\"),1,0))","v":1},{"$f":"IF(AND('User Input'!$I$52='User Input'!$I$23,Ranking!DV20=1),1,0)","v":0},{"$f":"IF(AND('User Input'!$I$52='User Input'!$I$24,Ranking!DW20=1),1,0)","v":0},{"$f":"IF(AND('User Input'!$I$52='User Input'!$I$25,Ranking!DX20=1),1,0)","v":0},{"$f":"IF('User Input'!$J$52='User Input'!$J$23,1,IF(AND('User Input'!$J$52='User Input'!$J$24,Ranking!DY20=0),1,0))","v":1},{"$f":"IF('User Input'!$K$52='User Input'!$K$24,1,IF(AND('User Input'!$K$52='User Input'!$K$23,Ranking!CO20=1),1,0))","v":0},null,null,"Placeholder"]
[{"$f":"IF(AND('User Input'!$D$35='User Input'!$D$6,Ranking!BN21=1),1,0)","v":0},{"$f":"IF(AND('User Input'!$D$35='User Input'!$D$7,Ranking!BO21=1),1,0)","v":0},{"$f":"IF(AND('User Input'!$D$35='User Input'!$D$8,Ranking!BP21=1),1,0)","v":0},{"$f":"IF(AND('User Input'!$F$35='User Input'!$F$7,Ranking!BQ21=1),1,0)","v":0},{"$f":"IF(AND('User Input'!$F$35='User Input'!$F$6,Ranking!BR21=1),1,0)","v":0},{"$f":"IF(AND('User Input'!$F$35='User Input'!$F$8,Ranking!BS21=1),1,0)","v":0},{"$f":"IF(AND('User Input'!$F$35='User Input'!$F$9,Ranking!BT21=1),1,0)","v":0},{"$f":"IF(AND('User Input'!$F$35='User Input'!$F$10,Ranking!BU21=1),1,0)","v":0},{"$f":"IF(BV21=0,1,IF(AND(BV21=1,'User Input'!$G$35='User Input'!$G$6),0,IF(AND(BV21=1,'User Input'!$G$35='User Input'!$G$7),1,0)))","v":1},{"$f":"IF(BW21=0,1,IF(AND(BW21=1,'User Input'!$H$35='User Input'!$H$6),1,IF(AND(BW21=1,'User Input'!$H$35='User Input'!$H$7),0)))","v":1},{"$f":"IF('User Input'!$I$35='User Input'!$I$6,1,IF(AND('User Input'!$I$35='User Input'!$I$7,Ranking!BX21=0),1,0))","v":1},{"$f":"IF('User Input'!$K$35='User Input'!$K$7,1,IF(AND(OR('User Input'!$K$35='User Input'!$K$6,'User Input'!$K$35='User Input'!$K$8),Ranking!$CZ21=\"Y\"),1,0))","v":0},{"$f":"IF(AND('User Input'!$B$38='User Input'!$B$13,Ranking!CA21=1),1,0)","v":0},{"$f":"IF(AND('User Input'!$B$38='User Input'!$B$14,Ranking!CB21=1),1,0)","v":0},{"$f":"IF(AND('User Input'!$B$38='User Input'!$B$15,Ranking!CC21=1),1,0)","v":0},{"$f":"IF(AND('User Input'!$C$38='User Input'!$C$13,DA21=1),1,0)","v":0},{"$f":"IF(AND('User Input'!$C$38='User Input'!$C$14,Ranking!DB21=1),1,0)","v":0},{"$f":"IF(AND('User Input'!$C$38='User Input'!$C$15,Ranking!DC21=1),1,0)","v":0},{"$f":"IF(AND('User Input'!$C$38='User Input'!$C$16,Ranking!DD21=1),1,0)","v":0},{"$f":"IF(AND('User Input'!$C$38='User Input'!$C$17,Ranking!DE21=1),1,0)","v":0},{"$f":"IF(AND('User Input'!$C$38='User Input'!$C$18,Ranking!DF21=1),1,0)","v":0},{"$f":"IF('User Input'!$I$38='User Input'!$I$13,1,IF(AND('User Input'!$I$38='User Input'!$I33,Ranking!$BY21>0.8),1,IF(AND('User Input'!$I$38='User Input'!$I$15,Ranking!$BY21>0.9),1,IF(AND('User Input'!$I$38='User Input'!$D$16,Ranking!$BY21>0.95),1,0))))","v":0},{"$f":"IF('User Input'!$D$38='User Input'!$D$13,1,IF(AND('User Input'!$D$38='User Input'!$D$14,Ranking!$BZ21>0.8),1,IF(AND('User Input'!$D$38='User Input'!$D$15,Ranking!$BZ21>0.9),1,IF(AND('User Input'!$D$38='User Input'!$D$16,Ranking!$BZ21>0.95),1,0))))","v":0},{"$f":"IF(AND('User Input'!$E$38='User Input'!$E$13,Ranking!DF21=1),1,0)","v":0},{"$f":"IF(AND('User Input'!$F$58=TRUE,Ranking!DI21=1),1,IF(AND('User Input'!$F$58=FALSE,Ranking!DI21=0),1,0))","v":0},{"$f":"IF(AND('User Input'!$F$59=TRUE,Ranking!DJ21=1),1,IF(AND('User Input'!$F$59=FALSE,Ranking!DJ21=0),1,0))","v":1},{"$f":"IF(AND('User Input'!$F$60=TRUE,Ranking!DK21=1),1,IF(AND('User Input'!$F$60=FALSE,Ranking!DK21=0),1,0))","v":1},{"$f":"IF(AND('User Input'!$F$61=TRUE,Ranking!DL21=1),1,IF(AND('User Input'!$F$61=FALSE,Ranking!DL21=0),1,0))","v":0},{"$f":"IF(AND('User Input'!$F$62=TRUE,Ranking!DM21=1),1,IF(AND('User Input'!$F$62=FALSE,Ranking!DM21=0),1,0))","v":0},{"$f":"IF(AND('User Input'!$F$63=TRUE,Ranking!DN21=1),1,IF(AND('User Input'!$F$63=FALSE,Ranking!DN21=0),1,0))","v":0},{"$f":"IF(AND('User Input'!$F$64=TRUE,Ranking!DO21=1),1,IF(AND('User Input'!$F$64=FALSE,Ranking!DO21=0),1,0))","v":0},{"$f":"IF(AND('User Input'!$F$65=TRUE,Ranking!DP21=1),1,IF(AND('User Input'!$F$65=FALSE,Ranking!DP21=0),1,0))","v":0},{"$f":"IF(AND('User Input'!$F$66=TRUE,Ranking!DQ21=1),1,IF(AND('User Input'!$F$66=FALSE,Ranking!DQ21=0),1,0))","v":0},{"$f":"IF(AND('User Input'!$F$67=TRUE,Ranking!DR21=1),1,IF(AND('User Input'!$F$67=FALSE,Ranking!DR21=0),1,0))","v":0},{"$f":"IF(Ranking!CV21=\"Y\",1,IF(AND('User Input'!$G$38='User Input'!$G$14,Ranking!CV21=\"N\"),1,0))","v":0},{"$f":"IF(OR(Ranking!DG21=\"Y\",'User Input'!$H$38='User Input'!$H$14),1,IF(AND('User Input'!$H$38='User Input'!$H$13,Ranking!DG21=\"Y\"),1,0))","v":0},{"$f":"IF(AND('User Input'!$B$52='User Input'!$B$23,Ranking!CL21<'User Input'!$A$23),1,0)","v":0},{"$f":"IF(AND('User Input'!$B$52='User Input'!$B$24,Ranking!CL21<'User Input'!$A$24),1,0)","v":0},{"$f":"IF(AND('User Input'!$B$52='User Input'!$B$25,Ranking!CL21<'User Input'!$A$25),1,0)","v":1},{"$f":"IF(AND('User Input'!$B$52='User Input'!$B$26,Ranking!CL21<'User Input'!$A$26),1,0)","v":0},{"$f":"IF('User Input'!$B$52='User Input'!$B$27,1,0)","v":0},{"$f":"IF(AND('User Input'!$C$52='User Input'!$C$23,CE21=1),1,0)","v":0},{"$f":"IF(CD21=1,0,IF(AND('User Input'!$C$52='User Input'!$C$24,Ranking!CF21=1),1,0))","v":0},{"$f":"IF(CE21=1,0,IF(AND('User Input'!$C$52='User Input'!$C$25,Ranking!CG21=1),1,0))","v":0},{"$f":"IF(CF21=1,0,IF(AND('User Input'!$C$52='User Input'!$C$26,Ranking!CH21=1),1,0))","v":0},{"$f":"IF(CG21=1,0,IF(AND('User Input'!$C$52='User Input'!$C$27,Ranking!CI21=1),1,0))","v":0},{"$f":"IF(AND('User Input'!$D$52='User Input'!$D$23,Ranking!CJ21>5000),1,0)","v":0},{"$f":"IF('User Input'!$E$52='User Input'!$E$25,1,IF(AND('User Input'!$E$52='User Input'!$E$23,Ranking!CM21=1),1,IF(AND('User Input'!$E$52='User Input'!$E$24,Ranking!CM21=0),1,0)))","v":0},{"$f":"IF(AND('User Input'!$F$52='User Input'!$F$23,Ranking!DS21=1),1,0)","v":0},{"$f":"IF(AND('User Input'!$F$52='User Input'!$F$24,Ranking!DT21=1),1,0)","v":0},{"$f":"IF(AND('User Input'!$F$52='User Input'!$F$25,Ranking!DU21=1),1,0)","v":0},{"$f":"IF('User Input'!$G$52='User Input'!$G$24,1,IF(AND('User Input'!$G$52='User Input'!$G$23,DH21=\"Y\"),1,0))","v":0},{"$f":"IF('User Input'!$H$52='User Input'!$H$23,1,IF(AND('User Input'!$H$52='User Input'!$H$24,Ranking!BK21<>\"Video\"),1,0))","v":1},{"$f":"IF(AND('User Input'!$I$52='User Input'!$I$23,Ranking!DV21=1),1,0)","v":0},{"$f":"IF(AND('User Input'!$I$52='User Input'!$I$24,Ranking!DW21=1),1,0)","v":0},{"$f":"IF(AND('User Input'!$I$52='User Input'!$I$25,Ranking!DX21=1),1,0)","v":0},{"$f":"IF('User Input'!$J$52='User Input'!$J$23,1,IF(AND('User Input'!$J$52='User Input'!$J$24,Ranking!DY21=0),1,0))","v":1},{"$f":"IF('User Input'!$K$52='User Input'!$K$24,1,IF(AND('User Input'!$K$52='User Input'!$K$23,Ranking!CO21=1),1,0))","v":0},null,null,"Placeholder"]
[{"$f":"IF(AND('User Input'!$D$35='User Input'!$D$6,Ranking!BN22=1),1,0)","v":0},{"$f":"IF(AND('User Input'!$D$35='User Input'!$D$7,Ranking!BO22=1),1,0)","v":0},{"$f":"IF(AND('User Input'!$D$35='User Input'!$D$8,Ranking!BP22=1),1,0)","v":0},{"$f":"IF(AND('User Input'!$F$35='User Input'!$F$7,Ranking!BQ22=1),1,0)","v":0},{"$f":"IF(AND('User Input'!$F$35='User Input'!$F$6,Ranking!BR22=1),1,0)","v":0},{"$f":"IF(AND('User Input'!$F$35='User Input'!$F$8,Ranking!BS22=1),1,0)","v":0},{"$f":"IF(AND('User Input'!$F$35='User Input'!$F$9,Ranking!BT22=1),1,0)","v":0},{"$f":"IF(AND('User Input'!$F$35='User Input'!$F$10,Ranking!BU22=1),1,0)","v":0},{"$f":"IF(BV22=0,1,IF(AND(BV22=1,'User Input'!$G$35='User Input'!$G$6),0,IF(AND(BV22=1,'User Input'!$G$35='User Input'!$G$7),1,0)))","v":1},{"$f":"IF(BW22=0,1,IF(AND(BW22=1,'User Input'!$H$35='User Input'!$H$6),1,IF(AND(BW22=1,'User Input'!$H$35='User Input'!$H$7),0)))","v":1},{"$f":"IF('User Input'!$I$35='User Input'!$I$6,1,IF(AND('User Input'!$I$35='User Input'!$I$7,Ranking!BX22=0),1,0))","v":1},{"$f":"IF('User Input'!$K$35='User Input'!$K$7,1,IF(AND(OR('User Input'!$K$35='User Input'!$K$6,'User Input'!$K$35='User Input'!$K$8),Ranking!$CZ22=\"Y\"),1,0))","v":0},{"$f":"IF(AND('User Input'!$B$38='User Input'!$B$13,Ranking!CA22=1),1,0)","v":0},{"$f":"IF(AND('User Input'!$B$38='User Input'!$B$14,Ranking!CB22=1),1,0)","v":0},{"$f":"IF(AND('User Input'!$B$38='User Input'!$B$15,Ranking!CC22=1),1,0)","v":0},{"$f":"IF(AND('User Input'!$C$38='User Input'!$C$13,DA22=1),1,0)","v":0},{"$f":"IF(AND('User Input'!$C$38='User Input'!$C$14,Ranking!DB22=1),1,0)","v":0},{"$f":"IF(AND('User Input'!$C$38='User Input'!$C$15,Ranking!DC22=1),1,0)","v":0},{"$f":"IF(AND('User Input'!$C$38='User Input'!$C$16,Ranking!DD22=1),1,0)","v":0},{"$f":"IF(AND('User Input'!$C$38='User Input'!$C$17,Ranking!DE22=1),1,0)","v":0},{"$f":"IF(AND('User Input'!$C$38='User Input'!$C$18,Ranking!DF22=1),1,0)","v":0},{"$f":"IF('User Input'!$I$38='User Input'!$I$13,1,IF(AND('User Input'!$I$38='User Input'!$I34,Ranking!$BY22>0.8),1,IF(AND('User Input'!$I$38='User Input'!$I$15,Ranking!$BY22>0.9),1,IF(AND('User Input'!$I$38='User Input'!$D$16,Ranking!$BY22>0.95),1,0))))","v":0},{"$f":"IF('User Input'!$D$38='User Input'!$D$13,1,IF(AND('User Input'!$D$38='User Input'!$D$14,Ranking!$BZ22>0.8),1,IF(AND('User Input'!$D$38='User Input'!$D$15,Ranking!$BZ22>0.9),1,IF(AND('User Input'!$D$38='User Input'!$D$16,Ranking!$BZ22>0.95),1,0))))","v":0},{"$f":"IF(AND('User Input'!$E$38='User Input'!$E$13,Ranking!DF22=1),1,0)","v":0},{"$f":"IF(AND('User Input'!$F$58=TRUE,Ranking!DI22=1),1,IF(AND('User Input'!$F$58=FALSE,Ranking!DI22=0),1,0))","v":0},{"$f":"IF(AND('User Input'!$F$59=TRUE,Ranking!DJ22=1),1,IF(AND('User Input'!$F$59=FALSE,Ranking!DJ22=0),1,0))","v":1},{"$f":"IF(AND('User Input'!$F$60=TRUE,Ranking!DK22=1),1,IF(AND('User Input'!$F$60=FALSE,Ranking!DK22=0),1,0))","v":1},{"$f":"IF(AND('User Input'!$F$61=TRUE,Ranking!DL22=1),1,IF(AND('User Input'!$F$61=FALSE,Ranking!DL22=0),1,0))","v":0},{"$f":"IF(AND('User Input'!$F$62=TRUE,Ranking!DM22=1),1,IF(AND('User Input'!$F$62=FALSE,Ranking!DM22=0),1,0))","v":0},{"$f":"IF(AND('User Input'!$F$63=TRUE,Ranking!DN22=1),1,IF(AND('User Input'!$F$63=FALSE,Ranking!DN22=0),1,0))","v":0},{"$f":"IF(AND('User Input'!$F$64=TRUE,Ranking!DO22=1),1,IF(AND('User Input'!$F$64=FALSE,Ranking!DO22=0),1,0))","v":0},{"$f":"IF(AND('User Input'!$F$65=TRUE,Ranking!DP22=1),1,IF(AND('User Input'!$F$65=FALSE,Ranking!DP22=0),1,0))","v":0},{"$f":"IF(AND('User Input'!$F$66=TRUE,Ranking!DQ22=1),1,IF(AND('User Input'!$F$66=FALSE,Ranking!DQ22=0),1,0))","v":0},{"$f":"IF(AND('User Input'!$F$67=TRUE,Ranking!DR22=1),1,IF(AND('User Input'!$F$67=FALSE,Ranking!DR22=0),1,0))","v":0},{"$f":"IF(Ranking!CV22=\"Y\",1,IF(AND('User Input'!$G$38='User Input'!$G$14,Ranking!CV22=\"N\"),1,0))","v":0},{"$f":"IF(OR(Ranking!DG22=\"Y\",'User Input'!$H$38='User Input'!$H$14),1,IF(AND('User Input'!$H$38='User Input'!$H$13,Ranking!DG22=\"Y\"),1,0))","v":0},{"$f":"IF(AND('User Input'!$B$52='User Input'!$B$23,Ranking!CL22<'User Input'!$A$23),1,0)","v":0},{"$f":"IF(AND('User Input'!$B$52='User Input'!$B$24,Ranking!CL22<'User Input'!$A$24),1,0)","v":0},{"$f":"IF(AND('User Input'!$B$52='User Input'!$B$25,Ranking!CL22<'User Input'!$A$25),1,0)","v":1},{"$f":"IF(AND('User Input'!$B$52='User Input'!$B$26,Ranking!CL22<'User Input'!$A$26),1,0)","v":0},{"$f":"IF('User Input'!$B$52='User Input'!$B$27,1,0)","v":0},{"$f":"IF(AND('User Input'!$C$52='User Input'!$C$23,CE22=1),1,0)","v":0},{"$f":"IF(CD22=1,0,IF(AND('User Input'!$C$52='User Input'!$C$24,Ranking!CF22=1),1,0))","v":0},{"$f":"IF(CE22=1,0,IF(AND('User Input'!$C$52='User Input'!$C$25,Ranking!CG22=1),1,0))","v":0},{"$f":"IF(CF22=1,0,IF(AND('User Input'!$C$52='User Input'!$C$26,Ranking!CH22=1),1,0))","v":0},{"$f":"IF(CG22=1,0,IF(AND('User Input'!$C$52='User Input'!$C$27,Ranking!CI22=1),1,0))","v":0},{"$f":"IF(AND('User Input'!$D$52='User Input'!$D$23,Ranking!CJ22>5000),1,0)","v":0},{"$f":"IF('User Input'!$E$52='User Input'!$E$25,1,IF(AND('User Input'!$E$52='User Input'!$E$23,Ranking!CM22=1),1,IF(AND('User Input'!$E$52='User Input'!$E$24,Ranking!CM22=0),1,0)))","v":0},{"$f":"IF(AND('User Input'!$F$52='User Input'!$F$23,Ranking!DS22=1),1,0)","v":0},{"$f":"IF(AND('User Input'!$F$52='User Input'!$F$24,Ranking!DT22=1),1,0)","v":0},{"$f":"IF(AND('User Input'!$F$52='User Input'!$F$25,Ranking!DU22=1),1,0)","v":0},{"$f":"IF('User Input'!$G$52='User Input'!$G$24,1,IF(AND('User Input'!$G$52='User Input'!$G$23,DH22=\"Y\"),1,0))","v":0},{"$f":"IF('User Input'!$H$52='User Input'!$H$23,1,IF(AND('User Input'!$H$52='User Input'!$H$24,Ranking!BK22<>\"Video\"),1,0))","v":1},{"$f":"IF(AND('User Input'!$I$52='User Input'!$I$23,Ranking!DV22=1),1,0)","v":0},{"$f":"IF(AND('User Input'!$I$52='User Input'!$I$24,Ranking!DW22=1),1,0)","v":0},{"$f":"IF(AND('User Input'!$I$52='User Input'!$I$25,Ranking!DX22=1),1,0)","v":0},{"$f":"IF('User Input'!$J$52='User Input'!$J$23,1,IF(AND('User Input'!$J$52='User Input'!$J$24,Ranking!DY22=0),1,0))","v":1},{"$f":"IF('User Input'!$K$52='User Input'!$K$24,1,IF(AND('User Input'!$K$52='User Input'!$K$23,Ranking!CO22=1),1,0))","v":0},null,null,"Placeholder"]
[{"$f":"IF(AND('User Input'!$D$35='User Input'!$D$6,Ranking!BN23=1),1,0)","v":0},{"$f":"IF(AND('User Input'!$D$35='User Input'!$D$7,Ranking!BO23=1),1,0)","v":0},{"$f":"IF(AND('User Input'!$D$35='User Input'!$D$8,Ranking!BP23=1),1,0)","v":0},{"$f":"IF(AND('User Input'!$F$35='User Input'!$F$7,Ranking!BQ23=1),1,0)","v":0},{"$f":"IF(AND('User Input'!$F$35='User Input'!$F$6,Ranking!BR23=1),1,0)","v":0},{"$f":"IF(AND('User Input'!$F$35='User Input'!$F$8,Ranking!BS23=1),1,0)","v":0},{"$f":"IF(AND('User Input'!$F$35='User Input'!$F$9,Ranking!BT23=1),1,0)","v":0},{"$f":"IF(AND('User Input'!$F$35='User Input'!$F$10,Ranking!BU23=1),1,0)","v":0},{"$f":"IF(BV23=0,1,IF(AND(BV23=1,'User Input'!$G$35='User Input'!$G$6),0,IF(AND(BV23=1,'User Input'!$G$35='User Input'!$G$7),1,0)))","v":1},{"$f":"IF(BW23=0,1,IF(AND(BW23=1,'User Input'!$H$35='User Input'!$H$6),1,IF(AND(BW23=1,'User Input'!$H$35='User Input'!$H$7),0)))","v":1},{"$f":"IF('User Input'!$I$35='User Input'!$I$6,1,IF(AND('User Input'!$I$35='User Input'!$I$7,Ranking!BX23=0),1,0))","v":1},{"$f":"IF('User Input'!$K$35='User Input'!$K$7,1,IF(AND(OR('User Input'!$K$35='User Input'!$K$6,'User Input'!$K$35='User Input'!$K$8),Ranking!$CZ23=\"Y\"),1,0))","v":0},{"$f":"IF(AND('User Input'!$B$38='User Input'!$B$13,Ranking!CA23=1),1,0)","v":0},{"$f":"IF(AND('User Input'!$B$38='User Input'!$B$14,Ranking!CB23=1),1,0)","v":0},{"$f":"IF(AND('User Input'!$B$38='User Input'!$B$15,Ranking!CC23=1),1,0)","v":0},{"$f":"IF(AND('User Input'!$C$38='User Input'!$C$13,DA23=1),1,0)","v":0},{"$f":"IF(AND('User Input'!$C$38='User Input'!$C$14,Ranking!DB23=1),1,0)","v":0},{"$f":"IF(AND('User Input'!$C$38='User Input'!$C$15,Ranking!DC23=1),1,0)","v":0},{"$f":"IF(AND('User Input'!$C$38='User Input'!$C$16,Ranking!DD23=1),1,0)","v":0},{"$f":"IF(AND('User Input'!$C$38='User Input'!$C$17,Ranking!DE23=1),1,0)","v":0},{"$f":"IF(AND('User Input'!$C$38='User Input'!$C$18,Ranking!DF23=1),1,0)","v":0},{"$f":"IF('User Input'!$I$38='User Input'!$I$13,1,IF(AND('User Input'!$I$38='User Input'!$I35,Ranking!$BY23>0.8),1,IF(AND('User Input'!$I$38='User Input'!$I$15,Ranking!$BY23>0.9),1,IF(AND('User Input'!$I$38='User Input'!$D$16,Ranking!$BY23>0.95),1,0))))","v":0},{"$f":"IF('User Input'!$D$38='User Input'!$D$13,1,IF(AND('User Input'!$D$38='User Input'!$D$14,Ranking!$BZ23>0.8),1,IF(AND('User Input'!$D$38='User Input'!$D$15,Ranking!$BZ23>0.9),1,IF(AND('User Input'!$D$38='User Input'!$D$16,Ranking!$BZ23>0.95),1,0))))","v":0},{"$f":"IF(AND('User Input'!$E$38='User Input'!$E$13,Ranking!DF23=1),1,0)","v":0},{"$f":"IF(AND('User Input'!$F$58=TRUE,Ranking!DI23=1),1,IF(AND('User Input'!$F$58=FALSE,Ranking!DI23=0),1,0))","v":0},{"$f":"IF(AND('User Input'!$F$59=TRUE,Ranking!DJ23=1),1,IF(AND('User Input'!$F$59=FALSE,Ranking!DJ23=0),1,0))","v":1},{"$f":"IF(AND('User Input'!$F$60=TRUE,Ranking!DK23=1),1,IF(AND('User Input'!$F$60=FALSE,Ranking!DK23=0),1,0))","v":1},{"$f":"IF(AND('User Input'!$F$61=TRUE,Ranking!DL23=1),1,IF(AND('User Input'!$F$61=FALSE,Ranking!DL23=0),1,0))","v":0},{"$f":"IF(AND('User Input'!$F$62=TRUE,Ranking!DM23=1),1,IF(AND('User Input'!$F$62=FALSE,Ranking!DM23=0),1,0))","v":0},{"$f":"IF(AND('User Input'!$F$63=TRUE,Ranking!DN23=1),1,IF(AND('User Input'!$F$63=FALSE,Ranking!DN23=0),1,0))","v":0},{"$f":"IF(AND('User Input'!$F$64=TRUE,Ranking!DO23=1),1,IF(AND('User Input'!$F$64=FALSE,Ranking!DO23=0),1,0))","v":0},{"$f":"IF(AND('User Input'!$F$65=TRUE,Ranking!DP23=1),1,IF(AND('User Input'!$F$65=FALSE,Ranking!DP23=0),1,0))","v":0},{"$f":"IF(AND('User Input'!$F$66=TRUE,Ranking!DQ23=1),1,IF(AND('User Input'!$F$66=FALSE,Ranking!DQ23=0),1,0))","v":0},{"$f":"IF(AND('User Input'!$F$67=TRUE,Ranking!DR23=1),1,IF(AND('User Input'!$F$67=FALSE,Ranking!DR23=0),1,0))","v":0},{"$f":"IF(Ranking!CV23=\"Y\",1,IF(AND('User Input'!$G$38='User Input'!$G$14,Ranking!CV23=\"N\"),1,0))","v":0},{"$f":"IF(OR(Ranking!DG23=\"Y\",'User Input'!$H$38='User Input'!$H$14),1,IF(AND('User Input'!$H$38='User Input'!$H$13,Ranking!DG23=\"Y\"),1,0))","v":0},{"$f":"IF(AND('User Input'!$B$52='User Input'!$B$23,Ranking!CL23<'User Input'!$A$23),1,0)","v":0},{"$f":"IF(AND('User Input'!$B$52='User Input'!$B$24,Ranking!CL23<'User Input'!$A$24),1,0)","v":0},{"$f":"IF(AND('User Input'!$B$52='User Input'!$B$25,Ranking!CL23<'User Input'!$A$25),1,0)","v":1},{"$f":"IF(AND('User Input'!$B$52='User Input'!$B$26,Ranking!CL23<'User Input'!$A$26),1,0)","v":0},{"$f":"IF('User Input'!$B$52='User Input'!$B$27,1,0)","v":0},{"$f":"IF(AND('User Input'!$C$52='User Input'!$C$23,CE23=1),1,0)","v":0},{"$f":"IF(CD23=1,0,IF(AND('User Input'!$C$52='User Input'!$C$24,Ranking!CF23=1),1,0))","v":0},{"$f":"IF(CE23=1,0,IF(AND('User Input'!$C$52='User Input'!$C$25,Ranking!CG23=1),1,0))","v":0},{"$f":"IF(CF23=1,0,IF(AND('User Input'!$C$52='User Input'!$C$26,Ranking!CH23=1),1,0))","v":0},{"$f":"IF(CG23=1,0,IF(AND('User Input'!$C$52='User Input'!$C$27,Ranking!CI23=1),1,0))","v":0},{"$f":"IF(AND('User Input'!$D$52='User Input'!$D$23,Ranking!CJ23>5000),1,0)","v":0},{"$f":"IF('User Input'!$E$52='User Input'!$E$25,1,IF(AND('User Input'!$E$52='User Input'!$E$23,Ranking!CM23=1),1,IF(AND('User Input'!$E$52='User Input'!$E$24,Ranking!CM23=0),1,0)))","v":0},{"$f":"IF(AND('User Input'!$F$52='User Input'!$F$23,Ranking!DS23=1),1,0)","v":0},{"$f":"IF(AND('User Input'!$F$52='User Input'!$F$24,Ranking!DT23=1),1,0)","v":0},{"$f":"IF(AND('User Input'!$F$52='User Input'!$F$25,Ranking!DU23=1),1,0)","v":0},{"$f":"IF('User Input'!$G$52='User Input'!$G$24,1,IF(AND('User Input'!$G$52='User Input'!$G$23,DH23=\"Y\"),1,0))","v":0},{"$f":"IF('User Input'!$H$52='User Input'!$H$23,1,IF(AND('User Input'!$H$52='User Input'!$H$24,Ranking!BK23<>\"Video\"),1,0))","v":1},{"$f":"IF(AND('User Input'!$I$52='User Input'!$I$23,Ranking!DV23=1),1,0)","v":0},{"$f":"IF(AND('User Input'!$I$52='User Input'!$I$24,Ranking!DW23=1),1,0)","v":0},{"$f":"IF(AND('User Input'!$I$52='User Input'!$I$25,Ranking!DX23=1),1,0)","v":0},{"$f":"IF('User Input'!$J$52='User Input'!$J$23,1,IF(AND('User Input'!$J$52='User Input'!$J$24,Ranking!DY23=0),1,0))","v":1},{"$f":"IF('User Input'!$K$52='User Input'!$K$24,1,IF(AND('User Input'!$K$52='User Input'!$K$23,Ranking!CO23=1),1,0))","v":0},null,null,"Placeholder"]
[{"$f":"IF(AND('User Input'!$D$35='User Input'!$D$6,Ranking!BN24=1),1,0)","v":0},{"$f":"IF(AND('User Input'!$D$35='User Input'!$D$7,Ranking!BO24=1),1,0)","v":0},{"$f":"IF(AND('User Input'!$D$35='User Input'!$D$8,Ranking!BP24=1),1,0)","v":0},{"$f":"IF(AND('User Input'!$F$35='User Input'!$F$7,Ranking!BQ24=1),1,0)","v":0},{"$f":"IF(AND('User Input'!$F$35='User Input'!$F$6,Ranking!BR24=1),1,0)","v":0},{"$f":"IF(AND('User Input'!$F$35='User Input'!$F$8,Ranking!BS24=1),1,0)","v":0},{"$f":"IF(AND('User Input'!$F$35='User Input'!$F$9,Ranking!BT24=1),1,0)","v":0},{"$f":"IF(AND('User Input'!$F$35='User Input'!$F$10,Ranking!BU24=1),1,0)","v":0},{"$f":"IF(BV24=0,1,IF(AND(BV24=1,'User Input'!$G$35='User Input'!$G$6),0,IF(AND(BV24=1,'User Input'!$G$35='User Input'!$G$7),1,0)))","v":1},{"$f":"IF(BW24=0,1,IF(AND(BW24=1,'User Input'!$H$35='User Input'!$H$6),1,IF(AND(BW24=1,'User Input'!$H$35='User Input'!$H$7),0)))","v":1},{"$f":"IF('User Input'!$I$35='User Input'!$I$6,1,IF(AND('User Input'!$I$35='User Input'!$I$7,Ranking!BX24=0),1,0))","v":1},{"$f":"IF('User Input'!$K$35='User Input'!$K$7,1,IF(AND(OR('User Input'!$K$35='User Input'!$K$6,'User Input'!$K$35='User Input'!$K$8),Ranking!$CZ24=\"Y\"),1,0))","v":0},{"$f":"IF(AND('User Input'!$B$38='User Input'!$B$13,Ranking!CA24=1),1,0)","v":0},{"$f":"IF(AND('User Input'!$B$38='User Input'!$B$14,Ranking!CB24=1),1,0)","v":0},{"$f":"IF(AND('User Input'!$B$38='User Input'!$B$15,Ranking!CC24=1),1,0)","v":0},{"$f":"IF(AND('User Input'!$C$38='User Input'!$C$13,DA24=1),1,0)","v":0},{"$f":"IF(AND('User Input'!$C$38='User Input'!$C$14,Ranking!DB24=1),1,0)","v":0},{"$f":"IF(AND('User Input'!$C$38='User Input'!$C$15,Ranking!DC24=1),1,0)","v":0},{"$f":"IF(AND('User Input'!$C$38='User Input'!$C$16,Ranking!DD24=1),1,0)","v":0},{"$f":"IF(AND('User Input'!$C$38='User Input'!$C$17,Ranking!DE24=1),1,0)","v":0},{"$f":"IF(AND('User Input'!$C$38='User Input'!$C$18,Ranking!DF24=1),1,0)","v":0},{"$f":"IF('User Input'!$I$38='User Input'!$I$13,1,IF(AND('User Input'!$I$38='User Input'!$I36,Ranking!$BY24>0.8),1,IF(AND('User Input'!$I$38='User Input'!$I$15,Ranking!$BY24>0.9),1,IF(AND('User Input'!$I$38='User Input'!$D$16,Ranking!$BY24>0.95),1,0))))","v":0},{"$f":"IF('User Input'!$D$38='User Input'!$D$13,1,IF(AND('User Input'!$D$38='User Input'!$D$14,Ranking!$BZ24>0.8),1,IF(AND('User Input'!$D$38='User Input'!$D$15,Ranking!$BZ24>0.9),1,IF(AND('User Input'!$D$38='User Input'!$D$16,Ranking!$BZ24>0.95),1,0))))","v":0},{"$f":"IF(AND('User Input'!$E$38='User Input'!$E$13,Ranking!DF24=1),1,0)","v":0},{"$f":"IF(AND('User Input'!$F$58=TRUE,Ranking!DI24=1),1,IF(AND('User Input'!$F$58=FALSE,Ranking!DI24=0),1,0))","v":0},{"$f":"IF(AND('User Input'!$F$59=TRUE,Ranking!DJ24=1),1,IF(AND('User Input'!$F$59=FALSE,Ranking!DJ24=0),1,0))","v":1},{"$f":"IF(AND('User Input'!$F$60=TRUE,Ranking!DK24=1),1,IF(AND('User Input'!$F$60=FALSE,Ranking!DK24=0),1,0))","v":1},{"$f":"IF(AND('User Input'!$F$61=TRUE,Ranking!DL24=1),1,IF(AND('User Input'!$F$61=FALSE,Ranking!DL24=0),1,0))","v":0},{"$f":"IF(AND('User Input'!$F$62=TRUE,Ranking!DM24=1),1,IF(AND('User Input'!$F$62=FALSE,Ranking!DM24=0),1,0))","v":0},{"$f":"IF(AND('User Input'!$F$63=TRUE,Ranking!DN24=1),1,IF(AND('User Input'!$F$63=FALSE,Ranking!DN24=0),1,0))","v":0},{"$f":"IF(AND('User Input'!$F$64=TRUE,Ranking!DO24=1),1,IF(AND('User Input'!$F$64=FALSE,Ranking!DO24=0),1,0))","v":0},{"$f":"IF(AND('User Input'!$F$65=TRUE,Ranking!DP24=1),1,IF(AND('User Input'!$F$65=FALSE,Ranking!DP24=0),1,0))","v":0},{"$f":"IF(AND('User Input'!$F$66=TRUE,Ranking!DQ24=1),1,IF(AND('User Input'!$F$66=FALSE,Ranking!DQ24=0),1,0))","v":0},{"$f":"IF(AND('User Input'!$F$67=TRUE,Ranking!DR24=1),1,IF(AND('User Input'!$F$67=FALSE,Ranking!DR24=0),1,0))","v":0},{"$f":"IF(Ranking!CV24=\"Y\",1,IF(AND('User Input'!$G$38='User Input'!$G$14,Ranking!CV24=\"N\"),1,0))","v":0},{"$f":"IF(OR(Ranking!DG24=\"Y\",'User Input'!$H$38='User Input'!$H$14),1,IF(AND('User Input'!$H$38='User Input'!$H$13,Ranking!DG24=\"Y\"),1,0))","v":0},{"$f":"IF(AND('User Input'!$B$52='User Input'!$B$23,Ranking!CL24<'User Input'!$A$23),1,0)","v":0},{"$f":"IF(AND('User Input'!$B$52='User Input'!$B$24,Ranking!CL24<'User Input'!$A$24),1,0)","v":0},{"$f":"IF(AND('User Input'!$B$52='User Input'!$B$25,Ranking!CL24<'User Input'!$A$25),1,0)","v":1},{"$f":"IF(AND('User Input'!$B$52='User Input'!$B$26,Ranking!CL24<'User Input'!$A$26),1,0)","v":0},{"$f":"IF('User Input'!$B$52='User Input'!$B$27,1,0)","v":0},{"$f":"IF(AND('User Input'!$C$52='User Input'!$C$23,CE24=1),1,0)","v":0},{"$f":"IF(CD24=1,0,IF(AND('User Input'!$C$52='User Input'!$C$24,Ranking!CF24=1),1,0))","v":0},{"$f":"IF(CE24=1,0,IF(AND('User Input'!$C$52='User Input'!$C$25,Ranking!CG24=1),1,0))","v":0},{"$f":"IF(CF24=1,0,IF(AND('User Input'!$C$52='User Input'!$C$26,Ranking!CH24=1),1,0))","v":0},{"$f":"IF(CG24=1,0,IF(AND('User Input'!$C$52='User Input'!$C$27,Ranking!CI24=1),1,0))","v":0},{"$f":"IF(AND('User Input'!$D$52='User Input'!$D$23,Ranking!CJ24>5000),1,0)","v":0},{"$f":"IF('User Input'!$E$52='User Input'!$E$25,1,IF(AND('User Input'!$E$52='User Input'!$E$23,Ranking!CM24=1),1,IF(AND('User Input'!$E$52='User Input'!$E$24,Ranking!CM24=0),1,0)))","v":0},{"$f":"IF(AND('User Input'!$F$52='User Input'!$F$23,Ranking!DS24=1),1,0)","v":0},{"$f":"IF(AND('User Input'!$F$52='User Input'!$F$24,Ranking!DT24=1),1,0)","v":0},{"$f":"IF(AND('User Input'!$F$52='User Input'!$F$25,Ranking!DU24=1),1,0)","v":0},{"$f":"IF('User Input'!$G$52='User Input'!$G$24,1,IF(AND('User Input'!$G$52='User Input'!$G$23,DH24=\"Y\"),1,0))","v":0},{"$f":"IF('User Input'!$H$52='User Input'!$H$23,1,IF(AND('User Input'!$H$52='User Input'!$H$24,Ranking!BK24<>\"Video\"),1,0))","v":1},{"$f":"IF(AND('User Input'!$I$52='User Input'!$I$23,Ranking!DV24=1),1,0)","v":0},{"$f":"IF(AND('User Input'!$I$52='User Input'!$I$24,Ranking!DW24=1),1,0)","v":0},{"$f":"IF(AND('User Input'!$I$52='User Input'!$I$25,Ranking!DX24=1),1,0)","v":0},{"$f":"IF('User Input'!$J$52='User Input'!$J$23,1,IF(AND('User Input'!$J$52='User Input'!$J$24,Ranking!DY24=0),1,0))","v":1},{"$f":"IF('User Input'!$K$52='User Input'!$K$24,1,IF(AND('User Input'!$K$52='User Input'!$K$23,Ranking!CO24=1),1,0))","v":0},null,null,"Placeholder"]
[{"$f":"IF(AND('User Input'!$D$35='User Input'!$D$6,Ranking!BN25=1),1,0)","v":0},{"$f":"IF(AND('User Input'!$D$35='User Input'!$D$7,Ranking!BO25=1),1,0)","v":0},{"$f":"IF(AND('User Input'!$D$35='User Input'!$D$8,Ranking!BP25=1),1,0)","v":0},{"$f":"IF(AND('User Input'!$F$35='User Input'!$F$7,Ranking!BQ25=1),1,0)","v":0},{"$f":"IF(AND('User Input'!$F$35='User Input'!$F$6,Ranking!BR25=1),1,0)","v":0},{"$f":"IF(AND('User Input'!$F$35='User Input'!$F$8,Ranking!BS25=1),1,0)","v":0},{"$f":"IF(AND('User Input'!$F$35='User Input'!$F$9,Ranking!BT25=1),1,0)","v":0},{"$f":"IF(AND('User Input'!$F$35='User Input'!$F$10,Ranking!BU25=1),1,0)","v":0},{"$f":"IF(BV25=0,1,IF(AND(BV25=1,'User Input'!$G$35='User Input'!$G$6),0,IF(AND(BV25=1,'User Input'!$G$35='User Input'!$G$7),1,0)))","v":1},{"$f":"IF(BW25=0,1,IF(AND(BW25=1,'User Input'!$H$35='User Input'!$H$6),1,IF(AND(BW25=1,'User Input'!$H$35='User Input'!$H$7),0)))","v":1},{"$f":"IF('User Input'!$I$35='User Input'!$I$6,1,IF(AND('User Input'!$I$35='User Input'!$I$7,Ranking!BX25=0),1,0))","v":1},{"$f":"IF('User Input'!$K$35='User Input'!$K$7,1,IF(AND(OR('User Input'!$K$35='User Input'!$K$6,'User Input'!$K$35='User Input'!$K$8),Ranking!$CZ25=\"Y\"),1,0))","v":0},{"$f":"IF(AND('User Input'!$B$38='User Input'!$B$13,Ranking!CA25=1),1,0)","v":0},{"$f":"IF(AND('User Input'!$B$38='User Input'!$B$14,Ranking!CB25=1),1,0)","v":0},{"$f":"IF(AND('User Input'!$B$38='User Input'!$B$15,Ranking!CC25=1),1,0)","v":0},{"$f":"IF(AND('User Input'!$C$38='User Input'!$C$13,DA25=1),1,0)","v":0},{"$f":"IF(AND('User Input'!$C$38='User Input'!$C$14,Ranking!DB25=1),1,0)","v":0},{"$f":"IF(AND('User Input'!$C$38='User Input'!$C$15,Ranking!DC25=1),1,0)","v":0},{"$f":"IF(AND('User Input'!$C$38='User Input'!$C$16,Ranking!DD25=1),1,0)","v":0},{"$f":"IF(AND('User Input'!$C$38='User Input'!$C$17,Ranking!DE25=1),1,0)","v":0},{"$f":"IF(AND('User Input'!$C$38='User Input'!$C$18,Ranking!DF25=1),1,0)","v":0},{"$f":"IF('User Input'!$I$38='User Input'!$I$13,1,IF(AND('User Input'!$I$38='User Input'!$I37,Ranking!$BY25>0.8),1,IF(AND('User Input'!$I$38='User Input'!$I$15,Ranking!$BY25>0.9),1,IF(AND('User Input'!$I$38='User Input'!$D$16,Ranking!$BY25>0.95),1,0))))","v":0},{"$f":"IF('User Input'!$D$38='User Input'!$D$13,1,IF(AND('User Input'!$D$38='User Input'!$D$14,Ranking!$BZ25>0.8),1,IF(AND('User Input'!$D$38='User Input'!$D$15,Ranking!$BZ25>0.9),1,IF(AND('User Input'!$D$38='User Input'!$D$16,Ranking!$BZ25>0.95),1,0))))","v":0},{"$f":"IF(AND('User Input'!$E$38='User Input'!$E$13,Ranking!DF25=1),1,0)","v":0},{"$f":"IF(AND('User Input'!$F$58=TRUE,Ranking!DI25=1),1,IF(AND('User Input'!$F$58=FALSE,Ranking!DI25=0),1,0))","v":0},{"$f":"IF(AND('User Input'!$F$59=TRUE,Ranking!DJ25=1),1,IF(AND('User Input'!$F$59=FALSE,Ranking!DJ25=0),1,0))","v":1},{"$f":"IF(AND('User Input'!$F$60=TRUE,Ranking!DK25=1),1,IF(AND('User Input'!$F$60=FALSE,Ranking!DK25=0),1,0))","v":1},{"$f":"IF(AND('User Input'!$F$61=TRUE,Ranking!DL25=1),1,IF(AND('User Input'!$F$61=FALSE,Ranking!DL25=0),1,0))","v":0},{"$f":"IF(AND('User Input'!$F$62=TRUE,Ranking!DM25=1),1,IF(AND('User Input'!$F$62=FALSE,Ranking!DM25=0),1,0))","v":0},{"$f":"IF(AND('User Input'!$F$63=TRUE,Ranking!DN25=1),1,IF(AND('User Input'!$F$63=FALSE,Ranking!DN25=0),1,0))","v":0},{"$f":"IF(AND('User Input'!$F$64=TRUE,Ranking!DO25=1),1,IF(AND('User Input'!$F$64=FALSE,Ranking!DO25=0),1,0))","v":0},{"$f":"IF(AND('User Input'!$F$65=TRUE,Ranking!DP25=1),1,IF(AND('User Input'!$F$65=FALSE,Ranking!DP25=0),1,0))","v":0},{"$f":"IF(AND('User Input'!$F$66=TRUE,Ranking!DQ25=1),1,IF(AND('User Input'!$F$66=FALSE,Ranking!DQ25=0),1,0))","v":0},{"$f":"IF(AND('User Input'!$F$67=TRUE,Ranking!DR25=1),1,IF(AND('User Input'!$F$67=FALSE,Ranking!DR25=0),1,0))","v":0},{"$f":"IF(Ranking!CV25=\"Y\",1,IF(AND('User Input'!$G$38='User Input'!$G$14,Ranking!CV25=\"N\"),1,0))","v":0},{"$f":"IF(OR(Ranking!DG25=\"Y\",'User Input'!$H$38='User Input'!$H$14),1,IF(AND('User Input'!$H$38='User Input'!$H$13,Ranking!DG25=\"Y\"),1,0))","v":0},{"$f":"IF(AND('User Input'!$B$52='User Input'!$B$23,Ranking!CL25<'User Input'!$A$23),1,0)","v":0},{"$f":"IF(AND('User Input'!$B$52='User Input'!$B$24,Ranking!CL25<'User Input'!$A$24),1,0)","v":0},{"$f":"IF(AND('User Input'!$B$52='User Input'!$B$25,Ranking!CL25<'User Input'!$A$25),1,0)","v":1},{"$f":"IF(AND('User Input'!$B$52='User Input'!$B$26,Ranking!CL25<'User Input'!$A$26),1,0)","v":0},{"$f":"IF('User Input'!$B$52='User Input'!$B$27,1,0)","v":0},{"$f":"IF(AND('User Input'!$C$52='User Input'!$C$23,CE25=1),1,0)","v":0},{"$f":"IF(CD25=1,0,IF(AND('User Input'!$C$52='User Input'!$C$24,Ranking!CF25=1),1,0))","v":0},{"$f":"IF(CE25=1,0,IF(AND('User Input'!$C$52='User Input'!$C$25,Ranking!CG25=1),1,0))","v":0},{"$f":"IF(CF25=1,0,IF(AND('User Input'!$C$52='User Input'!$C$26,Ranking!CH25=1),1,0))","v":0},{"$f":"IF(CG25=1,0,IF(AND('User Input'!$C$52='User Input'!$C$27,Ranking!CI25=1),1,0))","v":0},{"$f":"IF(AND('User Input'!$D$52='User Input'!$D$23,Ranking!CJ25>5000),1,0)","v":0},{"$f":"IF('User Input'!$E$52='User Input'!$E$25,1,IF(AND('User Input'!$E$52='User Input'!$E$23,Ranking!CM25=1),1,IF(AND('User Input'!$E$52='User Input'!$E$24,Ranking!CM25=0),1,0)))","v":0},{"$f":"IF(AND('User Input'!$F$52='User Input'!$F$23,Ranking!DS25=1),1,0)","v":0},{"$f":"IF(AND('User Input'!$F$52='User Input'!$F$24,Ranking!DT25=1),1,0)","v":0},{"$f":"IF(AND('User Input'!$F$52='User Input'!$F$25,Ranking!DU25=1),1,0)","v":0},{"$f":"IF('User Input'!$G$52='User Input'!$G$24,1,IF(AND('User Input'!$G$52='User Input'!$G$23,DH25=\"Y\"),1,0))","v":0},{"$f":"IF('User Input'!$H$52='User Input'!$H$23,1,IF(AND('User Input'!$H$52='User Input'!$H$24,Ranking!BK25<>\"Video\"),1,0))","v":1},{"$f":"IF(AND('User Input'!$I$52='User Input'!$I$23,Ranking!DV25=1),1,0)","v":0},{"$f":"IF(AND('User Input'!$I$52='User Input'!$I$24,Ranking!DW25=1),1,0)","v":0},{"$f":"IF(AND('User Input'!$I$52='User Input'!$I$25,Ranking!DX25=1),1,0)","v":0},{"$f":"IF('User Input'!$J$52='User Input'!$J$23,1,IF(AND('User Input'!$J$52='User Input'!$J$24,Ranking!DY25=0),1,0))","v":1},{"$f":"IF('User Input'!$K$52='User Input'!$K$24,1,IF(AND('User Input'!$K$52='User Input'!$K$23,Ranking!CO25=1),1,0))","v":0},null,null,"Placeholder"]
[{"$f":"IF(AND('User Input'!$D$35='User Input'!$D$6,Ranking!BN26=1),1,0)","v":0},{"$f":"IF(AND('User Input'!$D$35='User Input'!$D$7,Ranking!BO26=1),1,0)","v":0},{"$f":"IF(AND('User Input'!$D$35='User Input'!$D$8,Ranking!BP26=1),1,0)","v":0},{"$f":"IF(AND('User Input'!$F$35='User Input'!$F$7,Ranking!BQ26=1),1,0)","v":0},{"$f":"IF(AND('User Input'!$F$35='User Input'!$F$6,Ranking!BR26=1),1,0)","v":0},{"$f":"IF(AND('User Input'!$F$35='User Input'!$F$8,Ranking!BS26=1),1,0)","v":0},{"$f":"IF(AND('User Input'!$F$35='User Input'!$F$9,Ranking!BT26=1),1,0)","v":0},{"$f":"IF(AND('User Input'!$F$35='User Input'!$F$10,Ranking!BU26=1),1,0)","v":0},{"$f":"IF(BV26=0,1,IF(AND(BV26=1,'User Input'!$G$35='User Input'!$G$6),0,IF(AND(BV26=1,'User Input'!$G$35='User Input'!$G$7),1,0)))","v":1},{"$f":"IF(BW26=0,1,IF(AND(BW26=1,'User Input'!$H$35='User Input'!$H$6),1,IF(AND(BW26=1,'User Input'!$H$35='User Input'!$H$7),0)))","v":1},{"$f":"IF('User Input'!$I$35='User Input'!$I$6,1,IF(AND('User Input'!$I$35='User Input'!$I$7,Ranking!BX26=0),1,0))","v":1},{"$f":"IF('User Input'!$K$35='User Input'!$K$7,1,IF(AND(OR('User Input'!$K$35='User Input'!$K$6,'User Input'!$K$35='User Input'!$K$8),Ranking!$CZ26=\"Y\"),1,0))","v":0},{"$f":"IF(AND('User Input'!$B$38='User Input'!$B$13,Ranking!CA26=1),1,0)","v":0},{"$f":"IF(AND('User Input'!$B$38='User Input'!$B$14,Ranking!CB26=1),1,0)","v":0},{"$f":"IF(AND('User Input'!$B$38='User Input'!$B$15,Ranking!CC26=1),1,0)","v":0},{"$f":"IF(AND('User Input'!$C$38='User Input'!$C$13,DA26=1),1,0)","v":0},{"$f":"IF(AND('User Input'!$C$38='User Input'!$C$14,Ranking!DB26=1),1,0)","v":0},{"$f":"IF(AND('User Input'!$C$38='User Input'!$C$15,Ranking!DC26=1),1,0)","v":0},{"$f":"IF(AND('User Input'!$C$38='User Input'!$C$16,Ranking!DD26=1),1,0)","v":0},{"$f":"IF(AND('User Input'!$C$38='User Input'!$C$17,Ranking!DE26=1),1,0)","v":0},{"$f":"IF(AND('User Input'!$C$38='User Input'!$C$18,Ranking!DF26=1),1,0)","v":0},{"$f":"IF('User Input'!$I$38='User Input'!$I$13,1,IF(AND('User Input'!$I$38='User Input'!$I38,Ranking!$BY26>0.8),1,IF(AND('User Input'!$I$38='User Input'!$I$15,Ranking!$BY26>0.9),1,IF(AND('User Input'!$I$38='User Input'!$D$16,Ranking!$BY26>0.95),1,0))))","v":0},{"$f":"IF('User Input'!$D$38='User Input'!$D$13,1,IF(AND('User Input'!$D$38='User Input'!$D$14,Ranking!$BZ26>0.8),1,IF(AND('User Input'!$D$38='User Input'!$D$15,Ranking!$BZ26>0.9),1,IF(AND('User Input'!$D$38='User Input'!$D$16,Ranking!$BZ26>0.95),1,0))))","v":0},{"$f":"IF(AND('User Input'!$E$38='User Input'!$E$13,Ranking!DF26=1),1,0)","v":0},{"$f":"IF(AND('User Input'!$F$58=TRUE,Ranking!DI26=1),1,IF(AND('User Input'!$F$58=FALSE,Ranking!DI26=0),1,0))","v":0},{"$f":"IF(AND('User Input'!$F$59=TRUE,Ranking!DJ26=1),1,IF(AND('User Input'!$F$59=FALSE,Ranking!DJ26=0),1,0))","v":1},{"$f":"IF(AND('User Input'!$F$60=TRUE,Ranking!DK26=1),1,IF(AND('User Input'!$F$60=FALSE,Ranking!DK26=0),1,0))","v":1},{"$f":"IF(AND('User Input'!$F$61=TRUE,Ranking!DL26=1),1,IF(AND('User Input'!$F$61=FALSE,Ranking!DL26=0),1,0))","v":0},{"$f":"IF(AND('User Input'!$F$62=TRUE,Ranking!DM26=1),1,IF(AND('User Input'!$F$62=FALSE,Ranking!DM26=0),1,0))","v":0},{"$f":"IF(AND('User Input'!$F$63=TRUE,Ranking!DN26=1),1,IF(AND('User Input'!$F$63=FALSE,Ranking!DN26=0),1,0))","v":0},{"$f":"IF(AND('User Input'!$F$64=TRUE,Ranking!DO26=1),1,IF(AND('User Input'!$F$64=FALSE,Ranking!DO26=0),1,0))","v":0},{"$f":"IF(AND('User Input'!$F$65=TRUE,Ranking!DP26=1),1,IF(AND('User Input'!$F$65=FALSE,Ranking!DP26=0),1,0))","v":0},{"$f":"IF(AND('User Input'!$F$66=TRUE,Ranking!DQ26=1),1,IF(AND('User Input'!$F$66=FALSE,Ranking!DQ26=0),1,0))","v":0},{"$f":"IF(AND('User Input'!$F$67=TRUE,Ranking!DR26=1),1,IF(AND('User Input'!$F$67=FALSE,Ranking!DR26=0),1,0))","v":0},{"$f":"IF(Ranking!CV26=\"Y\",1,IF(AND('User Input'!$G$38='User Input'!$G$14,Ranking!CV26=\"N\"),1,0))","v":0},{"$f":"IF(OR(Ranking!DG26=\"Y\",'User Input'!$H$38='User Input'!$H$14),1,IF(AND('User Input'!$H$38='User Input'!$H$13,Ranking!DG26=\"Y\"),1,0))","v":0},{"$f":"IF(AND('User Input'!$B$52='User Input'!$B$23,Ranking!CL26<'User Input'!$A$23),1,0)","v":0},{"$f":"IF(AND('User Input'!$B$52='User Input'!$B$24,Ranking!CL26<'User Input'!$A$24),1,0)","v":0},{"$f":"IF(AND('User Input'!$B$52='User Input'!$B$25,Ranking!CL26<'User Input'!$A$25),1,0)","v":1},{"$f":"IF(AND('User Input'!$B$52='User Input'!$B$26,Ranking!CL26<'User Input'!$A$26),1,0)","v":0},{"$f":"IF('User Input'!$B$52='User Input'!$B$27,1,0)","v":0},{"$f":"IF(AND('User Input'!$C$52='User Input'!$C$23,CE26=1),1,0)","v":0},{"$f":"IF(CD26=1,0,IF(AND('User Input'!$C$52='User Input'!$C$24,Ranking!CF26=1),1,0))","v":0},{"$f":"IF(CE26=1,0,IF(AND('User Input'!$C$52='User Input'!$C$25,Ranking!CG26=1),1,0))","v":0},{"$f":"IF(CF26=1,0,IF(AND('User Input'!$C$52='User Input'!$C$26,Ranking!CH26=1),1,0))","v":0},{"$f":"IF(CG26=1,0,IF(AND('User Input'!$C$52='User Input'!$C$27,Ranking!CI26=1),1,0))","v":0},{"$f":"IF(AND('User Input'!$D$52='User Input'!$D$23,Ranking!CJ26>5000),1,0)","v":0},{"$f":"IF('User Input'!$E$52='User Input'!$E$25,1,IF(AND('User Input'!$E$52='User Input'!$E$23,Ranking!CM26=1),1,IF(AND('User Input'!$E$52='User Input'!$E$24,Ranking!CM26=0),1,0)))","v":0},{"$f":"IF(AND('User Input'!$F$52='User Input'!$F$23,Ranking!DS26=1),1,0)","v":0},{"$f":"IF(AND('User Input'!$F$52='User Input'!$F$24,Ranking!DT26=1),1,0)","v":0},{"$f":"IF(AND('User Input'!$F$52='User Input'!$F$25,Ranking!DU26=1),1,0)","v":0},{"$f":"IF('User Input'!$G$52='User Input'!$G$24,1,IF(AND('User Input'!$G$52='User Input'!$G$23,DH26=\"Y\"),1,0))","v":0},{"$f":"IF('User Input'!$H$52='User Input'!$H$23,1,IF(AND('User Input'!$H$52='User Input'!$H$24,Ranking!BK26<>\"Video\"),1,0))","v":1},{"$f":"IF(AND('User Input'!$I$52='User Input'!$I$23,Ranking!DV26=1),1,0)","v":0},{"$f":"IF(AND('User Input'!$I$52='User Input'!$I$24,Ranking!DW26=1),1,0)","v":0},{"$f":"IF(AND('User Input'!$I$52='User Input'!$I$25,Ranking!DX26=1),1,0)","v":0},{"$f":"IF('User Input'!$J$52='User Input'!$J$23,1,IF(AND('User Input'!$J$52='User Input'!$J$24,Ranking!DY26=0),1,0))","v":1},{"$f":"IF('User Input'!$K$52='User Input'!$K$24,1,IF(AND('User Input'!$K$52='User Input'!$K$23,Ranking!CO26=1),1,0))","v":0},null,null,"Placeholder"]
[{"$f":"IF(AND('User Input'!$D$35='User Input'!$D$6,Ranking!BN27=1),1,0)","v":0},{"$f":"IF(AND('User Input'!$D$35='User Input'!$D$7,Ranking!BO27=1),1,0)","v":0},{"$f":"IF(AND('User Input'!$D$35='User Input'!$D$8,Ranking!BP27=1),1,0)","v":0},{"$f":"IF(AND('User Input'!$F$35='User Input'!$F$7,Ranking!BQ27=1),1,0)","v":0},{"$f":"IF(AND('User Input'!$F$35='User Input'!$F$6,Ranking!BR27=1),1,0)","v":0},{"$f":"IF(AND('User Input'!$F$35='User Input'!$F$8,Ranking!BS27=1),1,0)","v":0},{"$f":"IF(AND('User Input'!$F$35='User Input'!$F$9,Ranking!BT27=1),1,0)","v":0},{"$f":"IF(AND('User Input'!$F$35='User Input'!$F$10,Ranking!BU27=1),1,0)","v":0},{"$f":"IF(BV27=0,1,IF(AND(BV27=1,'User Input'!$G$35='User Input'!$G$6),0,IF(AND(BV27=1,'User Input'!$G$35='User Input'!$G$7),1,0)))","v":1},{"$f":"IF(BW27=0,1,IF(AND(BW27=1,'User Input'!$H$35='User Input'!$H$6),1,IF(AND(BW27=1,'User Input'!$H$35='User Input'!$H$7),0)))","v":1},{"$f":"IF('User Input'!$I$35='User Input'!$I$6,1,IF(AND('User Input'!$I$35='User Input'!$I$7,Ranking!BX27=0),1,0))","v":1},{"$f":"IF('User Input'!$K$35='User Input'!$K$7,1,IF(AND(OR('User Input'!$K$35='User Input'!$K$6,'User Input'!$K$35='User Input'!$K$8),Ranking!$CZ27=\"Y\"),1,0))","v":0},{"$f":"IF(AND('User Input'!$B$38='User Input'!$B$13,Ranking!CA27=1),1,0)","v":0},{"$f":"IF(AND('User Input'!$B$38='User Input'!$B$14,Ranking!CB27=1),1,0)","v":0},{"$f":"IF(AND('User Input'!$B$38='User Input'!$B$15,Ranking!CC27=1),1,0)","v":0},{"$f":"IF(AND('User Input'!$C$38='User Input'!$C$13,DA27=1),1,0)","v":0},{"$f":"IF(AND('User Input'!$C$38='User Input'!$C$14,Ranking!DB27=1),1,0)","v":0},{"$f":"IF(AND('User Input'!$C$38='User Input'!$C$15,Ranking!DC27=1),1,0)","v":0},{"$f":"IF(AND('User Input'!$C$38='User Input'!$C$16,Ranking!DD27=1),1,0)","v":0},{"$f":"IF(AND('User Input'!$C$38='User Input'!$C$17,Ranking!DE27=1),1,0)","v":0},{"$f":"IF(AND('User Input'!$C$38='User Input'!$C$18,Ranking!DF27=1),1,0)","v":0},{"$f":"IF('User Input'!$I$38='User Input'!$I$13,1,IF(AND('User Input'!$I$38='User Input'!$I39,Ranking!$BY27>0.8),1,IF(AND('User Input'!$I$38='User Input'!$I$15,Ranking!$BY27>0.9),1,IF(AND('User Input'!$I$38='User Input'!$D$16,Ranking!$BY27>0.95),1,0))))","v":0},{"$f":"IF('User Input'!$D$38='User Input'!$D$13,1,IF(AND('User Input'!$D$38='User Input'!$D$14,Ranking!$BZ27>0.8),1,IF(AND('User Input'!$D$38='User Input'!$D$15,Ranking!$BZ27>0.9),1,IF(AND('User Input'!$D$38='User Input'!$D$16,Ranking!$BZ27>0.95),1,0))))","v":0},{"$f":"IF(AND('User Input'!$E$38='User Input'!$E$13,Ranking!DF27=1),1,0)","v":0},{"$f":"IF(AND('User Input'!$F$58=TRUE,Ranking!DI27=1),1,IF(AND('User Input'!$F$58=FALSE,Ranking!DI27=0),1,0))","v":0},{"$f":"IF(AND('User Input'!$F$59=TRUE,Ranking!DJ27=1),1,IF(AND('User Input'!$F$59=FALSE,Ranking!DJ27=0),1,0))","v":1},{"$f":"IF(AND('User Input'!$F$60=TRUE,Ranking!DK27=1),1,IF(AND('User Input'!$F$60=FALSE,Ranking!DK27=0),1,0))","v":1},{"$f":"IF(AND('User Input'!$F$61=TRUE,Ranking!DL27=1),1,IF(AND('User Input'!$F$61=FALSE,Ranking!DL27=0),1,0))","v":0},{"$f":"IF(AND('User Input'!$F$62=TRUE,Ranking!DM27=1),1,IF(AND('User Input'!$F$62=FALSE,Ranking!DM27=0),1,0))","v":0},{"$f":"IF(AND('User Input'!$F$63=TRUE,Ranking!DN27=1),1,IF(AND('User Input'!$F$63=FALSE,Ranking!DN27=0),1,0))","v":0},{"$f":"IF(AND('User Input'!$F$64=TRUE,Ranking!DO27=1),1,IF(AND('User Input'!$F$64=FALSE,Ranking!DO27=0),1,0))","v":0},{"$f":"IF(AND('User Input'!$F$65=TRUE,Ranking!DP27=1),1,IF(AND('User Input'!$F$65=FALSE,Ranking!DP27=0),1,0))","v":0},{"$f":"IF(AND('User Input'!$F$66=TRUE,Ranking!DQ27=1),1,IF(AND('User Input'!$F$66=FALSE,Ranking!DQ27=0),1,0))","v":0},{"$f":"IF(AND('User Input'!$F$67=TRUE,Ranking!DR27=1),1,IF(AND('User Input'!$F$67=FALSE,Ranking!DR27=0),1,0))","v":0},{"$f":"IF(Ranking!CV27=\"Y\",1,IF(AND('User Input'!$G$38='User Input'!$G$14,Ranking!CV27=\"N\"),1,0))","v":0},{"$f":"IF(OR(Ranking!DG27=\"Y\",'User Input'!$H$38='User Input'!$H$14),1,IF(AND('User Input'!$H$38='User Input'!$H$13,Ranking!DG27=\"Y\"),1,0))","v":0},{"$f":"IF(AND('User Input'!$B$52='User Input'!$B$23,Ranking!CL27<'User Input'!$A$23),1,0)","v":0},{"$f":"IF(AND('User Input'!$B$52='User Input'!$B$24,Ranking!CL27<'User Input'!$A$24),1,0)","v":0},{"$f":"IF(AND('User Input'!$B$52='User Input'!$B$25,Ranking!CL27<'User Input'!$A$25),1,0)","v":1},{"$f":"IF(AND('User Input'!$B$52='User Input'!$B$26,Ranking!CL27<'User Input'!$A$26),1,0)","v":0},{"$f":"IF('User Input'!$B$52='User Input'!$B$27,1,0)","v":0},{"$f":"IF(AND('User Input'!$C$52='User Input'!$C$23,CE27=1),1,0)","v":0},{"$f":"IF(CD27=1,0,IF(AND('User Input'!$C$52='User Input'!$C$24,Ranking!CF27=1),1,0))","v":0},{"$f":"IF(CE27=1,0,IF(AND('User Input'!$C$52='User Input'!$C$25,Ranking!CG27=1),1,0))","v":0},{"$f":"IF(CF27=1,0,IF(AND('User Input'!$C$52='User Input'!$C$26,Ranking!CH27=1),1,0))","v":0},{"$f":"IF(CG27=1,0,IF(AND('User Input'!$C$52='User Input'!$C$27,Ranking!CI27=1),1,0))","v":0},{"$f":"IF(AND('User Input'!$D$52='User Input'!$D$23,Ranking!CJ27>5000),1,0)","v":0},{"$f":"IF('User Input'!$E$52='User Input'!$E$25,1,IF(AND('User Input'!$E$52='User Input'!$E$23,Ranking!CM27=1),1,IF(AND('User Input'!$E$52='User Input'!$E$24,Ranking!CM27=0),1,0)))","v":0},{"$f":"IF(AND('User Input'!$F$52='User Input'!$F$23,Ranking!DS27=1),1,0)","v":0},{"$f":"IF(AND('User Input'!$F$52='User Input'!$F$24,Ranking!DT27=1),1,0)","v":0},{"$f":"IF(AND('User Input'!$F$52='User Input'!$F$25,Ranking!DU27=1),1,0)","v":0},{"$f":"IF('User Input'!$G$52='User Input'!$G$24,1,IF(AND('User Input'!$G$52='User Input'!$G$23,DH27=\"Y\"),1,0))","v":0},{"$f":"IF('User Input'!$H$52='User Input'!$H$23,1,IF(AND('User Input'!$H$52='User Input'!$H$24,Ranking!BK27<>\"Video\"),1,0))","v":1},{"$f":"IF(AND('User Input'!$I$52='User Input'!$I$23,Ranking!DV27=1),1,0)","v":0},{"$f":"IF(AND('User Input'!$I$52='User Input'!$I$24,Ranking!DW27=1),1,0)","v":0},{"$f":"IF(AND('User Input'!$I$52='User Input'!$I$25,Ranking!DX27=1),1,0)","v":0},{"$f":"IF('User Input'!$J$52='User Input'!$J$23,1,IF(AND('User Input'!$J$52='User Input'!$J$24,Ranking!DY27=0),1,0))","v":1},{"$f":"IF('User Input'!$K$52='User Input'!$K$24,1,IF(AND('User Input'!$K$52='User Input'!$K$23,Ranking!CO27=1),1,0))","v":0},null,null,"Placeholder"]
[{"$f":"IF(AND('User Input'!$D$35='User Input'!$D$6,Ranking!BN28=1),1,0)","v":0},{"$f":"IF(AND('User Input'!$D$35='User Input'!$D$7,Ranking!BO28=1),1,0)","v":0},{"$f":"IF(AND('User Input'!$D$35='User Input'!$D$8,Ranking!BP28=1),1,0)","v":0},{"$f":"IF(AND('User Input'!$F$35='User Input'!$F$7,Ranking!BQ28=1),1,0)","v":0},{"$f":"IF(AND('User Input'!$F$35='User Input'!$F$6,Ranking!BR28=1),1,0)","v":0},{"$f":"IF(AND('User Input'!$F$35='User Input'!$F$8,Ranking!BS28=1),1,0)","v":0},{"$f":"IF(AND('User Input'!$F$35='User Input'!$F$9,Ranking!BT28=1),1,0)","v":0},{"$f":"IF(AND('User Input'!$F$35='User Input'!$F$10,Ranking!BU28=1),1,0)","v":0},{"$f":"IF(BV28=0,1,IF(AND(BV28=1,'User Input'!$G$35='User Input'!$G$6),0,IF(AND(BV28=1,'User Input'!$G$35='User Input'!$G$7),1,0)))","v":1},{"$f":"IF(BW28=0,1,IF(AND(BW28=1,'User Input'!$H$35='User Input'!$H$6),1,IF(AND(BW28=1,'User Input'!$H$35='User Input'!$H$7),0)))","v":1},{"$f":"IF('User Input'!$I$35='User Input'!$I$6,1,IF(AND('User Input'!$I$35='User Input'!$I$7,Ranking!BX28=0),1,0))","v":1},{"$f":"IF('User Input'!$K$35='User Input'!$K$7,1,IF(AND(OR('User Input'!$K$35='User Input'!$K$6,'User Input'!$K$35='User Input'!$K$8),Ranking!$CZ28=\"Y\"),1,0))","v":0},{"$f":"IF(AND('User Input'!$B$38='User Input'!$B$13,Ranking!CA28=1),1,0)","v":0},{"$f":"IF(AND('User Input'!$B$38='User Input'!$B$14,Ranking!CB28=1),1,0)","v":0},{"$f":"IF(AND('User Input'!$B$38='User Input'!$B$15,Ranking!CC28=1),1,0)","v":0},{"$f":"IF(AND('User Input'!$C$38='User Input'!$C$13,DA28=1),1,0)","v":0},{"$f":"IF(AND('User Input'!$C$38='User Input'!$C$14,Ranking!DB28=1),1,0)","v":0},{"$f":"IF(AND('User Input'!$C$38='User Input'!$C$15,Ranking!DC28=1),1,0)","v":0},{"$f":"IF(AND('User Input'!$C$38='User Input'!$C$16,Ranking!DD28=1),1,0)","v":0},{"$f":"IF(AND('User Input'!$C$38='User Input'!$C$17,Ranking!DE28=1),1,0)","v":0},{"$f":"IF(AND('User Input'!$C$38='User Input'!$C$18,Ranking!DF28=1),1,0)","v":0},{"$f":"IF('User Input'!$I$38='User Input'!$I$13,1,IF(AND('User Input'!$I$38='User Input'!$I40,Ranking!$BY28>0.8),1,IF(AND('User Input'!$I$38='User Input'!$I$15,Ranking!$BY28>0.9),1,IF(AND('User Input'!$I$38='User Input'!$D$16,Ranking!$BY28>0.95),1,0))))","v":0},{"$f":"IF('User Input'!$D$38='User Input'!$D$13,1,IF(AND('User Input'!$D$38='User Input'!$D$14,Ranking!$BZ28>0.8),1,IF(AND('User Input'!$D$38='User Input'!$D$15,Ranking!$BZ28>0.9),1,IF(AND('User Input'!$D$38='User Input'!$D$16,Ranking!$BZ28>0.95),1,0))))","v":0},{"$f":"IF(AND('User Input'!$E$38='User Input'!$E$13,Ranking!DF28=1),1,0)","v":0},{"$f":"IF(AND('User Input'!$F$58=TRUE,Ranking!DI28=1),1,IF(AND('User Input'!$F$58=FALSE,Ranking!DI28=0),1,0))","v":0},{"$f":"IF(AND('User Input'!$F$59=TRUE,Ranking!DJ28=1),1,IF(AND('User Input'!$F$59=FALSE,Ranking!DJ28=0),1,0))","v":1},{"$f":"IF(AND('User Input'!$F$60=TRUE,Ranking!DK28=1),1,IF(AND('User Input'!$F$60=FALSE,Ranking!DK28=0),1,0))","v":1},{"$f":"IF(AND('User Input'!$F$61=TRUE,Ranking!DL28=1),1,IF(AND('User Input'!$F$61=FALSE,Ranking!DL28=0),1,0))","v":0},{"$f":"IF(AND('User Input'!$F$62=TRUE,Ranking!DM28=1),1,IF(AND('User Input'!$F$62=FALSE,Ranking!DM28=0),1,0))","v":0},{"$f":"IF(AND('User Input'!$F$63=TRUE,Ranking!DN28=1),1,IF(AND('User Input'!$F$63=FALSE,Ranking!DN28=0),1,0))","v":0},{"$f":"IF(AND('User Input'!$F$64=TRUE,Ranking!DO28=1),1,IF(AND('User Input'!$F$64=FALSE,Ranking!DO28=0),1,0))","v":0},{"$f":"IF(AND('User Input'!$F$65=TRUE,Ranking!DP28=1),1,IF(AND('User Input'!$F$65=FALSE,Ranking!DP28=0),1,0))","v":0},{"$f":"IF(AND('User Input'!$F$66=TRUE,Ranking!DQ28=1),1,IF(AND('User Input'!$F$66=FALSE,Ranking!DQ28=0),1,0))","v":0},{"$f":"IF(AND('User Input'!$F$67=TRUE,Ranking!DR28=1),1,IF(AND('User Input'!$F$67=FALSE,Ranking!DR28=0),1,0))","v":0},{"$f":"IF(Ranking!CV28=\"Y\",1,IF(AND('User Input'!$G$38='User Input'!$G$14,Ranking!CV28=\"N\"),1,0))","v":0},{"$f":"IF(OR(Ranking!DG28=\"Y\",'User Input'!$H$38='User Input'!$H$14),1,IF(AND('User Input'!$H$38='User Input'!$H$13,Ranking!DG28=\"Y\"),1,0))","v":0},{"$f":"IF(AND('User Input'!$B$52='User Input'!$B$23,Ranking!CL28<'User Input'!$A$23),1,0)","v":0},{"$f":"IF(AND('User Input'!$B$52='User Input'!$B$24,Ranking!CL28<'User Input'!$A$24),1,0)","v":0},{"$f":"IF(AND('User Input'!$B$52='User Input'!$B$25,Ranking!CL28<'User Input'!$A$25),1,0)","v":1},{"$f":"IF(AND('User Input'!$B$52='User Input'!$B$26,Ranking!CL28<'User Input'!$A$26),1,0)","v":0},{"$f":"IF('User Input'!$B$52='User Input'!$B$27,1,0)","v":0},{"$f":"IF(AND('User Input'!$C$52='User Input'!$C$23,CE28=1),1,0)","v":0},{"$f":"IF(CD28=1,0,IF(AND('User Input'!$C$52='User Input'!$C$24,Ranking!CF28=1),1,0))","v":0},{"$f":"IF(CE28=1,0,IF(AND('User Input'!$C$52='User Input'!$C$25,Ranking!CG28=1),1,0))","v":0},{"$f":"IF(CF28=1,0,IF(AND('User Input'!$C$52='User Input'!$C$26,Ranking!CH28=1),1,0))","v":0},{"$f":"IF(CG28=1,0,IF(AND('User Input'!$C$52='User Input'!$C$27,Ranking!CI28=1),1,0))","v":0},{"$f":"IF(AND('User Input'!$D$52='User Input'!$D$23,Ranking!CJ28>5000),1,0)","v":0},{"$f":"IF('User Input'!$E$52='User Input'!$E$25,1,IF(AND('User Input'!$E$52='User Input'!$E$23,Ranking!CM28=1),1,IF(AND('User Input'!$E$52='User Input'!$E$24,Ranking!CM28=0),1,0)))","v":0},{"$f":"IF(AND('User Input'!$F$52='User Input'!$F$23,Ranking!DS28=1),1,0)","v":0},{"$f":"IF(AND('User Input'!$F$52='User Input'!$F$24,Ranking!DT28=1),1,0)","v":0},{"$f":"IF(AND('User Input'!$F$52='User Input'!$F$25,Ranking!DU28=1),1,0)","v":0},{"$f":"IF('User Input'!$G$52='User Input'!$G$24,1,IF(AND('User Input'!$G$52='User Input'!$G$23,DH28=\"Y\"),1,0))","v":0},{"$f":"IF('User Input'!$H$52='User Input'!$H$23,1,IF(AND('User Input'!$H$52='User Input'!$H$24,Ranking!BK28<>\"Video\"),1,0))","v":1},{"$f":"IF(AND('User Input'!$I$52='User Input'!$I$23,Ranking!DV28=1),1,0)","v":0},{"$f":"IF(AND('User Input'!$I$52='User Input'!$I$24,Ranking!DW28=1),1,0)","v":0},{"$f":"IF(AND('User Input'!$I$52='User Input'!$I$25,Ranking!DX28=1),1,0)","v":0},{"$f":"IF('User Input'!$J$52='User Input'!$J$23,1,IF(AND('User Input'!$J$52='User Input'!$J$24,Ranking!DY28=0),1,0))","v":1},{"$f":"IF('User Input'!$K$52='User Input'!$K$24,1,IF(AND('User Input'!$K$52='User Input'!$K$23,Ranking!CO28=1),1,0))","v":0},null,null,"Placeholder"]
[{"$f":"IF(AND('User Input'!$D$35='User Input'!$D$6,Ranking!BN29=1),1,0)","v":0},{"$f":"IF(AND('User Input'!$D$35='User Input'!$D$7,Ranking!BO29=1),1,0)","v":0},{"$f":"IF(AND('User Input'!$D$35='User Input'!$D$8,Ranking!BP29=1),1,0)","v":0},{"$f":"IF(AND('User Input'!$F$35='User Input'!$F$7,Ranking!BQ29=1),1,0)","v":0},{"$f":"IF(AND('User Input'!$F$35='User Input'!$F$6,Ranking!BR29=1),1,0)","v":0},{"$f":"IF(AND('User Input'!$F$35='User Input'!$F$8,Ranking!BS29=1),1,0)","v":0},{"$f":"IF(AND('User Input'!$F$35='User Input'!$F$9,Ranking!BT29=1),1,0)","v":0},{"$f":"IF(AND('User Input'!$F$35='User Input'!$F$10,Ranking!BU29=1),1,0)","v":0},{"$f":"IF(BV29=0,1,IF(AND(BV29=1,'User Input'!$G$35='User Input'!$G$6),0,IF(AND(BV29=1,'User Input'!$G$35='User Input'!$G$7),1,0)))","v":1},{"$f":"IF(BW29=0,1,IF(AND(BW29=1,'User Input'!$H$35='User Input'!$H$6),1,IF(AND(BW29=1,'User Input'!$H$35='User Input'!$H$7),0)))","v":1},{"$f":"IF('User Input'!$I$35='User Input'!$I$6,1,IF(AND('User Input'!$I$35='User Input'!$I$7,Ranking!BX29=0),1,0))","v":1},{"$f":"IF('User Input'!$K$35='User Input'!$K$7,1,IF(AND(OR('User Input'!$K$35='User Input'!$K$6,'User Input'!$K$35='User Input'!$K$8),Ranking!$CZ29=\"Y\"),1,0))","v":0},{"$f":"IF(AND('User Input'!$B$38='User Input'!$B$13,Ranking!CA29=1),1,0)","v":0},{"$f":"IF(AND('User Input'!$B$38='User Input'!$B$14,Ranking!CB29=1),1,0)","v":0},{"$f":"IF(AND('User Input'!$B$38='User Input'!$B$15,Ranking!CC29=1),1,0)","v":0},{"$f":"IF(AND('User Input'!$C$38='User Input'!$C$13,DA29=1),1,0)","v":0},{"$f":"IF(AND('User Input'!$C$38='User Input'!$C$14,Ranking!DB29=1),1,0)","v":0},{"$f":"IF(AND('User Input'!$C$38='User Input'!$C$15,Ranking!DC29=1),1,0)","v":0},{"$f":"IF(AND('User Input'!$C$38='User Input'!$C$16,Ranking!DD29=1),1,0)","v":0},{"$f":"IF(AND('User Input'!$C$38='User Input'!$C$17,Ranking!DE29=1),1,0)","v":0},{"$f":"IF(AND('User Input'!$C$38='User Input'!$C$18,Ranking!DF29=1),1,0)","v":0},{"$f":"IF('User Input'!$I$38='User Input'!$I$13,1,IF(AND('User Input'!$I$38='User Input'!$I41,Ranking!$BY29>0.8),1,IF(AND('User Input'!$I$38='User Input'!$I$15,Ranking!$BY29>0.9),1,IF(AND('User Input'!$I$38='User Input'!$D$16,Ranking!$BY29>0.95),1,0))))","v":0},{"$f":"IF('User Input'!$D$38='User Input'!$D$13,1,IF(AND('User Input'!$D$38='User Input'!$D$14,Ranking!$BZ29>0.8),1,IF(AND('User Input'!$D$38='User Input'!$D$15,Ranking!$BZ29>0.9),1,IF(AND('User Input'!$D$38='User Input'!$D$16,Ranking!$BZ29>0.95),1,0))))","v":0},{"$f":"IF(AND('User Input'!$E$38='User Input'!$E$13,Ranking!DF29=1),1,0)","v":0},{"$f":"IF(AND('User Input'!$F$58=TRUE,Ranking!DI29=1),1,IF(AND('User Input'!$F$58=FALSE,Ranking!DI29=0),1,0))","v":0},{"$f":"IF(AND('User Input'!$F$59=TRUE,Ranking!DJ29=1),1,IF(AND('User Input'!$F$59=FALSE,Ranking!DJ29=0),1,0))","v":1},{"$f":"IF(AND('User Input'!$F$60=TRUE,Ranking!DK29=1),1,IF(AND('User Input'!$F$60=FALSE,Ranking!DK29=0),1,0))","v":1},{"$f":"IF(AND('User Input'!$F$61=TRUE,Ranking!DL29=1),1,IF(AND('User Input'!$F$61=FALSE,Ranking!DL29=0),1,0))","v":0},{"$f":"IF(AND('User Input'!$F$62=TRUE,Ranking!DM29=1),1,IF(AND('User Input'!$F$62=FALSE,Ranking!DM29=0),1,0))","v":0},{"$f":"IF(AND('User Input'!$F$63=TRUE,Ranking!DN29=1),1,IF(AND('User Input'!$F$63=FALSE,Ranking!DN29=0),1,0))","v":0},{"$f":"IF(AND('User Input'!$F$64=TRUE,Ranking!DO29=1),1,IF(AND('User Input'!$F$64=FALSE,Ranking!DO29=0),1,0))","v":0},{"$f":"IF(AND('User Input'!$F$65=TRUE,Ranking!DP29=1),1,IF(AND('User Input'!$F$65=FALSE,Ranking!DP29=0),1,0))","v":0},{"$f":"IF(AND('User Input'!$F$66=TRUE,Ranking!DQ29=1),1,IF(AND('User Input'!$F$66=FALSE,Ranking!DQ29=0),1,0))","v":0},{"$f":"IF(AND('User Input'!$F$67=TRUE,Ranking!DR29=1),1,IF(AND('User Input'!$F$67=FALSE,Ranking!DR29=0),1,0))","v":0},{"$f":"IF(Ranking!CV29=\"Y\",1,IF(AND('User Input'!$G$38='User Input'!$G$14,Ranking!CV29=\"N\"),1,0))","v":0},{"$f":"IF(OR(Ranking!DG29=\"Y\",'User Input'!$H$38='User Input'!$H$14),1,IF(AND('User Input'!$H$38='User Input'!$H$13,Ranking!DG29=\"Y\"),1,0))","v":0},{"$f":"IF(AND('User Input'!$B$52='User Input'!$B$23,Ranking!CL29<'User Input'!$A$23),1,0)","v":0},{"$f":"IF(AND('User Input'!$B$52='User Input'!$B$24,Ranking!CL29<'User Input'!$A$24),1,0)","v":0},{"$f":"IF(AND('User Input'!$B$52='User Input'!$B$25,Ranking!CL29<'User Input'!$A$25),1,0)","v":1},{"$f":"IF(AND('User Input'!$B$52='User Input'!$B$26,Ranking!CL29<'User Input'!$A$26),1,0)","v":0},{"$f":"IF('User Input'!$B$52='User Input'!$B$27,1,0)","v":0},{"$f":"IF(AND('User Input'!$C$52='User Input'!$C$23,CE29=1),1,0)","v":0},{"$f":"IF(CD29=1,0,IF(AND('User Input'!$C$52='User Input'!$C$24,Ranking!CF29=1),1,0))","v":0},{"$f":"IF(CE29=1,0,IF(AND('User Input'!$C$52='User Input'!$C$25,Ranking!CG29=1),1,0))","v":0},{"$f":"IF(CF29=1,0,IF(AND('User Input'!$C$52='User Input'!$C$26,Ranking!CH29=1),1,0))","v":0},{"$f":"IF(CG29=1,0,IF(AND('User Input'!$C$52='User Input'!$C$27,Ranking!CI29=1),1,0))","v":0},{"$f":"IF(AND('User Input'!$D$52='User Input'!$D$23,Ranking!CJ29>5000),1,0)","v":0},{"$f":"IF('User Input'!$E$52='User Input'!$E$25,1,IF(AND('User Input'!$E$52='User Input'!$E$23,Ranking!CM29=1),1,IF(AND('User Input'!$E$52='User Input'!$E$24,Ranking!CM29=0),1,0)))","v":0},{"$f":"IF(AND('User Input'!$F$52='User Input'!$F$23,Ranking!DS29=1),1,0)","v":0},{"$f":"IF(AND('User Input'!$F$52='User Input'!$F$24,Ranking!DT29=1),1,0)","v":0},{"$f":"IF(AND('User Input'!$F$52='User Input'!$F$25,Ranking!DU29=1),1,0)","v":0},{"$f":"IF('User Input'!$G$52='User Input'!$G$24,1,IF(AND('User Input'!$G$52='User Input'!$G$23,DH29=\"Y\"),1,0))","v":0},{"$f":"IF('User Input'!$H$52='User Input'!$H$23,1,IF(AND('User Input'!$H$52='User Input'!$H$24,Ranking!BK29<>\"Video\"),1,0))","v":1},{"$f":"IF(AND('User Input'!$I$52='User Input'!$I$23,Ranking!DV29=1),1,0)","v":0},{"$f":"IF(AND('User Input'!$I$52='User Input'!$I$24,Ranking!DW29=1),1,0)","v":0},{"$f":"IF(AND('User Input'!$I$52='User Input'!$I$25,Ranking!DX29=1),1,0)","v":0},{"$f":"IF('User Input'!$J$52='User Input'!$J$23,1,IF(AND('User Input'!$J$52='User Input'!$J$24,Ranking!DY29=0),1,0))","v":1},{"$f":"IF('User Input'!$K$52='User Input'!$K$24,1,IF(AND('User Input'!$K$52='User Input'!$K$23,Ranking!CO29=1),1,0))","v":0},null,null,"Placeholder"]
[{"$f":"IF(AND('User Input'!$D$35='User Input'!$D$6,Ranking!BN30=1),1,0)","v":0},{"$f":"IF(AND('User Input'!$D$35='User Input'!$D$7,Ranking!BO30=1),1,0)","v":0},{"$f":"IF(AND('User Input'!$D$35='User Input'!$D$8,Ranking!BP30=1),1,0)","v":0},{"$f":"IF(AND('User Input'!$F$35='User Input'!$F$7,Ranking!BQ30=1),1,0)","v":0},{"$f":"IF(AND('User Input'!$F$35='User Input'!$F$6,Ranking!BR30=1),1,0)","v":0},{"$f":"IF(AND('User Input'!$F$35='User Input'!$F$8,Ranking!BS30=1),1,0)","v":0},{"$f":"IF(AND('User Input'!$F$35='User Input'!$F$9,Ranking!BT30=1),1,0)","v":0},{"$f":"IF(AND('User Input'!$F$35='User Input'!$F$10,Ranking!BU30=1),1,0)","v":0},{"$f":"IF(BV30=0,1,IF(AND(BV30=1,'User Input'!$G$35='User Input'!$G$6),0,IF(AND(BV30=1,'User Input'!$G$35='User Input'!$G$7),1,0)))","v":1},{"$f":"IF(BW30=0,1,IF(AND(BW30=1,'User Input'!$H$35='User Input'!$H$6),1,IF(AND(BW30=1,'User Input'!$H$35='User Input'!$H$7),0)))","v":1},{"$f":"IF('User Input'!$I$35='User Input'!$I$6,1,IF(AND('User Input'!$I$35='User Input'!$I$7,Ranking!BX30=0),1,0))","v":1},{"$f":"IF('User Input'!$K$35='User Input'!$K$7,1,IF(AND(OR('User Input'!$K$35='User Input'!$K$6,'User Input'!$K$35='User Input'!$K$8),Ranking!$CZ30=\"Y\"),1,0))","v":0},{"$f":"IF(AND('User Input'!$B$38='User Input'!$B$13,Ranking!CA30=1),1,0)","v":0},{"$f":"IF(AND('User Input'!$B$38='User Input'!$B$14,Ranking!CB30=1),1,0)","v":0},{"$f":"IF(AND('User Input'!$B$38='User Input'!$B$15,Ranking!CC30=1),1,0)","v":0},{"$f":"IF(AND('User Input'!$C$38='User Input'!$C$13,DA30=1),1,0)","v":0},{"$f":"IF(AND('User Input'!$C$38='User Input'!$C$14,Ranking!DB30=1),1,0)","v":0},{"$f":"IF(AND('User Input'!$C$38='User Input'!$C$15,Ranking!DC30=1),1,0)","v":0},{"$f":"IF(AND('User Input'!$C$38='User Input'!$C$16,Ranking!DD30=1),1,0)","v":0},{"$f":"IF(AND('User Input'!$C$38='User Input'!$C$17,Ranking!DE30=1),1,0)","v":0},{"$f":"IF(AND('User Input'!$C$38='User Input'!$C$18,Ranking!DF30=1),1,0)","v":0},{"$f":"IF('User Input'!$I$38='User Input'!$I$13,1,IF(AND('User Input'!$I$38='User Input'!$I42,Ranking!$BY30>0.8),1,IF(AND('User Input'!$I$38='User Input'!$I$15,Ranking!$BY30>0.9),1,IF(AND('User Input'!$I$38='User Input'!$D$16,Ranking!$BY30>0.95),1,0))))","v":0},{"$f":"IF('User Input'!$D$38='User Input'!$D$13,1,IF(AND('User Input'!$D$38='User Input'!$D$14,Ranking!$BZ30>0.8),1,IF(AND('User Input'!$D$38='User Input'!$D$15,Ranking!$BZ30>0.9),1,IF(AND('User Input'!$D$38='User Input'!$D$16,Ranking!$BZ30>0.95),1,0))))","v":0},{"$f":"IF(AND('User Input'!$E$38='User Input'!$E$13,Ranking!DF30=1),1,0)","v":0},{"$f":"IF(AND('User Input'!$F$58=TRUE,Ranking!DI30=1),1,IF(AND('User Input'!$F$58=FALSE,Ranking!DI30=0),1,0))","v":0},{"$f":"IF(AND('User Input'!$F$59=TRUE,Ranking!DJ30=1),1,IF(AND('User Input'!$F$59=FALSE,Ranking!DJ30=0),1,0))","v":1},{"$f":"IF(AND('User Input'!$F$60=TRUE,Ranking!DK30=1),1,IF(AND('User Input'!$F$60=FALSE,Ranking!DK30=0),1,0))","v":1},{"$f":"IF(AND('User Input'!$F$61=TRUE,Ranking!DL30=1),1,IF(AND('User Input'!$F$61=FALSE,Ranking!DL30=0),1,0))","v":0},{"$f":"IF(AND('User Input'!$F$62=TRUE,Ranking!DM30=1),1,IF(AND('User Input'!$F$62=FALSE,Ranking!DM30=0),1,0))","v":0},{"$f":"IF(AND('User Input'!$F$63=TRUE,Ranking!DN30=1),1,IF(AND('User Input'!$F$63=FALSE,Ranking!DN30=0),1,0))","v":0},{"$f":"IF(AND('User Input'!$F$64=TRUE,Ranking!DO30=1),1,IF(AND('User Input'!$F$64=FALSE,Ranking!DO30=0),1,0))","v":0},{"$f":"IF(AND('User Input'!$F$65=TRUE,Ranking!DP30=1),1,IF(AND('User Input'!$F$65=FALSE,Ranking!DP30=0),1,0))","v":0},{"$f":"IF(AND('User Input'!$F$66=TRUE,Ranking!DQ30=1),1,IF(AND('User Input'!$F$66=FALSE,Ranking!DQ30=0),1,0))","v":0},{"$f":"IF(AND('User Input'!$F$67=TRUE,Ranking!DR30=1),1,IF(AND('User Input'!$F$67=FALSE,Ranking!DR30=0),1,0))","v":0},{"$f":"IF(Ranking!CV30=\"Y\",1,IF(AND('User Input'!$G$38='User Input'!$G$14,Ranking!CV30=\"N\"),1,0))","v":0},{"$f":"IF(OR(Ranking!DG30=\"Y\",'User Input'!$H$38='User Input'!$H$14),1,IF(AND('User Input'!$H$38='User Input'!$H$13,Ranking!DG30=\"Y\"),1,0))","v":0},{"$f":"IF(AND('User Input'!$B$52='User Input'!$B$23,Ranking!CL30<'User Input'!$A$23),1,0)","v":0},{"$f":"IF(AND('User Input'!$B$52='User Input'!$B$24,Ranking!CL30<'User Input'!$A$24),1,0)","v":0},{"$f":"IF(AND('User Input'!$B$52='User Input'!$B$25,Ranking!CL30<'User Input'!$A$25),1,0)","v":1},{"$f":"IF(AND('User Input'!$B$52='User Input'!$B$26,Ranking!CL30<'User Input'!$A$26),1,0)","v":0},{"$f":"IF('User Input'!$B$52='User Input'!$B$27,1,0)","v":0},{"$f":"IF(AND('User Input'!$C$52='User Input'!$C$23,CE30=1),1,0)","v":0},{"$f":"IF(CD30=1,0,IF(AND('User Input'!$C$52='User Input'!$C$24,Ranking!CF30=1),1,0))","v":0},{"$f":"IF(CE30=1,0,IF(AND('User Input'!$C$52='User Input'!$C$25,Ranking!CG30=1),1,0))","v":0},{"$f":"IF(CF30=1,0,IF(AND('User Input'!$C$52='User Input'!$C$26,Ranking!CH30=1),1,0))","v":0},{"$f":"IF(CG30=1,0,IF(AND('User Input'!$C$52='User Input'!$C$27,Ranking!CI30=1),1,0))","v":0},{"$f":"IF(AND('User Input'!$D$52='User Input'!$D$23,Ranking!CJ30>5000),1,0)","v":0},{"$f":"IF('User Input'!$E$52='User Input'!$E$25,1,IF(AND('User Input'!$E$52='User Input'!$E$23,Ranking!CM30=1),1,IF(AND('User Input'!$E$52='User Input'!$E$24,Ranking!CM30=0),1,0)))","v":0},{"$f":"IF(AND('User Input'!$F$52='User Input'!$F$23,Ranking!DS30=1),1,0)","v":0},{"$f":"IF(AND('User Input'!$F$52='User Input'!$F$24,Ranking!DT30=1),1,0)","v":0},{"$f":"IF(AND('User Input'!$F$52='User Input'!$F$25,Ranking!DU30=1),1,0)","v":0},{"$f":"IF('User Input'!$G$52='User Input'!$G$24,1,IF(AND('User Input'!$G$52='User Input'!$G$23,DH30=\"Y\"),1,0))","v":0},{"$f":"IF('User Input'!$H$52='User Input'!$H$23,1,IF(AND('User Input'!$H$52='User Input'!$H$24,Ranking!BK30<>\"Video\"),1,0))","v":1},{"$f":"IF(AND('User Input'!$I$52='User Input'!$I$23,Ranking!DV30=1),1,0)","v":0},{"$f":"IF(AND('User Input'!$I$52='User Input'!$I$24,Ranking!DW30=1),1,0)","v":0},{"$f":"IF(AND('User Input'!$I$52='User Input'!$I$25,Ranking!DX30=1),1,0)","v":0},{"$f":"IF('User Input'!$J$52='User Input'!$J$23,1,IF(AND('User Input'!$J$52='User Input'!$J$24,Ranking!DY30=0),1,0))","v":1},{"$f":"IF('User Input'!$K$52='User Input'!$K$24,1,IF(AND('User Input'!$K$52='User Input'!$K$23,Ranking!CO30=1),1,0))","v":0},null,null,"Placeholder"]
[{"$f":"IF(AND('User Input'!$D$35='User Input'!$D$6,Ranking!BN31=1),1,0)","v":0},{"$f":"IF(AND('User Input'!$D$35='User Input'!$D$7,Ranking!BO31=1),1,0)","v":0},{"$f":"IF(AND('User Input'!$D$35='User Input'!$D$8,Ranking!BP31=1),1,0)","v":0},{"$f":"IF(AND('User Input'!$F$35='User Input'!$F$7,Ranking!BQ31=1),1,0)","v":0},{"$f":"IF(AND('User Input'!$F$35='User Input'!$F$6,Ranking!BR31=1),1,0)","v":0},{"$f":"IF(AND('User Input'!$F$35='User Input'!$F$8,Ranking!BS31=1),1,0)","v":0},{"$f":"IF(AND('User Input'!$F$35='User Input'!$F$9,Ranking!BT31=1),1,0)","v":0},{"$f":"IF(AND('User Input'!$F$35='User Input'!$F$10,Ranking!BU31=1),1,0)","v":0},{"$f":"IF(BV31=0,1,IF(AND(BV31=1,'User Input'!$G$35='User Input'!$G$6),0,IF(AND(BV31=1,'User Input'!$G$35='User Input'!$G$7),1,0)))","v":1},{"$f":"IF(BW31=0,1,IF(AND(BW31=1,'User Input'!$H$35='User Input'!$H$6),1,IF(AND(BW31=1,'User Input'!$H$35='User Input'!$H$7),0)))","v":1},{"$f":"IF('User Input'!$I$35='User Input'!$I$6,1,IF(AND('User Input'!$I$35='User Input'!$I$7,Ranking!BX31=0),1,0))","v":1},{"$f":"IF('User Input'!$K$35='User Input'!$K$7,1,IF(AND(OR('User Input'!$K$35='User Input'!$K$6,'User Input'!$K$35='User Input'!$K$8),Ranking!$CZ31=\"Y\"),1,0))","v":0},{"$f":"IF(AND('User Input'!$B$38='User Input'!$B$13,Ranking!CA31=1),1,0)","v":0},{"$f":"IF(AND('User Input'!$B$38='User Input'!$B$14,Ranking!CB31=1),1,0)","v":0},{"$f":"IF(AND('User Input'!$B$38='User Input'!$B$15,Ranking!CC31=1),1,0)","v":0},{"$f":"IF(AND('User Input'!$C$38='User Input'!$C$13,DA31=1),1,0)","v":0},{"$f":"IF(AND('User Input'!$C$38='User Input'!$C$14,Ranking!DB31=1),1,0)","v":0},{"$f":"IF(AND('User Input'!$C$38='User Input'!$C$15,Ranking!DC31=1),1,0)","v":0},{"$f":"IF(AND('User Input'!$C$38='User Input'!$C$16,Ranking!DD31=1),1,0)","v":0},{"$f":"IF(AND('User Input'!$C$38='User Input'!$C$17,Ranking!DE31=1),1,0)","v":0},{"$f":"IF(AND('User Input'!$C$38='User Input'!$C$18,Ranking!DF31=1),1,0)","v":0},{"$f":"IF('User Input'!$I$38='User Input'!$I$13,1,IF(AND('User Input'!$I$38='User Input'!$I43,Ranking!$BY31>0.8),1,IF(AND('User Input'!$I$38='User Input'!$I$15,Ranking!$BY31>0.9),1,IF(AND('User Input'!$I$38='User Input'!$D$16,Ranking!$BY31>0.95),1,0))))","v":0},{"$f":"IF('User Input'!$D$38='User Input'!$D$13,1,IF(AND('User Input'!$D$38='User Input'!$D$14,Ranking!$BZ31>0.8),1,IF(AND('User Input'!$D$38='User Input'!$D$15,Ranking!$BZ31>0.9),1,IF(AND('User Input'!$D$38='User Input'!$D$16,Ranking!$BZ31>0.95),1,0))))","v":0},{"$f":"IF(AND('User Input'!$E$38='User Input'!$E$13,Ranking!DF31=1),1,0)","v":0},{"$f":"IF(AND('User Input'!$F$58=TRUE,Ranking!DI31=1),1,IF(AND('User Input'!$F$58=FALSE,Ranking!DI31=0),1,0))","v":0},{"$f":"IF(AND('User Input'!$F$59=TRUE,Ranking!DJ31=1),1,IF(AND('User Input'!$F$59=FALSE,Ranking!DJ31=0),1,0))","v":1},{"$f":"IF(AND('User Input'!$F$60=TRUE,Ranking!DK31=1),1,IF(AND('User Input'!$F$60=FALSE,Ranking!DK31=0),1,0))","v":1},{"$f":"IF(AND('User Input'!$F$61=TRUE,Ranking!DL31=1),1,IF(AND('User Input'!$F$61=FALSE,Ranking!DL31=0),1,0))","v":0},{"$f":"IF(AND('User Input'!$F$62=TRUE,Ranking!DM31=1),1,IF(AND('User Input'!$F$62=FALSE,Ranking!DM31=0),1,0))","v":0},{"$f":"IF(AND('User Input'!$F$63=TRUE,Ranking!DN31=1),1,IF(AND('User Input'!$F$63=FALSE,Ranking!DN31=0),1,0))","v":0},{"$f":"IF(AND('User Input'!$F$64=TRUE,Ranking!DO31=1),1,IF(AND('User Input'!$F$64=FALSE,Ranking!DO31=0),1,0))","v":0},{"$f":"IF(AND('User Input'!$F$65=TRUE,Ranking!DP31=1),1,IF(AND('User Input'!$F$65=FALSE,Ranking!DP31=0),1,0))","v":0},{"$f":"IF(AND('User Input'!$F$66=TRUE,Ranking!DQ31=1),1,IF(AND('User Input'!$F$66=FALSE,Ranking!DQ31=0),1,0))","v":0},{"$f":"IF(AND('User Input'!$F$67=TRUE,Ranking!DR31=1),1,IF(AND('User Input'!$F$67=FALSE,Ranking!DR31=0),1,0))","v":0},{"$f":"IF(Ranking!CV31=\"Y\",1,IF(AND('User Input'!$G$38='User Input'!$G$14,Ranking!CV31=\"N\"),1,0))","v":0},{"$f":"IF(OR(Ranking!DG31=\"Y\",'User Input'!$H$38='User Input'!$H$14),1,IF(AND('User Input'!$H$38='User Input'!$H$13,Ranking!DG31=\"Y\"),1,0))","v":0},{"$f":"IF(AND('User Input'!$B$52='User Input'!$B$23,Ranking!CL31<'User Input'!$A$23),1,0)","v":0},{"$f":"IF(AND('User Input'!$B$52='User Input'!$B$24,Ranking!CL31<'User Input'!$A$24),1,0)","v":0},{"$f":"IF(AND('User Input'!$B$52='User Input'!$B$25,Ranking!CL31<'User Input'!$A$25),1,0)","v":1},{"$f":"IF(AND('User Input'!$B$52='User Input'!$B$26,Ranking!CL31<'User Input'!$A$26),1,0)","v":0},{"$f":"IF('User Input'!$B$52='User Input'!$B$27,1,0)","v":0},{"$f":"IF(AND('User Input'!$C$52='User Input'!$C$23,CE31=1),1,0)","v":0},{"$f":"IF(CD31=1,0,IF(AND('User Input'!$C$52='User Input'!$C$24,Ranking!CF31=1),1,0))","v":0},{"$f":"IF(CE31=1,0,IF(AND('User Input'!$C$52='User Input'!$C$25,Ranking!CG31=1),1,0))","v":0},{"$f":"IF(CF31=1,0,IF(AND('User Input'!$C$52='User Input'!$C$26,Ranking!CH31=1),1,0))","v":0},{"$f":"IF(CG31=1,0,IF(AND('User Input'!$C$52='User Input'!$C$27,Ranking!CI31=1),1,0))","v":0},{"$f":"IF(AND('User Input'!$D$52='User Input'!$D$23,Ranking!CJ31>5000),1,0)","v":0},{"$f":"IF('User Input'!$E$52='User Input'!$E$25,1,IF(AND('User Input'!$E$52='User Input'!$E$23,Ranking!CM31=1),1,IF(AND('User Input'!$E$52='User Input'!$E$24,Ranking!CM31=0),1,0)))","v":0},{"$f":"IF(AND('User Input'!$F$52='User Input'!$F$23,Ranking!DS31=1),1,0)","v":0},{"$f":"IF(AND('User Input'!$F$52='User Input'!$F$24,Ranking!DT31=1),1,0)","v":0},{"$f":"IF(AND('User Input'!$F$52='User Input'!$F$25,Ranking!DU31=1),1,0)","v":0},{"$f":"IF('User Input'!$G$52='User Input'!$G$24,1,IF(AND('User Input'!$G$52='User Input'!$G$23,DH31=\"Y\"),1,0))","v":0},{"$f":"IF('User Input'!$H$52='User Input'!$H$23,1,IF(AND('User Input'!$H$52='User Input'!$H$24,Ranking!BK31<>\"Video\"),1,0))","v":1},{"$f":"IF(AND('User Input'!$I$52='User Input'!$I$23,Ranking!DV31=1),1,0)","v":0},{"$f":"IF(AND('User Input'!$I$52='User Input'!$I$24,Ranking!DW31=1),1,0)","v":0},{"$f":"IF(AND('User Input'!$I$52='User Input'!$I$25,Ranking!DX31=1),1,0)","v":0},{"$f":"IF('User Input'!$J$52='User Input'!$J$23,1,IF(AND('User Input'!$J$52='User Input'!$J$24,Ranking!DY31=0),1,0))","v":1},{"$f":"IF('User Input'!$K$52='User Input'!$K$24,1,IF(AND('User Input'!$K$52='User Input'!$K$23,Ranking!CO31=1),1,0))","v":0},null,null,"Placeholder"]
[{"$f":"IF(AND('User Input'!$D$35='User Input'!$D$6,Ranking!BN32=1),1,0)","v":0},{"$f":"IF(AND('User Input'!$D$35='User Input'!$D$7,Ranking!BO32=1),1,0)","v":0},{"$f":"IF(AND('User Input'!$D$35='User Input'!$D$8,Ranking!BP32=1),1,0)","v":0},{"$f":"IF(AND('User Input'!$F$35='User Input'!$F$7,Ranking!BQ32=1),1,0)","v":0},{"$f":"IF(AND('User Input'!$F$35='User Input'!$F$6,Ranking!BR32=1),1,0)","v":0},{"$f":"IF(AND('User Input'!$F$35='User Input'!$F$8,Ranking!BS32=1),1,0)","v":0},{"$f":"IF(AND('User Input'!$F$35='User Input'!$F$9,Ranking!BT32=1),1,0)","v":0},{"$f":"IF(AND('User Input'!$F$35='User Input'!$F$10,Ranking!BU32=1),1,0)","v":0},{"$f":"IF(BV32=0,1,IF(AND(BV32=1,'User Input'!$G$35='User Input'!$G$6),0,IF(AND(BV32=1,'User Input'!$G$35='User Input'!$G$7),1,0)))","v":1},{"$f":"IF(BW32=0,1,IF(AND(BW32=1,'User Input'!$H$35='User Input'!$H$6),1,IF(AND(BW32=1,'User Input'!$H$35='User Input'!$H$7),0)))","v":1},{"$f":"IF('User Input'!$I$35='User Input'!$I$6,1,IF(AND('User Input'!$I$35='User Input'!$I$7,Ranking!BX32=0),1,0))","v":1},{"$f":"IF('User Input'!$K$35='User Input'!$K$7,1,IF(AND(OR('User Input'!$K$35='User Input'!$K$6,'User Input'!$K$35='User Input'!$K$8),Ranking!$CZ32=\"Y\"),1,0))","v":0},{"$f":"IF(AND('User Input'!$B$38='User Input'!$B$13,Ranking!CA32=1),1,0)","v":0},{"$f":"IF(AND('User Input'!$B$38='User Input'!$B$14,Ranking!CB32=1),1,0)","v":0},{"$f":"IF(AND('User Input'!$B$38='User Input'!$B$15,Ranking!CC32=1),1,0)","v":0},{"$f":"IF(AND('User Input'!$C$38='User Input'!$C$13,DA32=1),1,0)","v":0},{"$f":"IF(AND('User Input'!$C$38='User Input'!$C$14,Ranking!DB32=1),1,0)","v":0},{"$f":"IF(AND('User Input'!$C$38='User Input'!$C$15,Ranking!DC32=1),1,0)","v":0},{"$f":"IF(AND('User Input'!$C$38='User Input'!$C$16,Ranking!DD32=1),1,0)","v":0},{"$f":"IF(AND('User Input'!$C$38='User Input'!$C$17,Ranking!DE32=1),1,0)","v":0},{"$f":"IF(AND('User Input'!$C$38='User Input'!$C$18,Ranking!DF32=1),1,0)","v":0},{"$f":"IF('User Input'!$I$38='User Input'!$I$13,1,IF(AND('User Input'!$I$38='User Input'!$I44,Ranking!$BY32>0.8),1,IF(AND('User Input'!$I$38='User Input'!$I$15,Ranking!$BY32>0.9),1,IF(AND('User Input'!$I$38='User Input'!$D$16,Ranking!$BY32>0.95),1,0))))","v":0},{"$f":"IF('User Input'!$D$38='User Input'!$D$13,1,IF(AND('User Input'!$D$38='User Input'!$D$14,Ranking!$BZ32>0.8),1,IF(AND('User Input'!$D$38='User Input'!$D$15,Ranking!$BZ32>0.9),1,IF(AND('User Input'!$D$38='User Input'!$D$16,Ranking!$BZ32>0.95),1,0))))","v":0},{"$f":"IF(AND('User Input'!$E$38='User Input'!$E$13,Ranking!DF32=1),1,0)","v":0},{"$f":"IF(AND('User Input'!$F$58=TRUE,Ranking!DI32=1),1,IF(AND('User Input'!$F$58=FALSE,Ranking!DI32=0),1,0))","v":0},{"$f":"IF(AND('User Input'!$F$59=TRUE,Ranking!DJ32=1),1,IF(AND('User Input'!$F$59=FALSE,Ranking!DJ32=0),1,0))","v":1},{"$f":"IF(AND('User Input'!$F$60=TRUE,Ranking!DK32=1),1,IF(AND('User Input'!$F$60=FALSE,Ranking!DK32=0),1,0))","v":1},{"$f":"IF(AND('User Input'!$F$61=TRUE,Ranking!DL32=1),1,IF(AND('User Input'!$F$61=FALSE,Ranking!DL32=0),1,0))","v":0},{"$f":"IF(AND('User Input'!$F$62=TRUE,Ranking!DM32=1),1,IF(AND('User Input'!$F$62=FALSE,Ranking!DM32=0),1,0))","v":0},{"$f":"IF(AND('User Input'!$F$63=TRUE,Ranking!DN32=1),1,IF(AND('User Input'!$F$63=FALSE,Ranking!DN32=0),1,0))","v":0},{"$f":"IF(AND('User Input'!$F$64=TRUE,Ranking!DO32=1),1,IF(AND('User Input'!$F$64=FALSE,Ranking!DO32=0),1,0))","v":0},{"$f":"IF(AND('User Input'!$F$65=TRUE,Ranking!DP32=1),1,IF(AND('User Input'!$F$65=FALSE,Ranking!DP32=0),1,0))","v":0},{"$f":"IF(AND('User Input'!$F$66=TRUE,Ranking!DQ32=1),1,IF(AND('User Input'!$F$66=FALSE,Ranking!DQ32=0),1,0))","v":0},{"$f":"IF(AND('User Input'!$F$67=TRUE,Ranking!DR32=1),1,IF(AND('User Input'!$F$67=FALSE,Ranking!DR32=0),1,0))","v":0},{"$f":"IF(Ranking!CV32=\"Y\",1,IF(AND('User Input'!$G$38='User Input'!$G$14,Ranking!CV32=\"N\"),1,0))","v":0},{"$f":"IF(OR(Ranking!DG32=\"Y\",'User Input'!$H$38='User Input'!$H$14),1,IF(AND('User Input'!$H$38='User Input'!$H$13,Ranking!DG32=\"Y\"),1,0))","v":0},{"$f":"IF(AND('User Input'!$B$52='User Input'!$B$23,Ranking!CL32<'User Input'!$A$23),1,0)","v":0},{"$f":"IF(AND('User Input'!$B$52='User Input'!$B$24,Ranking!CL32<'User Input'!$A$24),1,0)","v":0},{"$f":"IF(AND('User Input'!$B$52='User Input'!$B$25,Ranking!CL32<'User Input'!$A$25),1,0)","v":1},{"$f":"IF(AND('User Input'!$B$52='User Input'!$B$26,Ranking!CL32<'User Input'!$A$26),1,0)","v":0},{"$f":"IF('User Input'!$B$52='User Input'!$B$27,1,0)","v":0},{"$f":"IF(AND('User Input'!$C$52='User Input'!$C$23,CE32=1),1,0)","v":0},{"$f":"IF(CD32=1,0,IF(AND('User Input'!$C$52='User Input'!$C$24,Ranking!CF32=1),1,0))","v":0},{"$f":"IF(CE32=1,0,IF(AND('User Input'!$C$52='User Input'!$C$25,Ranking!CG32=1),1,0))","v":0},{"$f":"IF(CF32=1,0,IF(AND('User Input'!$C$52='User Input'!$C$26,Ranking!CH32=1),1,0))","v":0},{"$f":"IF(CG32=1,0,IF(AND('User Input'!$C$52='User Input'!$C$27,Ranking!CI32=1),1,0))","v":0},{"$f":"IF(AND('User Input'!$D$52='User Input'!$D$23,Ranking!CJ32>5000),1,0)","v":0},{"$f":"IF('User Input'!$E$52='User Input'!$E$25,1,IF(AND('User Input'!$E$52='User Input'!$E$23,Ranking!CM32=1),1,IF(AND('User Input'!$E$52='User Input'!$E$24,Ranking!CM32=0),1,0)))","v":0},{"$f":"IF(AND('User Input'!$F$52='User Input'!$F$23,Ranking!DS32=1),1,0)","v":0},{"$f":"IF(AND('User Input'!$F$52='User Input'!$F$24,Ranking!DT32=1),1,0)","v":0},{"$f":"IF(AND('User Input'!$F$52='User Input'!$F$25,Ranking!DU32=1),1,0)","v":0},{"$f":"IF('User Input'!$G$52='User Input'!$G$24,1,IF(AND('User Input'!$G$52='User Input'!$G$23,DH32=\"Y\"),1,0))","v":0},{"$f":"IF('User Input'!$H$52='User Input'!$H$23,1,IF(AND('User Input'!$H$52='User Input'!$H$24,Ranking!BK32<>\"Video\"),1,0))","v":1},{"$f":"IF(AND('User Input'!$I$52='User Input'!$I$23,Ranking!DV32=1),1,0)","v":0},{"$f":"IF(AND('User Input'!$I$52='User Input'!$I$24,Ranking!DW32=1),1,0)","v":0},{"$f":"IF(AND('User Input'!$I$52='User Input'!$I$25,Ranking!DX32=1),1,0)","v":0},{"$f":"IF('User Input'!$J$52='User Input'!$J$23,1,IF(AND('User Input'!$J$52='User Input'!$J$24,Ranking!DY32=0),1,0))","v":1},{"$f":"IF('User Input'!$K$52='User Input'!$K$24,1,IF(AND('User Input'!$K$52='User Input'!$K$23,Ranking!CO32=1),1,0))","v":0},null,null,"Placeholder"]
[{"$f":"IF(AND('User Input'!$D$35='User Input'!$D$6,Ranking!BN33=1),1,0)","v":0},{"$f":"IF(AND('User Input'!$D$35='User Input'!$D$7,Ranking!BO33=1),1,0)","v":0},{"$f":"IF(AND('User Input'!$D$35='User Input'!$D$8,Ranking!BP33=1),1,0)","v":0},{"$f":"IF(AND('User Input'!$F$35='User Input'!$F$7,Ranking!BQ33=1),1,0)","v":0},{"$f":"IF(AND('User Input'!$F$35='User Input'!$F$6,Ranking!BR33=1),1,0)","v":0},{"$f":"IF(AND('User Input'!$F$35='User Input'!$F$8,Ranking!BS33=1),1,0)","v":0},{"$f":"IF(AND('User Input'!$F$35='User Input'!$F$9,Ranking!BT33=1),1,0)","v":0},{"$f":"IF(AND('User Input'!$F$35='User Input'!$F$10,Ranking!BU33=1),1,0)","v":0},{"$f":"IF(BV33=0,1,IF(AND(BV33=1,'User Input'!$G$35='User Input'!$G$6),0,IF(AND(BV33=1,'User Input'!$G$35='User Input'!$G$7),1,0)))","v":1},{"$f":"IF(BW33=0,1,IF(AND(BW33=1,'User Input'!$H$35='User Input'!$H$6),1,IF(AND(BW33=1,'User Input'!$H$35='User Input'!$H$7),0)))","v":1},{"$f":"IF('User Input'!$I$35='User Input'!$I$6,1,IF(AND('User Input'!$I$35='User Input'!$I$7,Ranking!BX33=0),1,0))","v":1},{"$f":"IF('User Input'!$K$35='User Input'!$K$7,1,IF(AND(OR('User Input'!$K$35='User Input'!$K$6,'User Input'!$K$35='User Input'!$K$8),Ranking!$CZ33=\"Y\"),1,0))","v":0},{"$f":"IF(AND('User Input'!$B$38='User Input'!$B$13,Ranking!CA33=1),1,0)","v":0},{"$f":"IF(AND('User Input'!$B$38='User Input'!$B$14,Ranking!CB33=1),1,0)","v":0},{"$f":"IF(AND('User Input'!$B$38='User Input'!$B$15,Ranking!CC33=1),1,0)","v":0},{"$f":"IF(AND('User Input'!$C$38='User Input'!$C$13,DA33=1),1,0)","v":0},{"$f":"IF(AND('User Input'!$C$38='User Input'!$C$14,Ranking!DB33=1),1,0)","v":0},{"$f":"IF(AND('User Input'!$C$38='User Input'!$C$15,Ranking!DC33=1),1,0)","v":0},{"$f":"IF(AND('User Input'!$C$38='User Input'!$C$16,Ranking!DD33=1),1,0)","v":0},{"$f":"IF(AND('User Input'!$C$38='User Input'!$C$17,Ranking!DE33=1),1,0)","v":0},{"$f":"IF(AND('User Input'!$C$38='User Input'!$C$18,Ranking!DF33=1),1,0)","v":0},{"$f":"IF('User Input'!$I$38='User Input'!$I$13,1,IF(AND('User Input'!$I$38='User Input'!$I45,Ranking!$BY33>0.8),1,IF(AND('User Input'!$I$38='User Input'!$I$15,Ranking!$BY33>0.9),1,IF(AND('User Input'!$I$38='User Input'!$D$16,Ranking!$BY33>0.95),1,0))))","v":0},{"$f":"IF('User Input'!$D$38='User Input'!$D$13,1,IF(AND('User Input'!$D$38='User Input'!$D$14,Ranking!$BZ33>0.8),1,IF(AND('User Input'!$D$38='User Input'!$D$15,Ranking!$BZ33>0.9),1,IF(AND('User Input'!$D$38='User Input'!$D$16,Ranking!$BZ33>0.95),1,0))))","v":0},{"$f":"IF(AND('User Input'!$E$38='User Input'!$E$13,Ranking!DF33=1),1,0)","v":0},{"$f":"IF(AND('User Input'!$F$58=TRUE,Ranking!DI33=1),1,IF(AND('User Input'!$F$58=FALSE,Ranking!DI33=0),1,0))","v":0},{"$f":"IF(AND('User Input'!$F$59=TRUE,Ranking!DJ33=1),1,IF(AND('User Input'!$F$59=FALSE,Ranking!DJ33=0),1,0))","v":1},{"$f":"IF(AND('User Input'!$F$60=TRUE,Ranking!DK33=1),1,IF(AND('User Input'!$F$60=FALSE,Ranking!DK33=0),1,0))","v":1},{"$f":"IF(AND('User Input'!$F$61=TRUE,Ranking!DL33=1),1,IF(AND('User Input'!$F$61=FALSE,Ranking!DL33=0),1,0))","v":0},{"$f":"IF(AND('User Input'!$F$62=TRUE,Ranking!DM33=1),1,IF(AND('User Input'!$F$62=FALSE,Ranking!DM33=0),1,0))","v":0},{"$f":"IF(AND('User Input'!$F$63=TRUE,Ranking!DN33=1),1,IF(AND('User Input'!$F$63=FALSE,Ranking!DN33=0),1,0))","v":0},{"$f":"IF(AND('User Input'!$F$64=TRUE,Ranking!DO33=1),1,IF(AND('User Input'!$F$64=FALSE,Ranking!DO33=0),1,0))","v":0},{"$f":"IF(AND('User Input'!$F$65=TRUE,Ranking!DP33=1),1,IF(AND('User Input'!$F$65=FALSE,Ranking!DP33=0),1,0))","v":0},{"$f":"IF(AND('User Input'!$F$66=TRUE,Ranking!DQ33=1),1,IF(AND('User Input'!$F$66=FALSE,Ranking!DQ33=0),1,0))","v":0},{"$f":"IF(AND('User Input'!$F$67=TRUE,Ranking!DR33=1),1,IF(AND('User Input'!$F$67=FALSE,Ranking!DR33=0),1,0))","v":0},{"$f":"IF(Ranking!CV33=\"Y\",1,IF(AND('User Input'!$G$38='User Input'!$G$14,Ranking!CV33=\"N\"),1,0))","v":0},{"$f":"IF(OR(Ranking!DG33=\"Y\",'User Input'!$H$38='User Input'!$H$14),1,IF(AND('User Input'!$H$38='User Input'!$H$13,Ranking!DG33=\"Y\"),1,0))","v":0},{"$f":"IF(AND('User Input'!$B$52='User Input'!$B$23,Ranking!CL33<'User Input'!$A$23),1,0)","v":0},{"$f":"IF(AND('User Input'!$B$52='User Input'!$B$24,Ranking!CL33<'User Input'!$A$24),1,0)","v":0},{"$f":"IF(AND('User Input'!$B$52='User Input'!$B$25,Ranking!CL33<'User Input'!$A$25),1,0)","v":1},{"$f":"IF(AND('User Input'!$B$52='User Input'!$B$26,Ranking!CL33<'User Input'!$A$26),1,0)","v":0},{"$f":"IF('User Input'!$B$52='User Input'!$B$27,1,0)","v":0},{"$f":"IF(AND('User Input'!$C$52='User Input'!$C$23,CE33=1),1,0)","v":0},{"$f":"IF(CD33=1,0,IF(AND('User Input'!$C$52='User Input'!$C$24,Ranking!CF33=1),1,0))","v":0},{"$f":"IF(CE33=1,0,IF(AND('User Input'!$C$52='User Input'!$C$25,Ranking!CG33=1),1,0))","v":0},{"$f":"IF(CF33=1,0,IF(AND('User Input'!$C$52='User Input'!$C$26,Ranking!CH33=1),1,0))","v":0},{"$f":"IF(CG33=1,0,IF(AND('User Input'!$C$52='User Input'!$C$27,Ranking!CI33=1),1,0))","v":0},{"$f":"IF(AND('User Input'!$D$52='User Input'!$D$23,Ranking!CJ33>5000),1,0)","v":0},{"$f":"IF('User Input'!$E$52='User Input'!$E$25,1,IF(AND('User Input'!$E$52='User Input'!$E$23,Ranking!CM33=1),1,IF(AND('User Input'!$E$52='User Input'!$E$24,Ranking!CM33=0),1,0)))","v":0},{"$f":"IF(AND('User Input'!$F$52='User Input'!$F$23,Ranking!DS33=1),1,0)","v":0},{"$f":"IF(AND('User Input'!$F$52='User Input'!$F$24,Ranking!DT33=1),1,0)","v":0},{"$f":"IF(AND('User Input'!$F$52='User Input'!$F$25,Ranking!DU33=1),1,0)","v":0},{"$f":"IF('User Input'!$G$52='User Input'!$G$24,1,IF(AND('User Input'!$G$52='User Input'!$G$23,DH33=\"Y\"),1,0))","v":0},{"$f":"IF('User Input'!$H$52='User Input'!$H$23,1,IF(AND('User Input'!$H$52='User Input'!$H$24,Ranking!BK33<>\"Video\"),1,0))","v":1},{"$f":"IF(AND('User Input'!$I$52='User Input'!$I$23,Ranking!DV33=1),1,0)","v":0},{"$f":"IF(AND('User Input'!$I$52='User Input'!$I$24,Ranking!DW33=1),1,0)","v":0},{"$f":"IF(AND('User Input'!$I$52='User Input'!$I$25,Ranking!DX33=1),1,0)","v":0},{"$f":"IF('User Input'!$J$52='User Input'!$J$23,1,IF(AND('User Input'!$J$52='User Input'!$J$24,Ranking!DY33=0),1,0))","v":1},{"$f":"IF('User Input'!$K$52='User Input'!$K$24,1,IF(AND('User Input'!$K$52='User Input'!$K$23,Ranking!CO33=1),1,0))","v":0},null,null,"Placeholder"]
[{"$f":"IF(AND('User Input'!$D$35='User Input'!$D$6,Ranking!BN34=1),1,0)","v":0},{"$f":"IF(AND('User Input'!$D$35='User Input'!$D$7,Ranking!BO34=1),1,0)","v":0},{"$f":"IF(AND('User Input'!$D$35='User Input'!$D$8,Ranking!BP34=1),1,0)","v":0},{"$f":"IF(AND('User Input'!$F$35='User Input'!$F$7,Ranking!BQ34=1),1,0)","v":0},{"$f":"IF(AND('User Input'!$F$35='User Input'!$F$6,Ranking!BR34=1),1,0)","v":0},{"$f":"IF(AND('User Input'!$F$35='User Input'!$F$8,Ranking!BS34=1),1,0)","v":0},{"$f":"IF(AND('User Input'!$F$35='User Input'!$F$9,Ranking!BT34=1),1,0)","v":0},{"$f":"IF(AND('User Input'!$F$35='User Input'!$F$10,Ranking!BU34=1),1,0)","v":0},{"$f":"IF(BV34=0,1,IF(AND(BV34=1,'User Input'!$G$35='User Input'!$G$6),0,IF(AND(BV34=1,'User Input'!$G$35='User Input'!$G$7),1,0)))","v":1},{"$f":"IF(BW34=0,1,IF(AND(BW34=1,'User Input'!$H$35='User Input'!$H$6),1,IF(AND(BW34=1,'User Input'!$H$35='User Input'!$H$7),0)))","v":1},{"$f":"IF('User Input'!$I$35='User Input'!$I$6,1,IF(AND('User Input'!$I$35='User Input'!$I$7,Ranking!BX34=0),1,0))","v":1},{"$f":"IF('User Input'!$K$35='User Input'!$K$7,1,IF(AND(OR('User Input'!$K$35='User Input'!$K$6,'User Input'!$K$35='User Input'!$K$8),Ranking!$CZ34=\"Y\"),1,0))","v":0},{"$f":"IF(AND('User Input'!$B$38='User Input'!$B$13,Ranking!CA34=1),1,0)","v":0},{"$f":"IF(AND('User Input'!$B$38='User Input'!$B$14,Ranking!CB34=1),1,0)","v":0},{"$f":"IF(AND('User Input'!$B$38='User Input'!$B$15,Ranking!CC34=1),1,0)","v":0},{"$f":"IF(AND('User Input'!$C$38='User Input'!$C$13,DA34=1),1,0)","v":0},{"$f":"IF(AND('User Input'!$C$38='User Input'!$C$14,Ranking!DB34=1),1,0)","v":0},{"$f":"IF(AND('User Input'!$C$38='User Input'!$C$15,Ranking!DC34=1),1,0)","v":0},{"$f":"IF(AND('User Input'!$C$38='User Input'!$C$16,Ranking!DD34=1),1,0)","v":0},{"$f":"IF(AND('User Input'!$C$38='User Input'!$C$17,Ranking!DE34=1),1,0)","v":0},{"$f":"IF(AND('User Input'!$C$38='User Input'!$C$18,Ranking!DF34=1),1,0)","v":0},{"$f":"IF('User Input'!$I$38='User Input'!$I$13,1,IF(AND('User Input'!$I$38='User Input'!$I46,Ranking!$BY34>0.8),1,IF(AND('User Input'!$I$38='User Input'!$I$15,Ranking!$BY34>0.9),1,IF(AND('User Input'!$I$38='User Input'!$D$16,Ranking!$BY34>0.95),1,0))))","v":0},{"$f":"IF('User Input'!$D$38='User Input'!$D$13,1,IF(AND('User Input'!$D$38='User Input'!$D$14,Ranking!$BZ34>0.8),1,IF(AND('User Input'!$D$38='User Input'!$D$15,Ranking!$BZ34>0.9),1,IF(AND('User Input'!$D$38='User Input'!$D$16,Ranking!$BZ34>0.95),1,0))))","v":0},{"$f":"IF(AND('User Input'!$E$38='User Input'!$E$13,Ranking!DF34=1),1,0)","v":0},{"$f":"IF(AND('User Input'!$F$58=TRUE,Ranking!DI34=1),1,IF(AND('User Input'!$F$58=FALSE,Ranking!DI34=0),1,0))","v":0},{"$f":"IF(AND('User Input'!$F$59=TRUE,Ranking!DJ34=1),1,IF(AND('User Input'!$F$59=FALSE,Ranking!DJ34=0),1,0))","v":1},{"$f":"IF(AND('User Input'!$F$60=TRUE,Ranking!DK34=1),1,IF(AND('User Input'!$F$60=FALSE,Ranking!DK34=0),1,0))","v":1},{"$f":"IF(AND('User Input'!$F$61=TRUE,Ranking!DL34=1),1,IF(AND('User Input'!$F$61=FALSE,Ranking!DL34=0),1,0))","v":0},{"$f":"IF(AND('User Input'!$F$62=TRUE,Ranking!DM34=1),1,IF(AND('User Input'!$F$62=FALSE,Ranking!DM34=0),1,0))","v":0},{"$f":"IF(AND('User Input'!$F$63=TRUE,Ranking!DN34=1),1,IF(AND('User Input'!$F$63=FALSE,Ranking!DN34=0),1,0))","v":0},{"$f":"IF(AND('User Input'!$F$64=TRUE,Ranking!DO34=1),1,IF(AND('User Input'!$F$64=FALSE,Ranking!DO34=0),1,0))","v":0},{"$f":"IF(AND('User Input'!$F$65=TRUE,Ranking!DP34=1),1,IF(AND('User Input'!$F$65=FALSE,Ranking!DP34=0),1,0))","v":0},{"$f":"IF(AND('User Input'!$F$66=TRUE,Ranking!DQ34=1),1,IF(AND('User Input'!$F$66=FALSE,Ranking!DQ34=0),1,0))","v":0},{"$f":"IF(AND('User Input'!$F$67=TRUE,Ranking!DR34=1),1,IF(AND('User Input'!$F$67=FALSE,Ranking!DR34=0),1,0))","v":0},{"$f":"IF(Ranking!CV34=\"Y\",1,IF(AND('User Input'!$G$38='User Input'!$G$14,Ranking!CV34=\"N\"),1,0))","v":0},{"$f":"IF(OR(Ranking!DG34=\"Y\",'User Input'!$H$38='User Input'!$H$14),1,IF(AND('User Input'!$H$38='User Input'!$H$13,Ranking!DG34=\"Y\"),1,0))","v":0},{"$f":"IF(AND('User Input'!$B$52='User Input'!$B$23,Ranking!CL34<'User Input'!$A$23),1,0)","v":0},{"$f":"IF(AND('User Input'!$B$52='User Input'!$B$24,Ranking!CL34<'User Input'!$A$24),1,0)","v":0},{"$f":"IF(AND('User Input'!$B$52='User Input'!$B$25,Ranking!CL34<'User Input'!$A$25),1,0)","v":1},{"$f":"IF(AND('User Input'!$B$52='User Input'!$B$26,Ranking!CL34<'User Input'!$A$26),1,0)","v":0},{"$f":"IF('User Input'!$B$52='User Input'!$B$27,1,0)","v":0},{"$f":"IF(AND('User Input'!$C$52='User Input'!$C$23,CE34=1),1,0)","v":0},{"$f":"IF(CD34=1,0,IF(AND('User Input'!$C$52='User Input'!$C$24,Ranking!CF34=1),1,0))","v":0},{"$f":"IF(CE34=1,0,IF(AND('User Input'!$C$52='User Input'!$C$25,Ranking!CG34=1),1,0))","v":0},{"$f":"IF(CF34=1,0,IF(AND('User Input'!$C$52='User Input'!$C$26,Ranking!CH34=1),1,0))","v":0},{"$f":"IF(CG34=1,0,IF(AND('User Input'!$C$52='User Input'!$C$27,Ranking!CI34=1),1,0))","v":0},{"$f":"IF(AND('User Input'!$D$52='User Input'!$D$23,Ranking!CJ34>5000),1,0)","v":0},{"$f":"IF('User Input'!$E$52='User Input'!$E$25,1,IF(AND('User Input'!$E$52='User Input'!$E$23,Ranking!CM34=1),1,IF(AND('User Input'!$E$52='User Input'!$E$24,Ranking!CM34=0),1,0)))","v":0},{"$f":"IF(AND('User Input'!$F$52='User Input'!$F$23,Ranking!DS34=1),1,0)","v":0},{"$f":"IF(AND('User Input'!$F$52='User Input'!$F$24,Ranking!DT34=1),1,0)","v":0},{"$f":"IF(AND('User Input'!$F$52='User Input'!$F$25,Ranking!DU34=1),1,0)","v":0},{"$f":"IF('User Input'!$G$52='User Input'!$G$24,1,IF(AND('User Input'!$G$52='User Input'!$G$23,DH34=\"Y\"),1,0))","v":0},{"$f":"IF('User Input'!$H$52='User Input'!$H$23,1,IF(AND('User Input'!$H$52='User Input'!$H$24,Ranking!BK34<>\"Video\"),1,0))","v":1},{"$f":"IF(AND('User Input'!$I$52='User Input'!$I$23,Ranking!DV34=1),1,0)","v":0},{"$f":"IF(AND('User Input'!$I$52='User Input'!$I$24,Ranking!DW34=1),1,0)","v":0},{"$f":"IF(AND('User Input'!$I$52='User Input'!$I$25,Ranking!DX34=1),1,0)","v":0},{"$f":"IF('User Input'!$J$52='User Input'!$J$23,1,IF(AND('User Input'!$J$52='User Input'!$J$24,Ranking!DY34=0),1,0))","v":1},{"$f":"IF('User Input'!$K$52='User Input'!$K$24,1,IF(AND('User Input'!$K$52='User Input'!$K$23,Ranking!CO34=1),1,0))","v":0},null,null,"Placeholder"]
[{"$f":"IF(AND('User Input'!$D$35='User Input'!$D$6,Ranking!BN35=1),1,0)","v":0},{"$f":"IF(AND('User Input'!$D$35='User Input'!$D$7,Ranking!BO35=1),1,0)","v":0},{"$f":"IF(AND('User Input'!$D$35='User Input'!$D$8,Ranking!BP35=1),1,0)","v":0},{"$f":"IF(AND('User Input'!$F$35='User Input'!$F$7,Ranking!BQ35=1),1,0)","v":0},{"$f":"IF(AND('User Input'!$F$35='User Input'!$F$6,Ranking!BR35=1),1,0)","v":0},{"$f":"IF(AND('User Input'!$F$35='User Input'!$F$8,Ranking!BS35=1),1,0)","v":0},{"$f":"IF(AND('User Input'!$F$35='User Input'!$F$9,Ranking!BT35=1),1,0)","v":0},{"$f":"IF(AND('User Input'!$F$35='User Input'!$F$10,Ranking!BU35=1),1,0)","v":0},{"$f":"IF(BV35=0,1,IF(AND(BV35=1,'User Input'!$G$35='User Input'!$G$6),0,IF(AND(BV35=1,'User Input'!$G$35='User Input'!$G$7),1,0)))","v":1},{"$f":"IF(BW35=0,1,IF(AND(BW35=1,'User Input'!$H$35='User Input'!$H$6),1,IF(AND(BW35=1,'User Input'!$H$35='User Input'!$H$7),0)))","v":1},{"$f":"IF('User Input'!$I$35='User Input'!$I$6,1,IF(AND('User Input'!$I$35='User Input'!$I$7,Ranking!BX35=0),1,0))","v":1},{"$f":"IF('User Input'!$K$35='User Input'!$K$7,1,IF(AND(OR('User Input'!$K$35='User Input'!$K$6,'User Input'!$K$35='User Input'!$K$8),Ranking!$CZ35=\"Y\"),1,0))","v":0},{"$f":"IF(AND('User Input'!$B$38='User Input'!$B$13,Ranking!CA35=1),1,0)","v":0},{"$f":"IF(AND('User Input'!$B$38='User Input'!$B$14,Ranking!CB35=1),1,0)","v":0},{"$f":"IF(AND('User Input'!$B$38='User Input'!$B$15,Ranking!CC35=1),1,0)","v":0},{"$f":"IF(AND('User Input'!$C$38='User Input'!$C$13,DA35=1),1,0)","v":0},{"$f":"IF(AND('User Input'!$C$38='User Input'!$C$14,Ranking!DB35=1),1,0)","v":0},{"$f":"IF(AND('User Input'!$C$38='User Input'!$C$15,Ranking!DC35=1),1,0)","v":0},{"$f":"IF(AND('User Input'!$C$38='User Input'!$C$16,Ranking!DD35=1),1,0)","v":0},{"$f":"IF(AND('User Input'!$C$38='User Input'!$C$17,Ranking!DE35=1),1,0)","v":0},{"$f":"IF(AND('User Input'!$C$38='User Input'!$C$18,Ranking!DF35=1),1,0)","v":0},{"$f":"IF('User Input'!$I$38='User Input'!$I$13,1,IF(AND('User Input'!$I$38='User Input'!$I47,Ranking!$BY35>0.8),1,IF(AND('User Input'!$I$38='User Input'!$I$15,Ranking!$BY35>0.9),1,IF(AND('User Input'!$I$38='User Input'!$D$16,Ranking!$BY35>0.95),1,0))))","v":0},{"$f":"IF('User Input'!$D$38='User Input'!$D$13,1,IF(AND('User Input'!$D$38='User Input'!$D$14,Ranking!$BZ35>0.8),1,IF(AND('User Input'!$D$38='User Input'!$D$15,Ranking!$BZ35>0.9),1,IF(AND('User Input'!$D$38='User Input'!$D$16,Ranking!$BZ35>0.95),1,0))))","v":0},{"$f":"IF(AND('User Input'!$E$38='User Input'!$E$13,Ranking!DF35=1),1,0)","v":0},{"$f":"IF(AND('User Input'!$F$58=TRUE,Ranking!DI35=1),1,IF(AND('User Input'!$F$58=FALSE,Ranking!DI35=0),1,0))","v":0},{"$f":"IF(AND('User Input'!$F$59=TRUE,Ranking!DJ35=1),1,IF(AND('User Input'!$F$59=FALSE,Ranking!DJ35=0),1,0))","v":1},{"$f":"IF(AND('User Input'!$F$60=TRUE,Ranking!DK35=1),1,IF(AND('User Input'!$F$60=FALSE,Ranking!DK35=0),1,0))","v":1},{"$f":"IF(AND('User Input'!$F$61=TRUE,Ranking!DL35=1),1,IF(AND('User Input'!$F$61=FALSE,Ranking!DL35=0),1,0))","v":0},{"$f":"IF(AND('User Input'!$F$62=TRUE,Ranking!DM35=1),1,IF(AND('User Input'!$F$62=FALSE,Ranking!DM35=0),1,0))","v":0},{"$f":"IF(AND('User Input'!$F$63=TRUE,Ranking!DN35=1),1,IF(AND('User Input'!$F$63=FALSE,Ranking!DN35=0),1,0))","v":0},{"$f":"IF(AND('User Input'!$F$64=TRUE,Ranking!DO35=1),1,IF(AND('User Input'!$F$64=FALSE,Ranking!DO35=0),1,0))","v":0},{"$f":"IF(AND('User Input'!$F$65=TRUE,Ranking!DP35=1),1,IF(AND('User Input'!$F$65=FALSE,Ranking!DP35=0),1,0))","v":0},{"$f":"IF(AND('User Input'!$F$66=TRUE,Ranking!DQ35=1),1,IF(AND('User Input'!$F$66=FALSE,Ranking!DQ35=0),1,0))","v":0},{"$f":"IF(AND('User Input'!$F$67=TRUE,Ranking!DR35=1),1,IF(AND('User Input'!$F$67=FALSE,Ranking!DR35=0),1,0))","v":0},{"$f":"IF(Ranking!CV35=\"Y\",1,IF(AND('User Input'!$G$38='User Input'!$G$14,Ranking!CV35=\"N\"),1,0))","v":0},{"$f":"IF(OR(Ranking!DG35=\"Y\",'User Input'!$H$38='User Input'!$H$14),1,IF(AND('User Input'!$H$38='User Input'!$H$13,Ranking!DG35=\"Y\"),1,0))","v":0},{"$f":"IF(AND('User Input'!$B$52='User Input'!$B$23,Ranking!CL35<'User Input'!$A$23),1,0)","v":0},{"$f":"IF(AND('User Input'!$B$52='User Input'!$B$24,Ranking!CL35<'User Input'!$A$24),1,0)","v":0},{"$f":"IF(AND('User Input'!$B$52='User Input'!$B$25,Ranking!CL35<'User Input'!$A$25),1,0)","v":1},{"$f":"IF(AND('User Input'!$B$52='User Input'!$B$26,Ranking!CL35<'User Input'!$A$26),1,0)","v":0},{"$f":"IF('User Input'!$B$52='User Input'!$B$27,1,0)","v":0},{"$f":"IF(AND('User Input'!$C$52='User Input'!$C$23,CE35=1),1,0)","v":0},{"$f":"IF(CD35=1,0,IF(AND('User Input'!$C$52='User Input'!$C$24,Ranking!CF35=1),1,0))","v":0},{"$f":"IF(CE35=1,0,IF(AND('User Input'!$C$52='User Input'!$C$25,Ranking!CG35=1),1,0))","v":0},{"$f":"IF(CF35=1,0,IF(AND('User Input'!$C$52='User Input'!$C$26,Ranking!CH35=1),1,0))","v":0},{"$f":"IF(CG35=1,0,IF(AND('User Input'!$C$52='User Input'!$C$27,Ranking!CI35=1),1,0))","v":0},{"$f":"IF(AND('User Input'!$D$52='User Input'!$D$23,Ranking!CJ35>5000),1,0)","v":0},{"$f":"IF('User Input'!$E$52='User Input'!$E$25,1,IF(AND('User Input'!$E$52='User Input'!$E$23,Ranking!CM35=1),1,IF(AND('User Input'!$E$52='User Input'!$E$24,Ranking!CM35=0),1,0)))","v":0},{"$f":"IF(AND('User Input'!$F$52='User Input'!$F$23,Ranking!DS35=1),1,0)","v":0},{"$f":"IF(AND('User Input'!$F$52='User Input'!$F$24,Ranking!DT35=1),1,0)","v":0},{"$f":"IF(AND('User Input'!$F$52='User Input'!$F$25,Ranking!DU35=1),1,0)","v":0},{"$f":"IF('User Input'!$G$52='User Input'!$G$24,1,IF(AND('User Input'!$G$52='User Input'!$G$23,DH35=\"Y\"),1,0))","v":0},{"$f":"IF('User Input'!$H$52='User Input'!$H$23,1,IF(AND('User Input'!$H$52='User Input'!$H$24,Ranking!BK35<>\"Video\"),1,0))","v":1},{"$f":"IF(AND('User Input'!$I$52='User Input'!$I$23,Ranking!DV35=1),1,0)","v":0},{"$f":"IF(AND('User Input'!$I$52='User Input'!$I$24,Ranking!DW35=1),1,0)","v":0},{"$f":"IF(AND('User Input'!$I$52='User Input'!$I$25,Ranking!DX35=1),1,0)","v":0},{"$f":"IF('User Input'!$J$52='User Input'!$J$23,1,IF(AND('User Input'!$J$52='User Input'!$J$24,Ranking!DY35=0),1,0))","v":1},{"$f":"IF('User Input'!$K$52='User Input'!$K$24,1,IF(AND('User Input'!$K$52='User Input'!$K$23,Ranking!CO35=1),1,0))","v":0},null,null,"Placeholder"]
[{"$f":"IF(AND('User Input'!$D$35='User Input'!$D$6,Ranking!BN36=1),1,0)","v":0},{"$f":"IF(AND('User Input'!$D$35='User Input'!$D$7,Ranking!BO36=1),1,0)","v":0},{"$f":"IF(AND('User Input'!$D$35='User Input'!$D$8,Ranking!BP36=1),1,0)","v":0},{"$f":"IF(AND('User Input'!$F$35='User Input'!$F$7,Ranking!BQ36=1),1,0)","v":0},{"$f":"IF(AND('User Input'!$F$35='User Input'!$F$6,Ranking!BR36=1),1,0)","v":0},{"$f":"IF(AND('User Input'!$F$35='User Input'!$F$8,Ranking!BS36=1),1,0)","v":0},{"$f":"IF(AND('User Input'!$F$35='User Input'!$F$9,Ranking!BT36=1),1,0)","v":0},{"$f":"IF(AND('User Input'!$F$35='User Input'!$F$10,Ranking!BU36=1),1,0)","v":0},{"$f":"IF(BV36=0,1,IF(AND(BV36=1,'User Input'!$G$35='User Input'!$G$6),0,IF(AND(BV36=1,'User Input'!$G$35='User Input'!$G$7),1,0)))","v":1},{"$f":"IF(BW36=0,1,IF(AND(BW36=1,'User Input'!$H$35='User Input'!$H$6),1,IF(AND(BW36=1,'User Input'!$H$35='User Input'!$H$7),0)))","v":1},{"$f":"IF('User Input'!$I$35='User Input'!$I$6,1,IF(AND('User Input'!$I$35='User Input'!$I$7,Ranking!BX36=0),1,0))","v":1},{"$f":"IF('User Input'!$K$35='User Input'!$K$7,1,IF(AND(OR('User Input'!$K$35='User Input'!$K$6,'User Input'!$K$35='User Input'!$K$8),Ranking!$CZ36=\"Y\"),1,0))","v":0},{"$f":"IF(AND('User Input'!$B$38='User Input'!$B$13,Ranking!CA36=1),1,0)","v":0},{"$f":"IF(AND('User Input'!$B$38='User Input'!$B$14,Ranking!CB36=1),1,0)","v":0},{"$f":"IF(AND('User Input'!$B$38='User Input'!$B$15,Ranking!CC36=1),1,0)","v":0},{"$f":"IF(AND('User Input'!$C$38='User Input'!$C$13,DA36=1),1,0)","v":0},{"$f":"IF(AND('User Input'!$C$38='User Input'!$C$14,Ranking!DB36=1),1,0)","v":0},{"$f":"IF(AND('User Input'!$C$38='User Input'!$C$15,Ranking!DC36=1),1,0)","v":0},{"$f":"IF(AND('User Input'!$C$38='User Input'!$C$16,Ranking!DD36=1),1,0)","v":0},{"$f":"IF(AND('User Input'!$C$38='User Input'!$C$17,Ranking!DE36=1),1,0)","v":0},{"$f":"IF(AND('User Input'!$C$38='User Input'!$C$18,Ranking!DF36=1),1,0)","v":0},{"$f":"IF('User Input'!$I$38='User Input'!$I$13,1,IF(AND('User Input'!$I$38='User Input'!$I48,Ranking!$BY36>0.8),1,IF(AND('User Input'!$I$38='User Input'!$I$15,Ranking!$BY36>0.9),1,IF(AND('User Input'!$I$38='User Input'!$D$16,Ranking!$BY36>0.95),1,0))))","v":0},{"$f":"IF('User Input'!$D$38='User Input'!$D$13,1,IF(AND('User Input'!$D$38='User Input'!$D$14,Ranking!$BZ36>0.8),1,IF(AND('User Input'!$D$38='User Input'!$D$15,Ranking!$BZ36>0.9),1,IF(AND('User Input'!$D$38='User Input'!$D$16,Ranking!$BZ36>0.95),1,0))))","v":0},{"$f":"IF(AND('User Input'!$E$38='User Input'!$E$13,Ranking!DF36=1),1,0)","v":0},{"$f":"IF(AND('User Input'!$F$58=TRUE,Ranking!DI36=1),1,IF(AND('User Input'!$F$58=FALSE,Ranking!DI36=0),1,0))","v":0},{"$f":"IF(AND('User Input'!$F$59=TRUE,Ranking!DJ36=1),1,IF(AND('User Input'!$F$59=FALSE,Ranking!DJ36=0),1,0))","v":1},{"$f":"IF(AND('User Input'!$F$60=TRUE,Ranking!DK36=1),1,IF(AND('User Input'!$F$60=FALSE,Ranking!DK36=0),1,0))","v":1},{"$f":"IF(AND('User Input'!$F$61=TRUE,Ranking!DL36=1),1,IF(AND('User Input'!$F$61=FALSE,Ranking!DL36=0),1,0))","v":0},{"$f":"IF(AND('User Input'!$F$62=TRUE,Ranking!DM36=1),1,IF(AND('User Input'!$F$62=FALSE,Ranking!DM36=0),1,0))","v":0},{"$f":"IF(AND('User Input'!$F$63=TRUE,Ranking!DN36=1),1,IF(AND('User Input'!$F$63=FALSE,Ranking!DN36=0),1,0))","v":0},{"$f":"IF(AND('User Input'!$F$64=TRUE,Ranking!DO36=1),1,IF(AND('User Input'!$F$64=FALSE,Ranking!DO36=0),1,0))","v":0},{"$f":"IF(AND('User Input'!$F$65=TRUE,Ranking!DP36=1),1,IF(AND('User Input'!$F$65=FALSE,Ranking!DP36=0),1,0))","v":0},{"$f":"IF(AND('User Input'!$F$66=TRUE,Ranking!DQ36=1),1,IF(AND('User Input'!$F$66=FALSE,Ranking!DQ36=0),1,0))","v":0},{"$f":"IF(AND('User Input'!$F$67=TRUE,Ranking!DR36=1),1,IF(AND('User Input'!$F$67=FALSE,Ranking!DR36=0),1,0))","v":0},{"$f":"IF(Ranking!CV36=\"Y\",1,IF(AND('User Input'!$G$38='User Input'!$G$14,Ranking!CV36=\"N\"),1,0))","v":0},{"$f":"IF(OR(Ranking!DG36=\"Y\",'User Input'!$H$38='User Input'!$H$14),1,IF(AND('User Input'!$H$38='User Input'!$H$13,Ranking!DG36=\"Y\"),1,0))","v":0},{"$f":"IF(AND('User Input'!$B$52='User Input'!$B$23,Ranking!CL36<'User Input'!$A$23),1,0)","v":0},{"$f":"IF(AND('User Input'!$B$52='User Input'!$B$24,Ranking!CL36<'User Input'!$A$24),1,0)","v":0},{"$f":"IF(AND('User Input'!$B$52='User Input'!$B$25,Ranking!CL36<'User Input'!$A$25),1,0)","v":1},{"$f":"IF(AND('User Input'!$B$52='User Input'!$B$26,Ranking!CL36<'User Input'!$A$26),1,0)","v":0},{"$f":"IF('User Input'!$B$52='User Input'!$B$27,1,0)","v":0},{"$f":"IF(AND('User Input'!$C$52='User Input'!$C$23,CE36=1),1,0)","v":0},{"$f":"IF(CD36=1,0,IF(AND('User Input'!$C$52='User Input'!$C$24,Ranking!CF36=1),1,0))","v":0},{"$f":"IF(CE36=1,0,IF(AND('User Input'!$C$52='User Input'!$C$25,Ranking!CG36=1),1,0))","v":0},{"$f":"IF(CF36=1,0,IF(AND('User Input'!$C$52='User Input'!$C$26,Ranking!CH36=1),1,0))","v":0},{"$f":"IF(CG36=1,0,IF(AND('User Input'!$C$52='User Input'!$C$27,Ranking!CI36=1),1,0))","v":0},{"$f":"IF(AND('User Input'!$D$52='User Input'!$D$23,Ranking!CJ36>5000),1,0)","v":0},{"$f":"IF('User Input'!$E$52='User Input'!$E$25,1,IF(AND('User Input'!$E$52='User Input'!$E$23,Ranking!CM36=1),1,IF(AND('User Input'!$E$52='User Input'!$E$24,Ranking!CM36=0),1,0)))","v":0},{"$f":"IF(AND('User Input'!$F$52='User Input'!$F$23,Ranking!DS36=1),1,0)","v":0},{"$f":"IF(AND('User Input'!$F$52='User Input'!$F$24,Ranking!DT36=1),1,0)","v":0},{"$f":"IF(AND('User Input'!$F$52='User Input'!$F$25,Ranking!DU36=1),1,0)","v":0},{"$f":"IF('User Input'!$G$52='User Input'!$G$24,1,IF(AND('User Input'!$G$52='User Input'!$G$23,DH36=\"Y\"),1,0))","v":0},{"$f":"IF('User Input'!$H$52='User Input'!$H$23,1,IF(AND('User Input'!$H$52='User Input'!$H$24,Ranking!BK36<>\"Video\"),1,0))","v":1},{"$f":"IF(AND('User Input'!$I$52='User Input'!$I$23,Ranking!DV36=1),1,0)","v":0},{"$f":"IF(AND('User Input'!$I$52='User Input'!$I$24,Ranking!DW36=1),1,0)","v":0},{"$f":"IF(AND('User Input'!$I$52='User Input'!$I$25,Ranking!DX36=1),1,0)","v":0},{"$f":"IF('User Input'!$J$52='User Input'!$J$23,1,IF(AND('User Input'!$J$52='User Input'!$J$24,Ranking!DY36=0),1,0))","v":1},{"$f":"IF('User Input'!$K$52='User Input'!$K$24,1,IF(AND('User Input'!$K$52='User Input'!$K$23,Ranking!CO36=1),1,0))","v":0},null,null,"Placeholder"]
[{"$f":"IF(AND('User Input'!$D$35='User Input'!$D$6,Ranking!BN37=1),1,0)","v":0},{"$f":"IF(AND('User Input'!$D$35='User Input'!$D$7,Ranking!BO37=1),1,0)","v":0},{"$f":"IF(AND('User Input'!$D$35='User Input'!$D$8,Ranking!BP37=1),1,0)","v":0},{"$f":"IF(AND('User Input'!$F$35='User Input'!$F$7,Ranking!BQ37=1),1,0)","v":0},{"$f":"IF(AND('User Input'!$F$35='User Input'!$F$6,Ranking!BR37=1),1,0)","v":0},{"$f":"IF(AND('User Input'!$F$35='User Input'!$F$8,Ranking!BS37=1),1,0)","v":0},{"$f":"IF(AND('User Input'!$F$35='User Input'!$F$9,Ranking!BT37=1),1,0)","v":0},{"$f":"IF(AND('User Input'!$F$35='User Input'!$F$10,Ranking!BU37=1),1,0)","v":0},{"$f":"IF(BV37=0,1,IF(AND(BV37=1,'User Input'!$G$35='User Input'!$G$6),0,IF(AND(BV37=1,'User Input'!$G$35='User Input'!$G$7),1,0)))","v":1},{"$f":"IF(BW37=0,1,IF(AND(BW37=1,'User Input'!$H$35='User Input'!$H$6),1,IF(AND(BW37=1,'User Input'!$H$35='User Input'!$H$7),0)))","v":1},{"$f":"IF('User Input'!$I$35='User Input'!$I$6,1,IF(AND('User Input'!$I$35='User Input'!$I$7,Ranking!BX37=0),1,0))","v":1},{"$f":"IF('User Input'!$K$35='User Input'!$K$7,1,IF(AND(OR('User Input'!$K$35='User Input'!$K$6,'User Input'!$K$35='User Input'!$K$8),Ranking!$CZ37=\"Y\"),1,0))","v":0},{"$f":"IF(AND('User Input'!$B$38='User Input'!$B$13,Ranking!CA37=1),1,0)","v":0},{"$f":"IF(AND('User Input'!$B$38='User Input'!$B$14,Ranking!CB37=1),1,0)","v":0},{"$f":"IF(AND('User Input'!$B$38='User Input'!$B$15,Ranking!CC37=1),1,0)","v":0},{"$f":"IF(AND('User Input'!$C$38='User Input'!$C$13,DA37=1),1,0)","v":0},{"$f":"IF(AND('User Input'!$C$38='User Input'!$C$14,Ranking!DB37=1),1,0)","v":0},{"$f":"IF(AND('User Input'!$C$38='User Input'!$C$15,Ranking!DC37=1),1,0)","v":0},{"$f":"IF(AND('User Input'!$C$38='User Input'!$C$16,Ranking!DD37=1),1,0)","v":0},{"$f":"IF(AND('User Input'!$C$38='User Input'!$C$17,Ranking!DE37=1),1,0)","v":0},{"$f":"IF(AND('User Input'!$C$38='User Input'!$C$18,Ranking!DF37=1),1,0)","v":0},{"$f":"IF('User Input'!$I$38='User Input'!$I$13,1,IF(AND('User Input'!$I$38='User Input'!$I49,Ranking!$BY37>0.8),1,IF(AND('User Input'!$I$38='User Input'!$I$15,Ranking!$BY37>0.9),1,IF(AND('User Input'!$I$38='User Input'!$D$16,Ranking!$BY37>0.95),1,0))))","v":0},{"$f":"IF('User Input'!$D$38='User Input'!$D$13,1,IF(AND('User Input'!$D$38='User Input'!$D$14,Ranking!$BZ37>0.8),1,IF(AND('User Input'!$D$38='User Input'!$D$15,Ranking!$BZ37>0.9),1,IF(AND('User Input'!$D$38='User Input'!$D$16,Ranking!$BZ37>0.95),1,0))))","v":0},{"$f":"IF(AND('User Input'!$E$38='User Input'!$E$13,Ranking!DF37=1),1,0)","v":0},{"$f":"IF(AND('User Input'!$F$58=TRUE,Ranking!DI37=1),1,IF(AND('User Input'!$F$58=FALSE,Ranking!DI37=0),1,0))","v":0},{"$f":"IF(AND('User Input'!$F$59=TRUE,Ranking!DJ37=1),1,IF(AND('User Input'!$F$59=FALSE,Ranking!DJ37=0),1,0))","v":1},{"$f":"IF(AND('User Input'!$F$60=TRUE,Ranking!DK37=1),1,IF(AND('User Input'!$F$60=FALSE,Ranking!DK37=0),1,0))","v":1},{"$f":"IF(AND('User Input'!$F$61=TRUE,Ranking!DL37=1),1,IF(AND('User Input'!$F$61=FALSE,Ranking!DL37=0),1,0))","v":0},{"$f":"IF(AND('User Input'!$F$62=TRUE,Ranking!DM37=1),1,IF(AND('User Input'!$F$62=FALSE,Ranking!DM37=0),1,0))","v":0},{"$f":"IF(AND('User Input'!$F$63=TRUE,Ranking!DN37=1),1,IF(AND('User Input'!$F$63=FALSE,Ranking!DN37=0),1,0))","v":0},{"$f":"IF(AND('User Input'!$F$64=TRUE,Ranking!DO37=1),1,IF(AND('User Input'!$F$64=FALSE,Ranking!DO37=0),1,0))","v":0},{"$f":"IF(AND('User Input'!$F$65=TRUE,Ranking!DP37=1),1,IF(AND('User Input'!$F$65=FALSE,Ranking!DP37=0),1,0))","v":0},{"$f":"IF(AND('User Input'!$F$66=TRUE,Ranking!DQ37=1),1,IF(AND('User Input'!$F$66=FALSE,Ranking!DQ37=0),1,0))","v":0},{"$f":"IF(AND('User Input'!$F$67=TRUE,Ranking!DR37=1),1,IF(AND('User Input'!$F$67=FALSE,Ranking!DR37=0),1,0))","v":0},{"$f":"IF(Ranking!CV37=\"Y\",1,IF(AND('User Input'!$G$38='User Input'!$G$14,Ranking!CV37=\"N\"),1,0))","v":0},{"$f":"IF(OR(Ranking!DG37=\"Y\",'User Input'!$H$38='User Input'!$H$14),1,IF(AND('User Input'!$H$38='User Input'!$H$13,Ranking!DG37=\"Y\"),1,0))","v":0},{"$f":"IF(AND('User Input'!$B$52='User Input'!$B$23,Ranking!CL37<'User Input'!$A$23),1,0)","v":0},{"$f":"IF(AND('User Input'!$B$52='User Input'!$B$24,Ranking!CL37<'User Input'!$A$24),1,0)","v":0},{"$f":"IF(AND('User Input'!$B$52='User Input'!$B$25,Ranking!CL37<'User Input'!$A$25),1,0)","v":1},{"$f":"IF(AND('User Input'!$B$52='User Input'!$B$26,Ranking!CL37<'User Input'!$A$26),1,0)","v":0},{"$f":"IF('User Input'!$B$52='User Input'!$B$27,1,0)","v":0},{"$f":"IF(AND('User Input'!$C$52='User Input'!$C$23,CE37=1),1,0)","v":0},{"$f":"IF(CD37=1,0,IF(AND('User Input'!$C$52='User Input'!$C$24,Ranking!CF37=1),1,0))","v":0},{"$f":"IF(CE37=1,0,IF(AND('User Input'!$C$52='User Input'!$C$25,Ranking!CG37=1),1,0))","v":0},{"$f":"IF(CF37=1,0,IF(AND('User Input'!$C$52='User Input'!$C$26,Ranking!CH37=1),1,0))","v":0},{"$f":"IF(CG37=1,0,IF(AND('User Input'!$C$52='User Input'!$C$27,Ranking!CI37=1),1,0))","v":0},{"$f":"IF(AND('User Input'!$D$52='User Input'!$D$23,Ranking!CJ37>5000),1,0)","v":0},{"$f":"IF('User Input'!$E$52='User Input'!$E$25,1,IF(AND('User Input'!$E$52='User Input'!$E$23,Ranking!CM37=1),1,IF(AND('User Input'!$E$52='User Input'!$E$24,Ranking!CM37=0),1,0)))","v":0},{"$f":"IF(AND('User Input'!$F$52='User Input'!$F$23,Ranking!DS37=1),1,0)","v":0},{"$f":"IF(AND('User Input'!$F$52='User Input'!$F$24,Ranking!DT37=1),1,0)","v":0},{"$f":"IF(AND('User Input'!$F$52='User Input'!$F$25,Ranking!DU37=1),1,0)","v":0},{"$f":"IF('User Input'!$G$52='User Input'!$G$24,1,IF(AND('User Input'!$G$52='User Input'!$G$23,DH37=\"Y\"),1,0))","v":0},{"$f":"IF('User Input'!$H$52='User Input'!$H$23,1,IF(AND('User Input'!$H$52='User Input'!$H$24,Ranking!BK37<>\"Video\"),1,0))","v":1},{"$f":"IF(AND('User Input'!$I$52='User Input'!$I$23,Ranking!DV37=1),1,0)","v":0},{"$f":"IF(AND('User Input'!$I$52='User Input'!$I$24,Ranking!DW37=1),1,0)","v":0},{"$f":"IF(AND('User Input'!$I$52='User Input'!$I$25,Ranking!DX37=1),1,0)","v":0},{"$f":"IF('User Input'!$J$52='User Input'!$J$23,1,IF(AND('User Input'!$J$52='User Input'!$J$24,Ranking!DY37=0),1,0))","v":1},{"$f":"IF('User Input'!$K$52='User Input'!$K$24,1,IF(AND('User Input'!$K$52='User Input'!$K$23,Ranking!CO37=1),1,0))","v":0},null,null,"Placeholder"]
[{"$f":"IF(AND('User Input'!$D$35='User Input'!$D$6,Ranking!BN38=1),1,0)","v":0},{"$f":"IF(AND('User Input'!$D$35='User Input'!$D$7,Ranking!BO38=1),1,0)","v":0},{"$f":"IF(AND('User Input'!$D$35='User Input'!$D$8,Ranking!BP38=1),1,0)","v":0},{"$f":"IF(AND('User Input'!$F$35='User Input'!$F$7,Ranking!BQ38=1),1,0)","v":0},{"$f":"IF(AND('User Input'!$F$35='User Input'!$F$6,Ranking!BR38=1),1,0)","v":0},{"$f":"IF(AND('User Input'!$F$35='User Input'!$F$8,Ranking!BS38=1),1,0)","v":0},{"$f":"IF(AND('User Input'!$F$35='User Input'!$F$9,Ranking!BT38=1),1,0)","v":0},{"$f":"IF(AND('User Input'!$F$35='User Input'!$F$10,Ranking!BU38=1),1,0)","v":0},{"$f":"IF(BV38=0,1,IF(AND(BV38=1,'User Input'!$G$35='User Input'!$G$6),0,IF(AND(BV38=1,'User Input'!$G$35='User Input'!$G$7),1,0)))","v":1},{"$f":"IF(BW38=0,1,IF(AND(BW38=1,'User Input'!$H$35='User Input'!$H$6),1,IF(AND(BW38=1,'User Input'!$H$35='User Input'!$H$7),0)))","v":1},{"$f":"IF('User Input'!$I$35='User Input'!$I$6,1,IF(AND('User Input'!$I$35='User Input'!$I$7,Ranking!BX38=0),1,0))","v":1},{"$f":"IF('User Input'!$K$35='User Input'!$K$7,1,IF(AND(OR('User Input'!$K$35='User Input'!$K$6,'User Input'!$K$35='User Input'!$K$8),Ranking!$CZ38=\"Y\"),1,0))","v":0},{"$f":"IF(AND('User Input'!$B$38='User Input'!$B$13,Ranking!CA38=1),1,0)","v":0},{"$f":"IF(AND('User Input'!$B$38='User Input'!$B$14,Ranking!CB38=1),1,0)","v":0},{"$f":"IF(AND('User Input'!$B$38='User Input'!$B$15,Ranking!CC38=1),1,0)","v":0},{"$f":"IF(AND('User Input'!$C$38='User Input'!$C$13,DA38=1),1,0)","v":0},{"$f":"IF(AND('User Input'!$C$38='User Input'!$C$14,Ranking!DB38=1),1,0)","v":0},{"$f":"IF(AND('User Input'!$C$38='User Input'!$C$15,Ranking!DC38=1),1,0)","v":0},{"$f":"IF(AND('User Input'!$C$38='User Input'!$C$16,Ranking!DD38=1),1,0)","v":0},{"$f":"IF(AND('User Input'!$C$38='User Input'!$C$17,Ranking!DE38=1),1,0)","v":0},{"$f":"IF(AND('User Input'!$C$38='User Input'!$C$18,Ranking!DF38=1),1,0)","v":0},{"$f":"IF('User Input'!$I$38='User Input'!$I$13,1,IF(AND('User Input'!$I$38='User Input'!$I50,Ranking!$BY38>0.8),1,IF(AND('User Input'!$I$38='User Input'!$I$15,Ranking!$BY38>0.9),1,IF(AND('User Input'!$I$38='User Input'!$D$16,Ranking!$BY38>0.95),1,0))))","v":0},{"$f":"IF('User Input'!$D$38='User Input'!$D$13,1,IF(AND('User Input'!$D$38='User Input'!$D$14,Ranking!$BZ38>0.8),1,IF(AND('User Input'!$D$38='User Input'!$D$15,Ranking!$BZ38>0.9),1,IF(AND('User Input'!$D$38='User Input'!$D$16,Ranking!$BZ38>0.95),1,0))))","v":0},{"$f":"IF(AND('User Input'!$E$38='User Input'!$E$13,Ranking!DF38=1),1,0)","v":0},{"$f":"IF(AND('User Input'!$F$58=TRUE,Ranking!DI38=1),1,IF(AND('User Input'!$F$58=FALSE,Ranking!DI38=0),1,0))","v":0},{"$f":"IF(AND('User Input'!$F$59=TRUE,Ranking!DJ38=1),1,IF(AND('User Input'!$F$59=FALSE,Ranking!DJ38=0),1,0))","v":1},{"$f":"IF(AND('User Input'!$F$60=TRUE,Ranking!DK38=1),1,IF(AND('User Input'!$F$60=FALSE,Ranking!DK38=0),1,0))","v":1},{"$f":"IF(AND('User Input'!$F$61=TRUE,Ranking!DL38=1),1,IF(AND('User Input'!$F$61=FALSE,Ranking!DL38=0),1,0))","v":0},{"$f":"IF(AND('User Input'!$F$62=TRUE,Ranking!DM38=1),1,IF(AND('User Input'!$F$62=FALSE,Ranking!DM38=0),1,0))","v":0},{"$f":"IF(AND('User Input'!$F$63=TRUE,Ranking!DN38=1),1,IF(AND('User Input'!$F$63=FALSE,Ranking!DN38=0),1,0))","v":0},{"$f":"IF(AND('User Input'!$F$64=TRUE,Ranking!DO38=1),1,IF(AND('User Input'!$F$64=FALSE,Ranking!DO38=0),1,0))","v":0},{"$f":"IF(AND('User Input'!$F$65=TRUE,Ranking!DP38=1),1,IF(AND('User Input'!$F$65=FALSE,Ranking!DP38=0),1,0))","v":0},{"$f":"IF(AND('User Input'!$F$66=TRUE,Ranking!DQ38=1),1,IF(AND('User Input'!$F$66=FALSE,Ranking!DQ38=0),1,0))","v":0},{"$f":"IF(AND('User Input'!$F$67=TRUE,Ranking!DR38=1),1,IF(AND('User Input'!$F$67=FALSE,Ranking!DR38=0),1,0))","v":0},{"$f":"IF(Ranking!CV38=\"Y\",1,IF(AND('User Input'!$G$38='User Input'!$G$14,Ranking!CV38=\"N\"),1,0))","v":0},{"$f":"IF(OR(Ranking!DG38=\"Y\",'User Input'!$H$38='User Input'!$H$14),1,IF(AND('User Input'!$H$38='User Input'!$H$13,Ranking!DG38=\"Y\"),1,0))","v":0},{"$f":"IF(AND('User Input'!$B$52='User Input'!$B$23,Ranking!CL38<'User Input'!$A$23),1,0)","v":0},{"$f":"IF(AND('User Input'!$B$52='User Input'!$B$24,Ranking!CL38<'User Input'!$A$24),1,0)","v":0},{"$f":"IF(AND('User Input'!$B$52='User Input'!$B$25,Ranking!CL38<'User Input'!$A$25),1,0)","v":1},{"$f":"IF(AND('User Input'!$B$52='User Input'!$B$26,Ranking!CL38<'User Input'!$A$26),1,0)","v":0},{"$f":"IF('User Input'!$B$52='User Input'!$B$27,1,0)","v":0},{"$f":"IF(AND('User Input'!$C$52='User Input'!$C$23,CE38=1),1,0)","v":0},{"$f":"IF(CD38=1,0,IF(AND('User Input'!$C$52='User Input'!$C$24,Ranking!CF38=1),1,0))","v":0},{"$f":"IF(CE38=1,0,IF(AND('User Input'!$C$52='User Input'!$C$25,Ranking!CG38=1),1,0))","v":0},{"$f":"IF(CF38=1,0,IF(AND('User Input'!$C$52='User Input'!$C$26,Ranking!CH38=1),1,0))","v":0},{"$f":"IF(CG38=1,0,IF(AND('User Input'!$C$52='User Input'!$C$27,Ranking!CI38=1),1,0))","v":0},{"$f":"IF(AND('User Input'!$D$52='User Input'!$D$23,Ranking!CJ38>5000),1,0)","v":0},{"$f":"IF('User Input'!$E$52='User Input'!$E$25,1,IF(AND('User Input'!$E$52='User Input'!$E$23,Ranking!CM38=1),1,IF(AND('User Input'!$E$52='User Input'!$E$24,Ranking!CM38=0),1,0)))","v":0},{"$f":"IF(AND('User Input'!$F$52='User Input'!$F$23,Ranking!DS38=1),1,0)","v":0},{"$f":"IF(AND('User Input'!$F$52='User Input'!$F$24,Ranking!DT38=1),1,0)","v":0},{"$f":"IF(AND('User Input'!$F$52='User Input'!$F$25,Ranking!DU38=1),1,0)","v":0},{"$f":"IF('User Input'!$G$52='User Input'!$G$24,1,IF(AND('User Input'!$G$52='User Input'!$G$23,DH38=\"Y\"),1,0))","v":0},{"$f":"IF('User Input'!$H$52='User Input'!$H$23,1,IF(AND('User Input'!$H$52='User Input'!$H$24,Ranking!BK38<>\"Video\"),1,0))","v":1},{"$f":"IF(AND('User Input'!$I$52='User Input'!$I$23,Ranking!DV38=1),1,0)","v":0},{"$f":"IF(AND('User Input'!$I$52='User Input'!$I$24,Ranking!DW38=1),1,0)","v":0},{"$f":"IF(AND('User Input'!$I$52='User Input'!$I$25,Ranking!DX38=1),1,0)","v":0},{"$f":"IF('User Input'!$J$52='User Input'!$J$23,1,IF(AND('User Input'!$J$52='User Input'!$J$24,Ranking!DY38=0),1,0))","v":1},{"$f":"IF('User Input'!$K$52='User Input'!$K$24,1,IF(AND('User Input'!$K$52='User Input'!$K$23,Ranking!CO38=1),1,0))","v":0},null,null,"Placeholder"]
[{"$f":"IF(AND('User Input'!$D$35='User Input'!$D$6,Ranking!BN39=1),1,0)","v":0},{"$f":"IF(AND('User Input'!$D$35='User Input'!$D$7,Ranking!BO39=1),1,0)","v":0},{"$f":"IF(AND('User Input'!$D$35='User Input'!$D$8,Ranking!BP39=1),1,0)","v":0},{"$f":"IF(AND('User Input'!$F$35='User Input'!$F$7,Ranking!BQ39=1),1,0)","v":0},{"$f":"IF(AND('User Input'!$F$35='User Input'!$F$6,Ranking!BR39=1),1,0)","v":0},{"$f":"IF(AND('User Input'!$F$35='User Input'!$F$8,Ranking!BS39=1),1,0)","v":0},{"$f":"IF(AND('User Input'!$F$35='User Input'!$F$9,Ranking!BT39=1),1,0)","v":0},{"$f":"IF(AND('User Input'!$F$35='User Input'!$F$10,Ranking!BU39=1),1,0)","v":0},{"$f":"IF(BV39=0,1,IF(AND(BV39=1,'User Input'!$G$35='User Input'!$G$6),0,IF(AND(BV39=1,'User Input'!$G$35='User Input'!$G$7),1,0)))","v":1},{"$f":"IF(BW39=0,1,IF(AND(BW39=1,'User Input'!$H$35='User Input'!$H$6),1,IF(AND(BW39=1,'User Input'!$H$35='User Input'!$H$7),0)))","v":1},{"$f":"IF('User Input'!$I$35='User Input'!$I$6,1,IF(AND('User Input'!$I$35='User Input'!$I$7,Ranking!BX39=0),1,0))","v":1},{"$f":"IF('User Input'!$K$35='User Input'!$K$7,1,IF(AND(OR('User Input'!$K$35='User Input'!$K$6,'User Input'!$K$35='User Input'!$K$8),Ranking!$CZ39=\"Y\"),1,0))","v":0},{"$f":"IF(AND('User Input'!$B$38='User Input'!$B$13,Ranking!CA39=1),1,0)","v":0},{"$f":"IF(AND('User Input'!$B$38='User Input'!$B$14,Ranking!CB39=1),1,0)","v":0},{"$f":"IF(AND('User Input'!$B$38='User Input'!$B$15,Ranking!CC39=1),1,0)","v":0},{"$f":"IF(AND('User Input'!$C$38='User Input'!$C$13,DA39=1),1,0)","v":0},{"$f":"IF(AND('User Input'!$C$38='User Input'!$C$14,Ranking!DB39=1),1,0)","v":0},{"$f":"IF(AND('User Input'!$C$38='User Input'!$C$15,Ranking!DC39=1),1,0)","v":0},{"$f":"IF(AND('User Input'!$C$38='User Input'!$C$16,Ranking!DD39=1),1,0)","v":0},{"$f":"IF(AND('User Input'!$C$38='User Input'!$C$17,Ranking!DE39=1),1,0)","v":0},{"$f":"IF(AND('User Input'!$C$38='User Input'!$C$18,Ranking!DF39=1),1,0)","v":0},{"$f":"IF('User Input'!$I$38='User Input'!$I$13,1,IF(AND('User Input'!$I$38='User Input'!$I51,Ranking!$BY39>0.8),1,IF(AND('User Input'!$I$38='User Input'!$I$15,Ranking!$BY39>0.9),1,IF(AND('User Input'!$I$38='User Input'!$D$16,Ranking!$BY39>0.95),1,0))))","v":0},{"$f":"IF('User Input'!$D$38='User Input'!$D$13,1,IF(AND('User Input'!$D$38='User Input'!$D$14,Ranking!$BZ39>0.8),1,IF(AND('User Input'!$D$38='User Input'!$D$15,Ranking!$BZ39>0.9),1,IF(AND('User Input'!$D$38='User Input'!$D$16,Ranking!$BZ39>0.95),1,0))))","v":0},{"$f":"IF(AND('User Input'!$E$38='User Input'!$E$13,Ranking!DF39=1),1,0)","v":0},{"$f":"IF(AND('User Input'!$F$58=TRUE,Ranking!DI39=1),1,IF(AND('User Input'!$F$58=FALSE,Ranking!DI39=0),1,0))","v":0},{"$f":"IF(AND('User Input'!$F$59=TRUE,Ranking!DJ39=1),1,IF(AND('User Input'!$F$59=FALSE,Ranking!DJ39=0),1,0))","v":1},{"$f":"IF(AND('User Input'!$F$60=TRUE,Ranking!DK39=1),1,IF(AND('User Input'!$F$60=FALSE,Ranking!DK39=0),1,0))","v":1},{"$f":"IF(AND('User Input'!$F$61=TRUE,Ranking!DL39=1),1,IF(AND('User Input'!$F$61=FALSE,Ranking!DL39=0),1,0))","v":0},{"$f":"IF(AND('User Input'!$F$62=TRUE,Ranking!DM39=1),1,IF(AND('User Input'!$F$62=FALSE,Ranking!DM39=0),1,0))","v":0},{"$f":"IF(AND('User Input'!$F$63=TRUE,Ranking!DN39=1),1,IF(AND('User Input'!$F$63=FALSE,Ranking!DN39=0),1,0))","v":0},{"$f":"IF(AND('User Input'!$F$64=TRUE,Ranking!DO39=1),1,IF(AND('User Input'!$F$64=FALSE,Ranking!DO39=0),1,0))","v":0},{"$f":"IF(AND('User Input'!$F$65=TRUE,Ranking!DP39=1),1,IF(AND('User Input'!$F$65=FALSE,Ranking!DP39=0),1,0))","v":0},{"$f":"IF(AND('User Input'!$F$66=TRUE,Ranking!DQ39=1),1,IF(AND('User Input'!$F$66=FALSE,Ranking!DQ39=0),1,0))","v":0},{"$f":"IF(AND('User Input'!$F$67=TRUE,Ranking!DR39=1),1,IF(AND('User Input'!$F$67=FALSE,Ranking!DR39=0),1,0))","v":0},{"$f":"IF(Ranking!CV39=\"Y\",1,IF(AND('User Input'!$G$38='User Input'!$G$14,Ranking!CV39=\"N\"),1,0))","v":0},{"$f":"IF(OR(Ranking!DG39=\"Y\",'User Input'!$H$38='User Input'!$H$14),1,IF(AND('User Input'!$H$38='User Input'!$H$13,Ranking!DG39=\"Y\"),1,0))","v":0},{"$f":"IF(AND('User Input'!$B$52='User Input'!$B$23,Ranking!CL39<'User Input'!$A$23),1,0)","v":0},{"$f":"IF(AND('User Input'!$B$52='User Input'!$B$24,Ranking!CL39<'User Input'!$A$24),1,0)","v":0},{"$f":"IF(AND('User Input'!$B$52='User Input'!$B$25,Ranking!CL39<'User Input'!$A$25),1,0)","v":1},{"$f":"IF(AND('User Input'!$B$52='User Input'!$B$26,Ranking!CL39<'User Input'!$A$26),1,0)","v":0},{"$f":"IF('User Input'!$B$52='User Input'!$B$27,1,0)","v":0},{"$f":"IF(AND('User Input'!$C$52='User Input'!$C$23,CE39=1),1,0)","v":0},{"$f":"IF(CD39=1,0,IF(AND('User Input'!$C$52='User Input'!$C$24,Ranking!CF39=1),1,0))","v":0},{"$f":"IF(CE39=1,0,IF(AND('User Input'!$C$52='User Input'!$C$25,Ranking!CG39=1),1,0))","v":0},{"$f":"IF(CF39=1,0,IF(AND('User Input'!$C$52='User Input'!$C$26,Ranking!CH39=1),1,0))","v":0},{"$f":"IF(CG39=1,0,IF(AND('User Input'!$C$52='User Input'!$C$27,Ranking!CI39=1),1,0))","v":0},{"$f":"IF(AND('User Input'!$D$52='User Input'!$D$23,Ranking!CJ39>5000),1,0)","v":0},{"$f":"IF('User Input'!$E$52='User Input'!$E$25,1,IF(AND('User Input'!$E$52='User Input'!$E$23,Ranking!CM39=1),1,IF(AND('User Input'!$E$52='User Input'!$E$24,Ranking!CM39=0),1,0)))","v":0},{"$f":"IF(AND('User Input'!$F$52='User Input'!$F$23,Ranking!DS39=1),1,0)","v":0},{"$f":"IF(AND('User Input'!$F$52='User Input'!$F$24,Ranking!DT39=1),1,0)","v":0},{"$f":"IF(AND('User Input'!$F$52='User Input'!$F$25,Ranking!DU39=1),1,0)","v":0},{"$f":"IF('User Input'!$G$52='User Input'!$G$24,1,IF(AND('User Input'!$G$52='User Input'!$G$23,DH39=\"Y\"),1,0))","v":0},{"$f":"IF('User Input'!$H$52='User Input'!$H$23,1,IF(AND('User Input'!$H$52='User Input'!$H$24,Ranking!BK39<>\"Video\"),1,0))","v":1},{"$f":"IF(AND('User Input'!$I$52='User Input'!$I$23,Ranking!DV39=1),1,0)","v":0},{"$f":"IF(AND('User Input'!$I$52='User Input'!$I$24,Ranking!DW39=1),1,0)","v":0},{"$f":"IF(AND('User Input'!$I$52='User Input'!$I$25,Ranking!DX39=1),1,0)","v":0},{"$f":"IF('User Input'!$J$52='User Input'!$J$23,1,IF(AND('User Input'!$J$52='User Input'!$J$24,Ranking!DY39=0),1,0))","v":1},{"$f":"IF('User Input'!$K$52='User Input'!$K$24,1,IF(AND('User Input'!$K$52='User Input'!$K$23,Ranking!CO39=1),1,0))","v":0},null,null,"Placeholder"]
[{"$f":"IF(AND('User Input'!$D$35='User Input'!$D$6,Ranking!BN40=1),1,0)","v":0},{"$f":"IF(AND('User Input'!$D$35='User Input'!$D$7,Ranking!BO40=1),1,0)","v":0},{"$f":"IF(AND('User Input'!$D$35='User Input'!$D$8,Ranking!BP40=1),1,0)","v":0},{"$f":"IF(AND('User Input'!$F$35='User Input'!$F$7,Ranking!BQ40=1),1,0)","v":0},{"$f":"IF(AND('User Input'!$F$35='User Input'!$F$6,Ranking!BR40=1),1,0)","v":0},{"$f":"IF(AND('User Input'!$F$35='User Input'!$F$8,Ranking!BS40=1),1,0)","v":0},{"$f":"IF(AND('User Input'!$F$35='User Input'!$F$9,Ranking!BT40=1),1,0)","v":0},{"$f":"IF(AND('User Input'!$F$35='User Input'!$F$10,Ranking!BU40=1),1,0)","v":0},{"$f":"IF(BV40=0,1,IF(AND(BV40=1,'User Input'!$G$35='User Input'!$G$6),0,IF(AND(BV40=1,'User Input'!$G$35='User Input'!$G$7),1,0)))","v":1},{"$f":"IF(BW40=0,1,IF(AND(BW40=1,'User Input'!$H$35='User Input'!$H$6),1,IF(AND(BW40=1,'User Input'!$H$35='User Input'!$H$7),0)))","v":1},{"$f":"IF('User Input'!$I$35='User Input'!$I$6,1,IF(AND('User Input'!$I$35='User Input'!$I$7,Ranking!BX40=0),1,0))","v":1},{"$f":"IF('User Input'!$K$35='User Input'!$K$7,1,IF(AND(OR('User Input'!$K$35='User Input'!$K$6,'User Input'!$K$35='User Input'!$K$8),Ranking!$CZ40=\"Y\"),1,0))","v":0},{"$f":"IF(AND('User Input'!$B$38='User Input'!$B$13,Ranking!CA40=1),1,0)","v":0},{"$f":"IF(AND('User Input'!$B$38='User Input'!$B$14,Ranking!CB40=1),1,0)","v":0},{"$f":"IF(AND('User Input'!$B$38='User Input'!$B$15,Ranking!CC40=1),1,0)","v":0},{"$f":"IF(AND('User Input'!$C$38='User Input'!$C$13,DA40=1),1,0)","v":0},{"$f":"IF(AND('User Input'!$C$38='User Input'!$C$14,Ranking!DB40=1),1,0)","v":0},{"$f":"IF(AND('User Input'!$C$38='User Input'!$C$15,Ranking!DC40=1),1,0)","v":0},{"$f":"IF(AND('User Input'!$C$38='User Input'!$C$16,Ranking!DD40=1),1,0)","v":0},{"$f":"IF(AND('User Input'!$C$38='User Input'!$C$17,Ranking!DE40=1),1,0)","v":0},{"$f":"IF(AND('User Input'!$C$38='User Input'!$C$18,Ranking!DF40=1),1,0)","v":0},{"$f":"IF('User Input'!$I$38='User Input'!$I$13,1,IF(AND('User Input'!$I$38='User Input'!$I52,Ranking!$BY40>0.8),1,IF(AND('User Input'!$I$38='User Input'!$I$15,Ranking!$BY40>0.9),1,IF(AND('User Input'!$I$38='User Input'!$D$16,Ranking!$BY40>0.95),1,0))))","v":0},{"$f":"IF('User Input'!$D$38='User Input'!$D$13,1,IF(AND('User Input'!$D$38='User Input'!$D$14,Ranking!$BZ40>0.8),1,IF(AND('User Input'!$D$38='User Input'!$D$15,Ranking!$BZ40>0.9),1,IF(AND('User Input'!$D$38='User Input'!$D$16,Ranking!$BZ40>0.95),1,0))))","v":0},{"$f":"IF(AND('User Input'!$E$38='User Input'!$E$13,Ranking!DF40=1),1,0)","v":0},{"$f":"IF(AND('User Input'!$F$58=TRUE,Ranking!DI40=1),1,IF(AND('User Input'!$F$58=FALSE,Ranking!DI40=0),1,0))","v":0},{"$f":"IF(AND('User Input'!$F$59=TRUE,Ranking!DJ40=1),1,IF(AND('User Input'!$F$59=FALSE,Ranking!DJ40=0),1,0))","v":1},{"$f":"IF(AND('User Input'!$F$60=TRUE,Ranking!DK40=1),1,IF(AND('User Input'!$F$60=FALSE,Ranking!DK40=0),1,0))","v":1},{"$f":"IF(AND('User Input'!$F$61=TRUE,Ranking!DL40=1),1,IF(AND('User Input'!$F$61=FALSE,Ranking!DL40=0),1,0))","v":0},{"$f":"IF(AND('User Input'!$F$62=TRUE,Ranking!DM40=1),1,IF(AND('User Input'!$F$62=FALSE,Ranking!DM40=0),1,0))","v":0},{"$f":"IF(AND('User Input'!$F$63=TRUE,Ranking!DN40=1),1,IF(AND('User Input'!$F$63=FALSE,Ranking!DN40=0),1,0))","v":0},{"$f":"IF(AND('User Input'!$F$64=TRUE,Ranking!DO40=1),1,IF(AND('User Input'!$F$64=FALSE,Ranking!DO40=0),1,0))","v":0},{"$f":"IF(AND('User Input'!$F$65=TRUE,Ranking!DP40=1),1,IF(AND('User Input'!$F$65=FALSE,Ranking!DP40=0),1,0))","v":0},{"$f":"IF(AND('User Input'!$F$66=TRUE,Ranking!DQ40=1),1,IF(AND('User Input'!$F$66=FALSE,Ranking!DQ40=0),1,0))","v":0},{"$f":"IF(AND('User Input'!$F$67=TRUE,Ranking!DR40=1),1,IF(AND('User Input'!$F$67=FALSE,Ranking!DR40=0),1,0))","v":0},{"$f":"IF(Ranking!CV40=\"Y\",1,IF(AND('User Input'!$G$38='User Input'!$G$14,Ranking!CV40=\"N\"),1,0))","v":0},{"$f":"IF(OR(Ranking!DG40=\"Y\",'User Input'!$H$38='User Input'!$H$14),1,IF(AND('User Input'!$H$38='User Input'!$H$13,Ranking!DG40=\"Y\"),1,0))","v":0},{"$f":"IF(AND('User Input'!$B$52='User Input'!$B$23,Ranking!CL40<'User Input'!$A$23),1,0)","v":0},{"$f":"IF(AND('User Input'!$B$52='User Input'!$B$24,Ranking!CL40<'User Input'!$A$24),1,0)","v":0},{"$f":"IF(AND('User Input'!$B$52='User Input'!$B$25,Ranking!CL40<'User Input'!$A$25),1,0)","v":1},{"$f":"IF(AND('User Input'!$B$52='User Input'!$B$26,Ranking!CL40<'User Input'!$A$26),1,0)","v":0},{"$f":"IF('User Input'!$B$52='User Input'!$B$27,1,0)","v":0},{"$f":"IF(AND('User Input'!$C$52='User Input'!$C$23,CE40=1),1,0)","v":0},{"$f":"IF(CD40=1,0,IF(AND('User Input'!$C$52='User Input'!$C$24,Ranking!CF40=1),1,0))","v":0},{"$f":"IF(CE40=1,0,IF(AND('User Input'!$C$52='User Input'!$C$25,Ranking!CG40=1),1,0))","v":0},{"$f":"IF(CF40=1,0,IF(AND('User Input'!$C$52='User Input'!$C$26,Ranking!CH40=1),1,0))","v":0},{"$f":"IF(CG40=1,0,IF(AND('User Input'!$C$52='User Input'!$C$27,Ranking!CI40=1),1,0))","v":0},{"$f":"IF(AND('User Input'!$D$52='User Input'!$D$23,Ranking!CJ40>5000),1,0)","v":0},{"$f":"IF('User Input'!$E$52='User Input'!$E$25,1,IF(AND('User Input'!$E$52='User Input'!$E$23,Ranking!CM40=1),1,IF(AND('User Input'!$E$52='User Input'!$E$24,Ranking!CM40=0),1,0)))","v":0},{"$f":"IF(AND('User Input'!$F$52='User Input'!$F$23,Ranking!DS40=1),1,0)","v":0},{"$f":"IF(AND('User Input'!$F$52='User Input'!$F$24,Ranking!DT40=1),1,0)","v":0},{"$f":"IF(AND('User Input'!$F$52='User Input'!$F$25,Ranking!DU40=1),1,0)","v":0},{"$f":"IF('User Input'!$G$52='User Input'!$G$24,1,IF(AND('User Input'!$G$52='User Input'!$G$23,DH40=\"Y\"),1,0))","v":0},{"$f":"IF('User Input'!$H$52='User Input'!$H$23,1,IF(AND('User Input'!$H$52='User Input'!$H$24,Ranking!BK40<>\"Video\"),1,0))","v":1},{"$f":"IF(AND('User Input'!$I$52='User Input'!$I$23,Ranking!DV40=1),1,0)","v":0},{"$f":"IF(AND('User Input'!$I$52='User Input'!$I$24,Ranking!DW40=1),1,0)","v":0},{"$f":"IF(AND('User Input'!$I$52='User Input'!$I$25,Ranking!DX40=1),1,0)","v":0},{"$f":"IF('User Input'!$J$52='User Input'!$J$23,1,IF(AND('User Input'!$J$52='User Input'!$J$24,Ranking!DY40=0),1,0))","v":1},{"$f":"IF('User Input'!$K$52='User Input'!$K$24,1,IF(AND('User Input'!$K$52='User Input'!$K$23,Ranking!CO40=1),1,0))","v":0},null,null,"Placeholder"]
[{"$f":"IF(AND('User Input'!$D$35='User Input'!$D$6,Ranking!BN41=1),1,0)","v":0},{"$f":"IF(AND('User Input'!$D$35='User Input'!$D$7,Ranking!BO41=1),1,0)","v":0},{"$f":"IF(AND('User Input'!$D$35='User Input'!$D$8,Ranking!BP41=1),1,0)","v":0},{"$f":"IF(AND('User Input'!$F$35='User Input'!$F$7,Ranking!BQ41=1),1,0)","v":0},{"$f":"IF(AND('User Input'!$F$35='User Input'!$F$6,Ranking!BR41=1),1,0)","v":0},{"$f":"IF(AND('User Input'!$F$35='User Input'!$F$8,Ranking!BS41=1),1,0)","v":0},{"$f":"IF(AND('User Input'!$F$35='User Input'!$F$9,Ranking!BT41=1),1,0)","v":0},{"$f":"IF(AND('User Input'!$F$35='User Input'!$F$10,Ranking!BU41=1),1,0)","v":0},{"$f":"IF(BV41=0,1,IF(AND(BV41=1,'User Input'!$G$35='User Input'!$G$6),0,IF(AND(BV41=1,'User Input'!$G$35='User Input'!$G$7),1,0)))","v":1},{"$f":"IF(BW41=0,1,IF(AND(BW41=1,'User Input'!$H$35='User Input'!$H$6),1,IF(AND(BW41=1,'User Input'!$H$35='User Input'!$H$7),0)))","v":1},{"$f":"IF('User Input'!$I$35='User Input'!$I$6,1,IF(AND('User Input'!$I$35='User Input'!$I$7,Ranking!BX41=0),1,0))","v":1},{"$f":"IF('User Input'!$K$35='User Input'!$K$7,1,IF(AND(OR('User Input'!$K$35='User Input'!$K$6,'User Input'!$K$35='User Input'!$K$8),Ranking!$CZ41=\"Y\"),1,0))","v":0},{"$f":"IF(AND('User Input'!$B$38='User Input'!$B$13,Ranking!CA41=1),1,0)","v":0},{"$f":"IF(AND('User Input'!$B$38='User Input'!$B$14,Ranking!CB41=1),1,0)","v":0},{"$f":"IF(AND('User Input'!$B$38='User Input'!$B$15,Ranking!CC41=1),1,0)","v":0},{"$f":"IF(AND('User Input'!$C$38='User Input'!$C$13,DA41=1),1,0)","v":0},{"$f":"IF(AND('User Input'!$C$38='User Input'!$C$14,Ranking!DB41=1),1,0)","v":0},{"$f":"IF(AND('User Input'!$C$38='User Input'!$C$15,Ranking!DC41=1),1,0)","v":0},{"$f":"IF(AND('User Input'!$C$38='User Input'!$C$16,Ranking!DD41=1),1,0)","v":0},{"$f":"IF(AND('User Input'!$C$38='User Input'!$C$17,Ranking!DE41=1),1,0)","v":0},{"$f":"IF(AND('User Input'!$C$38='User Input'!$C$18,Ranking!DF41=1),1,0)","v":0},{"$f":"IF('User Input'!$I$38='User Input'!$I$13,1,IF(AND('User Input'!$I$38='User Input'!$I53,Ranking!$BY41>0.8),1,IF(AND('User Input'!$I$38='User Input'!$I$15,Ranking!$BY41>0.9),1,IF(AND('User Input'!$I$38='User Input'!$D$16,Ranking!$BY41>0.95),1,0))))","v":0},{"$f":"IF('User Input'!$D$38='User Input'!$D$13,1,IF(AND('User Input'!$D$38='User Input'!$D$14,Ranking!$BZ41>0.8),1,IF(AND('User Input'!$D$38='User Input'!$D$15,Ranking!$BZ41>0.9),1,IF(AND('User Input'!$D$38='User Input'!$D$16,Ranking!$BZ41>0.95),1,0))))","v":0},{"$f":"IF(AND('User Input'!$E$38='User Input'!$E$13,Ranking!DF41=1),1,0)","v":0},{"$f":"IF(AND('User Input'!$F$58=TRUE,Ranking!DI41=1),1,IF(AND('User Input'!$F$58=FALSE,Ranking!DI41=0),1,0))","v":0},{"$f":"IF(AND('User Input'!$F$59=TRUE,Ranking!DJ41=1),1,IF(AND('User Input'!$F$59=FALSE,Ranking!DJ41=0),1,0))","v":1},{"$f":"IF(AND('User Input'!$F$60=TRUE,Ranking!DK41=1),1,IF(AND('User Input'!$F$60=FALSE,Ranking!DK41=0),1,0))","v":1},{"$f":"IF(AND('User Input'!$F$61=TRUE,Ranking!DL41=1),1,IF(AND('User Input'!$F$61=FALSE,Ranking!DL41=0),1,0))","v":0},{"$f":"IF(AND('User Input'!$F$62=TRUE,Ranking!DM41=1),1,IF(AND('User Input'!$F$62=FALSE,Ranking!DM41=0),1,0))","v":0},{"$f":"IF(AND('User Input'!$F$63=TRUE,Ranking!DN41=1),1,IF(AND('User Input'!$F$63=FALSE,Ranking!DN41=0),1,0))","v":0},{"$f":"IF(AND('User Input'!$F$64=TRUE,Ranking!DO41=1),1,IF(AND('User Input'!$F$64=FALSE,Ranking!DO41=0),1,0))","v":0},{"$f":"IF(AND('User Input'!$F$65=TRUE,Ranking!DP41=1),1,IF(AND('User Input'!$F$65=FALSE,Ranking!DP41=0),1,0))","v":0},{"$f":"IF(AND('User Input'!$F$66=TRUE,Ranking!DQ41=1),1,IF(AND('User Input'!$F$66=FALSE,Ranking!DQ41=0),1,0))","v":0},{"$f":"IF(AND('User Input'!$F$67=TRUE,Ranking!DR41=1),1,IF(AND('User Input'!$F$67=FALSE,Ranking!DR41=0),1,0))","v":0},{"$f":"IF(Ranking!CV41=\"Y\",1,IF(AND('User Input'!$G$38='User Input'!$G$14,Ranking!CV41=\"N\"),1,0))","v":0},{"$f":"IF(OR(Ranking!DG41=\"Y\",'User Input'!$H$38='User Input'!$H$14),1,IF(AND('User Input'!$H$38='User Input'!$H$13,Ranking!DG41=\"Y\"),1,0))","v":0},{"$f":"IF(AND('User Input'!$B$52='User Input'!$B$23,Ranking!CL41<'User Input'!$A$23),1,0)","v":0},{"$f":"IF(AND('User Input'!$B$52='User Input'!$B$24,Ranking!CL41<'User Input'!$A$24),1,0)","v":0},{"$f":"IF(AND('User Input'!$B$52='User Input'!$B$25,Ranking!CL41<'User Input'!$A$25),1,0)","v":1},{"$f":"IF(AND('User Input'!$B$52='User Input'!$B$26,Ranking!CL41<'User Input'!$A$26),1,0)","v":0},{"$f":"IF('User Input'!$B$52='User Input'!$B$27,1,0)","v":0},{"$f":"IF(AND('User Input'!$C$52='User Input'!$C$23,CE41=1),1,0)","v":0},{"$f":"IF(CD41=1,0,IF(AND('User Input'!$C$52='User Input'!$C$24,Ranking!CF41=1),1,0))","v":0},{"$f":"IF(CE41=1,0,IF(AND('User Input'!$C$52='User Input'!$C$25,Ranking!CG41=1),1,0))","v":0},{"$f":"IF(CF41=1,0,IF(AND('User Input'!$C$52='User Input'!$C$26,Ranking!CH41=1),1,0))","v":0},{"$f":"IF(CG41=1,0,IF(AND('User Input'!$C$52='User Input'!$C$27,Ranking!CI41=1),1,0))","v":0},{"$f":"IF(AND('User Input'!$D$52='User Input'!$D$23,Ranking!CJ41>5000),1,0)","v":0},{"$f":"IF('User Input'!$E$52='User Input'!$E$25,1,IF(AND('User Input'!$E$52='User Input'!$E$23,Ranking!CM41=1),1,IF(AND('User Input'!$E$52='User Input'!$E$24,Ranking!CM41=0),1,0)))","v":0},{"$f":"IF(AND('User Input'!$F$52='User Input'!$F$23,Ranking!DS41=1),1,0)","v":0},{"$f":"IF(AND('User Input'!$F$52='User Input'!$F$24,Ranking!DT41=1),1,0)","v":0},{"$f":"IF(AND('User Input'!$F$52='User Input'!$F$25,Ranking!DU41=1),1,0)","v":0},{"$f":"IF('User Input'!$G$52='User Input'!$G$24,1,IF(AND('User Input'!$G$52='User Input'!$G$23,DH41=\"Y\"),1,0))","v":0},{"$f":"IF('User Input'!$H$52='User Input'!$H$23,1,IF(AND('User Input'!$H$52='User Input'!$H$24,Ranking!BK41<>\"Video\"),1,0))","v":1},{"$f":"IF(AND('User Input'!$I$52='User Input'!$I$23,Ranking!DV41=1),1,0)","v":0},{"$f":"IF(AND('User Input'!$I$52='User Input'!$I$24,Ranking!DW41=1),1,0)","v":0},{"$f":"IF(AND('User Input'!$I$52='User Input'!$I$25,Ranking!DX41=1),1,0)","v":0},{"$f":"IF('User Input'!$J$52='User Input'!$J$23,1,IF(AND('User Input'!$J$52='User Input'!$J$24,Ranking!DY41=0),1,0))","v":1},{"$f":"IF('User Input'!$K$52='User Input'!$K$24,1,IF(AND('User Input'!$K$52='User Input'!$K$23,Ranking!CO41=1),1,0))","v":0},null,null,"Placeholder"]
[{"$f":"IF(AND('User Input'!$D$35='User Input'!$D$6,Ranking!BN42=1),1,0)","v":0},{"$f":"IF(AND('User Input'!$D$35='User Input'!$D$7,Ranking!BO42=1),1,0)","v":0},{"$f":"IF(AND('User Input'!$D$35='User Input'!$D$8,Ranking!BP42=1),1,0)","v":0},{"$f":"IF(AND('User Input'!$F$35='User Input'!$F$7,Ranking!BQ42=1),1,0)","v":0},{"$f":"IF(AND('User Input'!$F$35='User Input'!$F$6,Ranking!BR42=1),1,0)","v":0},{"$f":"IF(AND('User Input'!$F$35='User Input'!$F$8,Ranking!BS42=1),1,0)","v":0},{"$f":"IF(AND('User Input'!$F$35='User Input'!$F$9,Ranking!BT42=1),1,0)","v":0},{"$f":"IF(AND('User Input'!$F$35='User Input'!$F$10,Ranking!BU42=1),1,0)","v":0},{"$f":"IF(BV42=0,1,IF(AND(BV42=1,'User Input'!$G$35='User Input'!$G$6),0,IF(AND(BV42=1,'User Input'!$G$35='User Input'!$G$7),1,0)))","v":1},{"$f":"IF(BW42=0,1,IF(AND(BW42=1,'User Input'!$H$35='User Input'!$H$6),1,IF(AND(BW42=1,'User Input'!$H$35='User Input'!$H$7),0)))","v":1},{"$f":"IF('User Input'!$I$35='User Input'!$I$6,1,IF(AND('User Input'!$I$35='User Input'!$I$7,Ranking!BX42=0),1,0))","v":1},{"$f":"IF('User Input'!$K$35='User Input'!$K$7,1,IF(AND(OR('User Input'!$K$35='User Input'!$K$6,'User Input'!$K$35='User Input'!$K$8),Ranking!$CZ42=\"Y\"),1,0))","v":0},{"$f":"IF(AND('User Input'!$B$38='User Input'!$B$13,Ranking!CA42=1),1,0)","v":0},{"$f":"IF(AND('User Input'!$B$38='User Input'!$B$14,Ranking!CB42=1),1,0)","v":0},{"$f":"IF(AND('User Input'!$B$38='User Input'!$B$15,Ranking!CC42=1),1,0)","v":0},{"$f":"IF(AND('User Input'!$C$38='User Input'!$C$13,DA42=1),1,0)","v":0},{"$f":"IF(AND('User Input'!$C$38='User Input'!$C$14,Ranking!DB42=1),1,0)","v":0},{"$f":"IF(AND('User Input'!$C$38='User Input'!$C$15,Ranking!DC42=1),1,0)","v":0},{"$f":"IF(AND('User Input'!$C$38='User Input'!$C$16,Ranking!DD42=1),1,0)","v":0},{"$f":"IF(AND('User Input'!$C$38='User Input'!$C$17,Ranking!DE42=1),1,0)","v":0},{"$f":"IF(AND('User Input'!$C$38='User Input'!$C$18,Ranking!DF42=1),1,0)","v":0},{"$f":"IF('User Input'!$I$38='User Input'!$I$13,1,IF(AND('User Input'!$I$38='User Input'!$I54,Ranking!$BY42>0.8),1,IF(AND('User Input'!$I$38='User Input'!$I$15,Ranking!$BY42>0.9),1,IF(AND('User Input'!$I$38='User Input'!$D$16,Ranking!$BY42>0.95),1,0))))","v":0},{"$f":"IF('User Input'!$D$38='User Input'!$D$13,1,IF(AND('User Input'!$D$38='User Input'!$D$14,Ranking!$BZ42>0.8),1,IF(AND('User Input'!$D$38='User Input'!$D$15,Ranking!$BZ42>0.9),1,IF(AND('User Input'!$D$38='User Input'!$D$16,Ranking!$BZ42>0.95),1,0))))","v":0},{"$f":"IF(AND('User Input'!$E$38='User Input'!$E$13,Ranking!DF42=1),1,0)","v":0},{"$f":"IF(AND('User Input'!$F$58=TRUE,Ranking!DI42=1),1,IF(AND('User Input'!$F$58=FALSE,Ranking!DI42=0),1,0))","v":0},{"$f":"IF(AND('User Input'!$F$59=TRUE,Ranking!DJ42=1),1,IF(AND('User Input'!$F$59=FALSE,Ranking!DJ42=0),1,0))","v":1},{"$f":"IF(AND('User Input'!$F$60=TRUE,Ranking!DK42=1),1,IF(AND('User Input'!$F$60=FALSE,Ranking!DK42=0),1,0))","v":1},{"$f":"IF(AND('User Input'!$F$61=TRUE,Ranking!DL42=1),1,IF(AND('User Input'!$F$61=FALSE,Ranking!DL42=0),1,0))","v":0},{"$f":"IF(AND('User Input'!$F$62=TRUE,Ranking!DM42=1),1,IF(AND('User Input'!$F$62=FALSE,Ranking!DM42=0),1,0))","v":0},{"$f":"IF(AND('User Input'!$F$63=TRUE,Ranking!DN42=1),1,IF(AND('User Input'!$F$63=FALSE,Ranking!DN42=0),1,0))","v":0},{"$f":"IF(AND('User Input'!$F$64=TRUE,Ranking!DO42=1),1,IF(AND('User Input'!$F$64=FALSE,Ranking!DO42=0),1,0))","v":0},{"$f":"IF(AND('User Input'!$F$65=TRUE,Ranking!DP42=1),1,IF(AND('User Input'!$F$65=FALSE,Ranking!DP42=0),1,0))","v":0},{"$f":"IF(AND('User Input'!$F$66=TRUE,Ranking!DQ42=1),1,IF(AND('User Input'!$F$66=FALSE,Ranking!DQ42=0),1,0))","v":0},{"$f":"IF(AND('User Input'!$F$67=TRUE,Ranking!DR42=1),1,IF(AND('User Input'!$F$67=FALSE,Ranking!DR42=0),1,0))","v":0},{"$f":"IF(Ranking!CV42=\"Y\",1,IF(AND('User Input'!$G$38='User Input'!$G$14,Ranking!CV42=\"N\"),1,0))","v":0},{"$f":"IF(OR(Ranking!DG42=\"Y\",'User Input'!$H$38='User Input'!$H$14),1,IF(AND('User Input'!$H$38='User Input'!$H$13,Ranking!DG42=\"Y\"),1,0))","v":0},{"$f":"IF(AND('User Input'!$B$52='User Input'!$B$23,Ranking!CL42<'User Input'!$A$23),1,0)","v":0},{"$f":"IF(AND('User Input'!$B$52='User Input'!$B$24,Ranking!CL42<'User Input'!$A$24),1,0)","v":0},{"$f":"IF(AND('User Input'!$B$52='User Input'!$B$25,Ranking!CL42<'User Input'!$A$25),1,0)","v":1},{"$f":"IF(AND('User Input'!$B$52='User Input'!$B$26,Ranking!CL42<'User Input'!$A$26),1,0)","v":0},{"$f":"IF('User Input'!$B$52='User Input'!$B$27,1,0)","v":0},{"$f":"IF(AND('User Input'!$C$52='User Input'!$C$23,CE42=1),1,0)","v":0},{"$f":"IF(CD42=1,0,IF(AND('User Input'!$C$52='User Input'!$C$24,Ranking!CF42=1),1,0))","v":0},{"$f":"IF(CE42=1,0,IF(AND('User Input'!$C$52='User Input'!$C$25,Ranking!CG42=1),1,0))","v":0},{"$f":"IF(CF42=1,0,IF(AND('User Input'!$C$52='User Input'!$C$26,Ranking!CH42=1),1,0))","v":0},{"$f":"IF(CG42=1,0,IF(AND('User Input'!$C$52='User Input'!$C$27,Ranking!CI42=1),1,0))","v":0},{"$f":"IF(AND('User Input'!$D$52='User Input'!$D$23,Ranking!CJ42>5000),1,0)","v":0},{"$f":"IF('User Input'!$E$52='User Input'!$E$25,1,IF(AND('User Input'!$E$52='User Input'!$E$23,Ranking!CM42=1),1,IF(AND('User Input'!$E$52='User Input'!$E$24,Ranking!CM42=0),1,0)))","v":0},{"$f":"IF(AND('User Input'!$F$52='User Input'!$F$23,Ranking!DS42=1),1,0)","v":0},{"$f":"IF(AND('User Input'!$F$52='User Input'!$F$24,Ranking!DT42=1),1,0)","v":0},{"$f":"IF(AND('User Input'!$F$52='User Input'!$F$25,Ranking!DU42=1),1,0)","v":0},{"$f":"IF('User Input'!$G$52='User Input'!$G$24,1,IF(AND('User Input'!$G$52='User Input'!$G$23,DH42=\"Y\"),1,0))","v":0},{"$f":"IF('User Input'!$H$52='User Input'!$H$23,1,IF(AND('User Input'!$H$52='User Input'!$H$24,Ranking!BK42<>\"Video\"),1,0))","v":1},{"$f":"IF(AND('User Input'!$I$52='User Input'!$I$23,Ranking!DV42=1),1,0)","v":0},{"$f":"IF(AND('User Input'!$I$52='User Input'!$I$24,Ranking!DW42=1),1,0)","v":0},{"$f":"IF(AND('User Input'!$I$52='User Input'!$I$25,Ranking!DX42=1),1,0)","v":0},{"$f":"IF('User Input'!$J$52='User Input'!$J$23,1,IF(AND('User Input'!$J$52='User Input'!$J$24,Ranking!DY42=0),1,0))","v":1},{"$f":"IF('User Input'!$K$52='User Input'!$K$24,1,IF(AND('User Input'!$K$52='User Input'!$K$23,Ranking!CO42=1),1,0))","v":0},null,null,"Placeholder"]
[{"$f":"IF(AND('User Input'!$D$35='User Input'!$D$6,Ranking!BN43=1),1,0)","v":0},{"$f":"IF(AND('User Input'!$D$35='User Input'!$D$7,Ranking!BO43=1),1,0)","v":0},{"$f":"IF(AND('User Input'!$D$35='User Input'!$D$8,Ranking!BP43=1),1,0)","v":0},{"$f":"IF(AND('User Input'!$F$35='User Input'!$F$7,Ranking!BQ43=1),1,0)","v":0},{"$f":"IF(AND('User Input'!$F$35='User Input'!$F$6,Ranking!BR43=1),1,0)","v":0},{"$f":"IF(AND('User Input'!$F$35='User Input'!$F$8,Ranking!BS43=1),1,0)","v":0},{"$f":"IF(AND('User Input'!$F$35='User Input'!$F$9,Ranking!BT43=1),1,0)","v":0},{"$f":"IF(AND('User Input'!$F$35='User Input'!$F$10,Ranking!BU43=1),1,0)","v":0},{"$f":"IF(BV43=0,1,IF(AND(BV43=1,'User Input'!$G$35='User Input'!$G$6),0,IF(AND(BV43=1,'User Input'!$G$35='User Input'!$G$7),1,0)))","v":1},{"$f":"IF(BW43=0,1,IF(AND(BW43=1,'User Input'!$H$35='User Input'!$H$6),1,IF(AND(BW43=1,'User Input'!$H$35='User Input'!$H$7),0)))","v":1},{"$f":"IF('User Input'!$I$35='User Input'!$I$6,1,IF(AND('User Input'!$I$35='User Input'!$I$7,Ranking!BX43=0),1,0))","v":1},{"$f":"IF('User Input'!$K$35='User Input'!$K$7,1,IF(AND(OR('User Input'!$K$35='User Input'!$K$6,'User Input'!$K$35='User Input'!$K$8),Ranking!$CZ43=\"Y\"),1,0))","v":0},{"$f":"IF(AND('User Input'!$B$38='User Input'!$B$13,Ranking!CA43=1),1,0)","v":0},{"$f":"IF(AND('User Input'!$B$38='User Input'!$B$14,Ranking!CB43=1),1,0)","v":0},{"$f":"IF(AND('User Input'!$B$38='User Input'!$B$15,Ranking!CC43=1),1,0)","v":0},{"$f":"IF(AND('User Input'!$C$38='User Input'!$C$13,DA43=1),1,0)","v":0},{"$f":"IF(AND('User Input'!$C$38='User Input'!$C$14,Ranking!DB43=1),1,0)","v":0},{"$f":"IF(AND('User Input'!$C$38='User Input'!$C$15,Ranking!DC43=1),1,0)","v":0},{"$f":"IF(AND('User Input'!$C$38='User Input'!$C$16,Ranking!DD43=1),1,0)","v":0},{"$f":"IF(AND('User Input'!$C$38='User Input'!$C$17,Ranking!DE43=1),1,0)","v":0},{"$f":"IF(AND('User Input'!$C$38='User Input'!$C$18,Ranking!DF43=1),1,0)","v":0},{"$f":"IF('User Input'!$I$38='User Input'!$I$13,1,IF(AND('User Input'!$I$38='User Input'!$I55,Ranking!$BY43>0.8),1,IF(AND('User Input'!$I$38='User Input'!$I$15,Ranking!$BY43>0.9),1,IF(AND('User Input'!$I$38='User Input'!$D$16,Ranking!$BY43>0.95),1,0))))","v":0},{"$f":"IF('User Input'!$D$38='User Input'!$D$13,1,IF(AND('User Input'!$D$38='User Input'!$D$14,Ranking!$BZ43>0.8),1,IF(AND('User Input'!$D$38='User Input'!$D$15,Ranking!$BZ43>0.9),1,IF(AND('User Input'!$D$38='User Input'!$D$16,Ranking!$BZ43>0.95),1,0))))","v":0},{"$f":"IF(AND('User Input'!$E$38='User Input'!$E$13,Ranking!DF43=1),1,0)","v":0},{"$f":"IF(AND('User Input'!$F$58=TRUE,Ranking!DI43=1),1,IF(AND('User Input'!$F$58=FALSE,Ranking!DI43=0),1,0))","v":0},{"$f":"IF(AND('User Input'!$F$59=TRUE,Ranking!DJ43=1),1,IF(AND('User Input'!$F$59=FALSE,Ranking!DJ43=0),1,0))","v":1},{"$f":"IF(AND('User Input'!$F$60=TRUE,Ranking!DK43=1),1,IF(AND('User Input'!$F$60=FALSE,Ranking!DK43=0),1,0))","v":1},{"$f":"IF(AND('User Input'!$F$61=TRUE,Ranking!DL43=1),1,IF(AND('User Input'!$F$61=FALSE,Ranking!DL43=0),1,0))","v":0},{"$f":"IF(AND('User Input'!$F$62=TRUE,Ranking!DM43=1),1,IF(AND('User Input'!$F$62=FALSE,Ranking!DM43=0),1,0))","v":0},{"$f":"IF(AND('User Input'!$F$63=TRUE,Ranking!DN43=1),1,IF(AND('User Input'!$F$63=FALSE,Ranking!DN43=0),1,0))","v":0},{"$f":"IF(AND('User Input'!$F$64=TRUE,Ranking!DO43=1),1,IF(AND('User Input'!$F$64=FALSE,Ranking!DO43=0),1,0))","v":0},{"$f":"IF(AND('User Input'!$F$65=TRUE,Ranking!DP43=1),1,IF(AND('User Input'!$F$65=FALSE,Ranking!DP43=0),1,0))","v":0},{"$f":"IF(AND('User Input'!$F$66=TRUE,Ranking!DQ43=1),1,IF(AND('User Input'!$F$66=FALSE,Ranking!DQ43=0),1,0))","v":0},{"$f":"IF(AND('User Input'!$F$67=TRUE,Ranking!DR43=1),1,IF(AND('User Input'!$F$67=FALSE,Ranking!DR43=0),1,0))","v":0},{"$f":"IF(Ranking!CV43=\"Y\",1,IF(AND('User Input'!$G$38='User Input'!$G$14,Ranking!CV43=\"N\"),1,0))","v":0},{"$f":"IF(OR(Ranking!DG43=\"Y\",'User Input'!$H$38='User Input'!$H$14),1,IF(AND('User Input'!$H$38='User Input'!$H$13,Ranking!DG43=\"Y\"),1,0))","v":0},{"$f":"IF(AND('User Input'!$B$52='User Input'!$B$23,Ranking!CL43<'User Input'!$A$23),1,0)","v":0},{"$f":"IF(AND('User Input'!$B$52='User Input'!$B$24,Ranking!CL43<'User Input'!$A$24),1,0)","v":0},{"$f":"IF(AND('User Input'!$B$52='User Input'!$B$25,Ranking!CL43<'User Input'!$A$25),1,0)","v":1},{"$f":"IF(AND('User Input'!$B$52='User Input'!$B$26,Ranking!CL43<'User Input'!$A$26),1,0)","v":0},{"$f":"IF('User Input'!$B$52='User Input'!$B$27,1,0)","v":0},{"$f":"IF(AND('User Input'!$C$52='User Input'!$C$23,CE43=1),1,0)","v":0},{"$f":"IF(CD43=1,0,IF(AND('User Input'!$C$52='User Input'!$C$24,Ranking!CF43=1),1,0))","v":0},{"$f":"IF(CE43=1,0,IF(AND('User Input'!$C$52='User Input'!$C$25,Ranking!CG43=1),1,0))","v":0},{"$f":"IF(CF43=1,0,IF(AND('User Input'!$C$52='User Input'!$C$26,Ranking!CH43=1),1,0))","v":0},{"$f":"IF(CG43=1,0,IF(AND('User Input'!$C$52='User Input'!$C$27,Ranking!CI43=1),1,0))","v":0},{"$f":"IF(AND('User Input'!$D$52='User Input'!$D$23,Ranking!CJ43>5000),1,0)","v":0},{"$f":"IF('User Input'!$E$52='User Input'!$E$25,1,IF(AND('User Input'!$E$52='User Input'!$E$23,Ranking!CM43=1),1,IF(AND('User Input'!$E$52='User Input'!$E$24,Ranking!CM43=0),1,0)))","v":0},{"$f":"IF(AND('User Input'!$F$52='User Input'!$F$23,Ranking!DS43=1),1,0)","v":0},{"$f":"IF(AND('User Input'!$F$52='User Input'!$F$24,Ranking!DT43=1),1,0)","v":0},{"$f":"IF(AND('User Input'!$F$52='User Input'!$F$25,Ranking!DU43=1),1,0)","v":0},{"$f":"IF('User Input'!$G$52='User Input'!$G$24,1,IF(AND('User Input'!$G$52='User Input'!$G$23,DH43=\"Y\"),1,0))","v":0},{"$f":"IF('User Input'!$H$52='User Input'!$H$23,1,IF(AND('User Input'!$H$52='User Input'!$H$24,Ranking!BK43<>\"Video\"),1,0))","v":1},{"$f":"IF(AND('User Input'!$I$52='User Input'!$I$23,Ranking!DV43=1),1,0)","v":0},{"$f":"IF(AND('User Input'!$I$52='User Input'!$I$24,Ranking!DW43=1),1,0)","v":0},{"$f":"IF(AND('User Input'!$I$52='User Input'!$I$25,Ranking!DX43=1),1,0)","v":0},{"$f":"IF('User Input'!$J$52='User Input'!$J$23,1,IF(AND('User Input'!$J$52='User Input'!$J$24,Ranking!DY43=0),1,0))","v":1},{"$f":"IF('User Input'!$K$52='User Input'!$K$24,1,IF(AND('User Input'!$K$52='User Input'!$K$23,Ranking!CO43=1),1,0))","v":0},null,null,"Placeholder"]
[{"$f":"IF(AND('User Input'!$D$35='User Input'!$D$6,Ranking!BN44=1),1,0)","v":0},{"$f":"IF(AND('User Input'!$D$35='User Input'!$D$7,Ranking!BO44=1),1,0)","v":0},{"$f":"IF(AND('User Input'!$D$35='User Input'!$D$8,Ranking!BP44=1),1,0)","v":0},{"$f":"IF(AND('User Input'!$F$35='User Input'!$F$7,Ranking!BQ44=1),1,0)","v":0},{"$f":"IF(AND('User Input'!$F$35='User Input'!$F$6,Ranking!BR44=1),1,0)","v":0},{"$f":"IF(AND('User Input'!$F$35='User Input'!$F$8,Ranking!BS44=1),1,0)","v":0},{"$f":"IF(AND('User Input'!$F$35='User Input'!$F$9,Ranking!BT44=1),1,0)","v":0},{"$f":"IF(AND('User Input'!$F$35='User Input'!$F$10,Ranking!BU44=1),1,0)","v":0},{"$f":"IF(BV44=0,1,IF(AND(BV44=1,'User Input'!$G$35='User Input'!$G$6),0,IF(AND(BV44=1,'User Input'!$G$35='User Input'!$G$7),1,0)))","v":1},{"$f":"IF(BW44=0,1,IF(AND(BW44=1,'User Input'!$H$35='User Input'!$H$6),1,IF(AND(BW44=1,'User Input'!$H$35='User Input'!$H$7),0)))","v":1},{"$f":"IF('User Input'!$I$35='User Input'!$I$6,1,IF(AND('User Input'!$I$35='User Input'!$I$7,Ranking!BX44=0),1,0))","v":1},{"$f":"IF('User Input'!$K$35='User Input'!$K$7,1,IF(AND(OR('User Input'!$K$35='User Input'!$K$6,'User Input'!$K$35='User Input'!$K$8),Ranking!$CZ44=\"Y\"),1,0))","v":0},{"$f":"IF(AND('User Input'!$B$38='User Input'!$B$13,Ranking!CA44=1),1,0)","v":0},{"$f":"IF(AND('User Input'!$B$38='User Input'!$B$14,Ranking!CB44=1),1,0)","v":0},{"$f":"IF(AND('User Input'!$B$38='User Input'!$B$15,Ranking!CC44=1),1,0)","v":0},{"$f":"IF(AND('User Input'!$C$38='User Input'!$C$13,DA44=1),1,0)","v":0},{"$f":"IF(AND('User Input'!$C$38='User Input'!$C$14,Ranking!DB44=1),1,0)","v":0},{"$f":"IF(AND('User Input'!$C$38='User Input'!$C$15,Ranking!DC44=1),1,0)","v":0},{"$f":"IF(AND('User Input'!$C$38='User Input'!$C$16,Ranking!DD44=1),1,0)","v":0},{"$f":"IF(AND('User Input'!$C$38='User Input'!$C$17,Ranking!DE44=1),1,0)","v":0},{"$f":"IF(AND('User Input'!$C$38='User Input'!$C$18,Ranking!DF44=1),1,0)","v":0},{"$f":"IF('User Input'!$I$38='User Input'!$I$13,1,IF(AND('User Input'!$I$38='User Input'!$I56,Ranking!$BY44>0.8),1,IF(AND('User Input'!$I$38='User Input'!$I$15,Ranking!$BY44>0.9),1,IF(AND('User Input'!$I$38='User Input'!$D$16,Ranking!$BY44>0.95),1,0))))","v":0},{"$f":"IF('User Input'!$D$38='User Input'!$D$13,1,IF(AND('User Input'!$D$38='User Input'!$D$14,Ranking!$BZ44>0.8),1,IF(AND('User Input'!$D$38='User Input'!$D$15,Ranking!$BZ44>0.9),1,IF(AND('User Input'!$D$38='User Input'!$D$16,Ranking!$BZ44>0.95),1,0))))","v":0},{"$f":"IF(AND('User Input'!$E$38='User Input'!$E$13,Ranking!DF44=1),1,0)","v":0},{"$f":"IF(AND('User Input'!$F$58=TRUE,Ranking!DI44=1),1,IF(AND('User Input'!$F$58=FALSE,Ranking!DI44=0),1,0))","v":0},{"$f":"IF(AND('User Input'!$F$59=TRUE,Ranking!DJ44=1),1,IF(AND('User Input'!$F$59=FALSE,Ranking!DJ44=0),1,0))","v":1},{"$f":"IF(AND('User Input'!$F$60=TRUE,Ranking!DK44=1),1,IF(AND('User Input'!$F$60=FALSE,Ranking!DK44=0),1,0))","v":1},{"$f":"IF(AND('User Input'!$F$61=TRUE,Ranking!DL44=1),1,IF(AND('User Input'!$F$61=FALSE,Ranking!DL44=0),1,0))","v":0},{"$f":"IF(AND('User Input'!$F$62=TRUE,Ranking!DM44=1),1,IF(AND('User Input'!$F$62=FALSE,Ranking!DM44=0),1,0))","v":0},{"$f":"IF(AND('User Input'!$F$63=TRUE,Ranking!DN44=1),1,IF(AND('User Input'!$F$63=FALSE,Ranking!DN44=0),1,0))","v":0},{"$f":"IF(AND('User Input'!$F$64=TRUE,Ranking!DO44=1),1,IF(AND('User Input'!$F$64=FALSE,Ranking!DO44=0),1,0))","v":0},{"$f":"IF(AND('User Input'!$F$65=TRUE,Ranking!DP44=1),1,IF(AND('User Input'!$F$65=FALSE,Ranking!DP44=0),1,0))","v":0},{"$f":"IF(AND('User Input'!$F$66=TRUE,Ranking!DQ44=1),1,IF(AND('User Input'!$F$66=FALSE,Ranking!DQ44=0),1,0))","v":0},{"$f":"IF(AND('User Input'!$F$67=TRUE,Ranking!DR44=1),1,IF(AND('User Input'!$F$67=FALSE,Ranking!DR44=0),1,0))","v":0},{"$f":"IF(Ranking!CV44=\"Y\",1,IF(AND('User Input'!$G$38='User Input'!$G$14,Ranking!CV44=\"N\"),1,0))","v":0},{"$f":"IF(OR(Ranking!DG44=\"Y\",'User Input'!$H$38='User Input'!$H$14),1,IF(AND('User Input'!$H$38='User Input'!$H$13,Ranking!DG44=\"Y\"),1,0))","v":0},{"$f":"IF(AND('User Input'!$B$52='User Input'!$B$23,Ranking!CL44<'User Input'!$A$23),1,0)","v":0},{"$f":"IF(AND('User Input'!$B$52='User Input'!$B$24,Ranking!CL44<'User Input'!$A$24),1,0)","v":0},{"$f":"IF(AND('User Input'!$B$52='User Input'!$B$25,Ranking!CL44<'User Input'!$A$25),1,0)","v":1},{"$f":"IF(AND('User Input'!$B$52='User Input'!$B$26,Ranking!CL44<'User Input'!$A$26),1,0)","v":0},{"$f":"IF('User Input'!$B$52='User Input'!$B$27,1,0)","v":0},{"$f":"IF(AND('User Input'!$C$52='User Input'!$C$23,CE44=1),1,0)","v":0},{"$f":"IF(CD44=1,0,IF(AND('User Input'!$C$52='User Input'!$C$24,Ranking!CF44=1),1,0))","v":0},{"$f":"IF(CE44=1,0,IF(AND('User Input'!$C$52='User Input'!$C$25,Ranking!CG44=1),1,0))","v":0},{"$f":"IF(CF44=1,0,IF(AND('User Input'!$C$52='User Input'!$C$26,Ranking!CH44=1),1,0))","v":0},{"$f":"IF(CG44=1,0,IF(AND('User Input'!$C$52='User Input'!$C$27,Ranking!CI44=1),1,0))","v":0},{"$f":"IF(AND('User Input'!$D$52='User Input'!$D$23,Ranking!CJ44>5000),1,0)","v":0},{"$f":"IF('User Input'!$E$52='User Input'!$E$25,1,IF(AND('User Input'!$E$52='User Input'!$E$23,Ranking!CM44=1),1,IF(AND('User Input'!$E$52='User Input'!$E$24,Ranking!CM44=0),1,0)))","v":0},{"$f":"IF(AND('User Input'!$F$52='User Input'!$F$23,Ranking!DS44=1),1,0)","v":0},{"$f":"IF(AND('User Input'!$F$52='User Input'!$F$24,Ranking!DT44=1),1,0)","v":0},{"$f":"IF(AND('User Input'!$F$52='User Input'!$F$25,Ranking!DU44=1),1,0)","v":0},{"$f":"IF('User Input'!$G$52='User Input'!$G$24,1,IF(AND('User Input'!$G$52='User Input'!$G$23,DH44=\"Y\"),1,0))","v":0},{"$f":"IF('User Input'!$H$52='User Input'!$H$23,1,IF(AND('User Input'!$H$52='User Input'!$H$24,Ranking!BK44<>\"Video\"),1,0))","v":1},{"$f":"IF(AND('User Input'!$I$52='User Input'!$I$23,Ranking!DV44=1),1,0)","v":0},{"$f":"IF(AND('User Input'!$I$52='User Input'!$I$24,Ranking!DW44=1),1,0)","v":0},{"$f":"IF(AND('User Input'!$I$52='User Input'!$I$25,Ranking!DX44=1),1,0)","v":0},{"$f":"IF('User Input'!$J$52='User Input'!$J$23,1,IF(AND('User Input'!$J$52='User Input'!$J$24,Ranking!DY44=0),1,0))","v":1},{"$f":"IF('User Input'!$K$52='User Input'!$K$24,1,IF(AND('User Input'!$K$52='User Input'!$K$23,Ranking!CO44=1),1,0))","v":0},null,null,"Placeholder"]
[]
[]
[]
[]
[]
[]
[]
[]
[]
[]
[]
["Product","Rank","Total Score","Number of Lanes","Location Type","Lighting at Location","Occlusion at Location","Power Supply at Location","Cameras at Location","Time Frame","Study Type","Accuracy Required (COUNT)","Accuracy Required (Detection)","Real-time data access","Outputs needed","Night Vision","Video Internal Storage","Procurement Budget","Recurring Costs Budget","Inter-division Collaboration","Equipment Ownership","Size of pedestrian program","Quality Control Requirements","Public view on video detection","Agency Goals","Installation capacity","Possibility of manual data transmisstion"]
[{"$f":"BI2","v":"Blue City AI"},{"$f":"RANK(C57,$C$57:$C$57,0)","v":1},{"$f":"SUM(D57:AA57)","v":0.40833333333333333},{"$f":"IF(SUM(Ranking!A2:C2)>0,'User Input'!$D$79, -'User Input'!$D$79)","v":4.1666666666666664E-2},{"$f":"IF(SUM(Ranking!D2:H2)>0,'User Input'!$D$80, -1*'User Input'!$D$80)","v":4.1666666666666664E-2},{"$f":"IF(Ranking!I2>0,'User Input'!$D$81, -'User Input'!$D$81)","v":4.1666666666666664E-2},{"$f":"IF(Ranking!J2>0,'User Input'!$D$82, -'User Input'!$D$82)","v":4.1666666666666664E-2},{"$f":"IF(Ranking!K2>0,'User Input'!$D$83, -'User Input'!$D$83)","v":4.1666666666666664E-2},{"$f":"IF(Ranking!L2>0,'User Input'!$D$84, -'User Input'!$D$84)","v":-4.1666666666666664E-2},{"$f":"IF(SUM(Ranking!M2:O2)>0,'User Input'!$D$85, -'User Input'!$D$85)","v":4.1666666666666664E-2},{"$f":"IF(SUM(Ranking!P2:U2)>0,'User Input'!$D$86, -'User Input'!$D$86)","v":4.1666666666666664E-2},{"$f":"IF(Ranking!W2>0,'User Input'!$D$87, -'User Input'!$D$87)","v":4.1666666666666664E-2},{"$f":"IF(Ranking!W2>0,'User Input'!$D$88, -'User Input'!$D$88)","v":4.1666666666666664E-2},{"$f":"IF(Ranking!X2>0,'User Input'!$D$89, -'User Input'!$D$89)","v":4.1666666666666664E-2},{"$f":"(COUNTIF(Ranking!Y2:AH2,1)*'User Input'!$D$90/10)-(COUNTIF(Ranking!Y2:AH2,0)*'User Input'!$D$90/10)","v":3.3333333333333333E-2},{"$f":"IF(Ranking!AI2>0,'User Input'!$D$91, -'User Input'!$D$91)","v":4.1666666666666664E-2},{"$f":"IF(Ranking!AJ2>0,'User Input'!$D$92, -'User Input'!$D$92)","v":-4.1666666666666664E-2},{"$f":"IF(SUM(Ranking!AK2:AO2)>0,'User Input'!$D$93, -'User Input'!$D$93)","v":-4.1666666666666664E-2},{"$f":"IF(SUM(Ranking!AP2:AT2)>0,'User Input'!$D$94, -'User Input'!$D$94)","v":-4.1666666666666664E-2},{"$f":"IF(Ranking!AU2>0,'User Input'!$D$95, -'User Input'!$D$95)","v":-4.1666666666666664E-2},{"$f":"IF(Ranking!AV2>0,'User Input'!$D$96, -'User Input'!$D$96)","v":4.1666666666666664E-2},{"$f":"IF(SUM(Ranking!AW2:AY2)>0,'User Input'!$D$97, -'User Input'!$D$97)","v":4.1666666666666664E-2},{"$f":"IF(Ranking!AZ2>0,'User Input'!$D$98, -'User Input'!$D$98)","v":-4.1666666666666664E-2},{"$f":"IF(Ranking!BA2>0,'User Input'!$D$99, -'User Input'!$D$99)","v":4.1666666666666664E-2},{"$f":"IF(SUM(Ranking!BB2:BD2)>0,'User Input'!$D$100, -'User Input'!$D$100)","v":-4.1666666666666664E-2},{"$f":"IF(Ranking!BE2>0,'User Input'!$D$101, -'User Input'!$D$101)","v":4.1666666666666664E-2},{"$f":"IF(Ranking!BF2>0,'User Input'!$D$102, -'User Input'!$D$102)","v":4.1666666666666664E-2}]
[{"$f":"BI3","v":"Miovision Scout camera"},{"$error":"#N/A"},{"$f":"SUM(D58:AA58)","v":0.19999999999999998},{"$f":"IF(SUM(Ranking!A3:C3)>0,'User Input'!$D$79, -'User Input'!$D$79)","v":-4.1666666666666664E-2},{"$f":"IF(SUM(Ranking!D3:H3)>0,'User Input'!$D$80, -1*'User Input'!$D$80)","v":4.1666666666666664E-2},{"$f":"IF(Ranking!I3>0,'User Input'!$D$81, -'User Input'!$D$81)","v":4.1666666666666664E-2},{"$f":"IF(Ranking!J3>0,'User Input'!$D$82, -'User Input'!$D$82)","v":4.1666666666666664E-2},{"$f":"IF(Ranking!K3>0,'User Input'!$D$83, -'User Input'!$D$83)","v":4.1666666666666664E-2},{"$f":"IF(Ranking!L3>0,'User Input'!$D$84, -'User Input'!$D$84)","v":-4.1666666666666664E-2},{"$f":"IF(SUM(Ranking!M3:O3)>0,'User Input'!$D$85, -'User Input'!$D$85)","v":-4.1666666666666664E-2},{"$f":"IF(SUM(Ranking!P3:U3)>0,'User Input'!$D$86, -'User Input'!$D$86)","v":-4.1666666666666664E-2},{"$f":"IF(Ranking!W3>0,'User Input'!$D$87, -'User Input'!$D$87)","v":4.1666666666666664E-2},{"$f":"IF(Ranking!W3>0,'User Input'!$D$88, -'User Input'!$D$88)","v":4.1666666666666664E-2},{"$f":"IF(Ranking!X3>0,'User Input'!$D$89, -'User Input'!$D$89)","v":-4.1666666666666664E-2},{"$f":"(COUNTIF(Ranking!Y3:AH3,1)*'User Input'!$D$90/10)-(COUNTIF(Ranking!Y3:AH3,0)*'User Input'!$D$90/10)","v":-8.333333333333335E-3},{"$f":"IF(Ranking!AI3>0,'User Input'!$D$91, -'User Input'!$D$91)","v":4.1666666666666664E-2},{"$f":"IF(Ranking!AJ3>0,'User Input'!$D$92, -'User Input'!$D$92)","v":4.1666666666666664E-2},{"$f":"IF(SUM(Ranking!AK3:AO3)>0,'User Input'!$D$93, -'User Input'!$D$93)","v":-4.1666666666666664E-2},{"$f":"IF(SUM(Ranking!AP3:AT3)>0,'User Input'!$D$94, -'User Input'!$D$94)","v":-4.1666666666666664E-2},{"$f":"IF(Ranking!AU3>0,'User Input'!$D$95, -'User Input'!$D$95)","v":-4.1666666666666664E-2},{"$f":"IF(Ranking!AV3>0,'User Input'!$D$96, -'User Input'!$D$96)","v":4.1666666666666664E-2},{"$f":"IF(SUM(Ranking!AW3:AY3)>0,'User Input'!$D$97, -'User Input'!$D$97)","v":4.1666666666666664E-2},{"$f":"IF(Ranking!AZ3>0,'User Input'!$D$98, -'User Input'!$D$98)","v":4.1666666666666664E-2},{"$f":"IF(Ranking!BA3>0,'User Input'!$D$99, -'User Input'!$D$99)","v":-4.1666666666666664E-2},{"$f":"IF(SUM(Ranking!BB3:BD3)>0,'User Input'!$D$100, -'User Input'!$D$100)","v":4.1666666666666664E-2},{"$f":"IF(Ranking!BE3>0,'User Input'!$D$101, -'User Input'!$D$101)","v":4.1666666666666664E-2},{"$f":"IF(Ranking!BF3>0,'User Input'!$D$102, -'User Input'!$D$102)","v":4.1666666666666664E-2}]
["Miovision TrafficLink",{"$error":"#N/A"},0.55833333333333335,{"$f":"IF(SUM(Ranking!A4:C4)>0,'User Input'!$D$79, -'User Input'!$D$79)","v":4.1666666666666664E-2},{"$f":"IF(SUM(Ranking!D4:H4)>0,'User Input'!$D$80, -1*'User Input'!$D$80)","v":4.1666666666666664E-2},{"$f":"IF(Ranking!I4>0,'User Input'!$D$81, -'User Input'!$D$81)","v":4.1666666666666664E-2},{"$f":"IF(Ranking!J4>0,'User Input'!$D$82, -'User Input'!$D$82)","v":4.1666666666666664E-2},{"$f":"IF(Ranking!K4>0,'User Input'!$D$83, -'User Input'!$D$83)","v":4.1666666666666664E-2},{"$f":"IF(Ranking!L4>0,'User Input'!$D$84, -'User Input'!$D$84)","v":-4.1666666666666664E-2},{"$f":"IF(SUM(Ranking!M4:O4)>0,'User Input'!$D$85, -'User Input'!$D$85)","v":4.1666666666666664E-2},{"$f":"IF(SUM(Ranking!P4:U4)>0,'User Input'!$D$86, -'User Input'!$D$86)","v":4.1666666666666664E-2},{"$f":"IF(Ranking!W4>0,'User Input'!$D$87, -'User Input'!$D$87)","v":4.1666666666666664E-2},{"$f":"IF(Ranking!W4>0,'User Input'!$D$88, -'User Input'!$D$88)","v":4.1666666666666664E-2},{"$f":"IF(Ranking!X4>0,'User Input'!$D$89, -'User Input'!$D$89)","v":4.1666666666666664E-2},{"$f":"(COUNTIF(Ranking!Y4:AH4,1)*'User Input'!$D$90/10)-(COUNTIF(Ranking!Y4:AH4,0)*'User Input'!$D$90/10)","v":1.6666666666666663E-2},{"$f":"IF(Ranking!AI4>0,'User Input'!$D$91, -'User Input'!$D$91)","v":4.1666666666666664E-2},{"$f":"IF(Ranking!AJ4>0,'User Input'!$D$92, -'User Input'!$D$92)","v":-4.1666666666666664E-2},{"$f":"IF(SUM(Ranking!AK4:AO4)>0,'User Input'!$D$93, -'User Input'!$D$93)","v":-4.1666666666666664E-2},{"$f":"IF(SUM(Ranking!AP4:AT4)>0,'User Input'!$D$94, -'User Input'!$D$94)","v":4.1666666666666664E-2},{"$f":"IF(Ranking!AU4>0,'User Input'!$D$95, -'User Input'!$D$95)","v":4.1666666666666664E-2},{"$f":"IF(Ranking!AV4>0,'User Input'!$D$96, -'User Input'!$D$96)","v":4.1666666666666664E-2},{"$f":"IF(SUM(Ranking!AW4:AY4)>0,'User Input'!$D$97, -'User Input'!$D$97)","v":4.1666666666666664E-2},{"$f":"IF(Ranking!AZ4>0,'User Input'!$D$98, -'User Input'!$D$98)","v":4.1666666666666664E-2},{"$f":"IF(Ranking!BA4>0,'User Input'!$D$99, -'User Input'!$D$99)","v":-4.1666666666666664E-2},{"$f":"IF(SUM(Ranking!BB4:BD4)>0,'User Input'!$D$100, -'User Input'!$D$100)","v":-4.1666666666666664E-2},{"$f":"IF(Ranking!BE4>0,'User Input'!$D$101, -'User Input'!$D$101)","v":4.1666666666666664E-2},{"$f":"IF(Ranking!BF4>0,'User Input'!$D$102, -'User Input'!$D$102)","v":4.1666666666666664E-2}]
["Spack Solutions' countCAM3",{"$error":"#N/A"},0.28333333333333333,{"$f":"IF(SUM(Ranking!A5:C5)>0,'User Input'!$D$79, -'User Input'!$D$79)","v":-4.1666666666666664E-2},{"$f":"IF(SUM(Ranking!D5:H5)>0,'User Input'!$D$80, -1*'User Input'!$D$80)","v":4.1666666666666664E-2},{"$f":"IF(Ranking!I5>0,'User Input'!$D$81, -'User Input'!$D$81)","v":4.1666666666666664E-2},{"$f":"IF(Ranking!J5>0,'User Input'!$D$82, -'User Input'!$D$82)","v":4.1666666666666664E-2},{"$f":"IF(Ranking!K5>0,'User Input'!$D$83, -'User Input'!$D$83)","v":4.1666666666666664E-2},{"$f":"IF(Ranking!L5>0,'User Input'!$D$84, -'User Input'!$D$84)","v":-4.1666666666666664E-2},{"$f":"IF(SUM(Ranking!M5:O5)>0,'User Input'!$D$85, -'User Input'!$D$85)","v":-4.1666666666666664E-2},{"$f":"IF(SUM(Ranking!P5:U5)>0,'User Input'!$D$86, -'User Input'!$D$86)","v":-4.1666666666666664E-2},{"$f":"IF(Ranking!W5>0,'User Input'!$D$87, -'User Input'!$D$87)","v":4.1666666666666664E-2},{"$f":"IF(Ranking!W5>0,'User Input'!$D$88, -'User Input'!$D$88)","v":4.1666666666666664E-2},{"$f":"IF(Ranking!X5>0,'User Input'!$D$89, -'User Input'!$D$89)","v":-4.1666666666666664E-2},{"$f":"(COUNTIF(Ranking!Y5:AH5,1)*'User Input'!$D$90/10)-(COUNTIF(Ranking!Y5:AH5,0)*'User Input'!$D$90/10)","v":-8.333333333333335E-3},{"$f":"IF(Ranking!AI5>0,'User Input'!$D$91, -'User Input'!$D$91)","v":4.1666666666666664E-2},{"$f":"IF(Ranking!AJ5>0,'User Input'!$D$92, -'User Input'!$D$92)","v":4.1666666666666664E-2},{"$f":"IF(SUM(Ranking!AK5:AO5)>0,'User Input'!$D$93, -'User Input'!$D$93)","v":4.1666666666666664E-2},{"$f":"IF(SUM(Ranking!AP5:AT5)>0,'User Input'!$D$94, -'User Input'!$D$94)","v":-4.1666666666666664E-2},{"$f":"IF(Ranking!AU5>0,'User Input'!$D$95, -'User Input'!$D$95)","v":-4.1666666666666664E-2},{"$f":"IF(Ranking!AV5>0,'User Input'!$D$96, -'User Input'!$D$96)","v":4.1666666666666664E-2},{"$f":"IF(SUM(Ranking!AW5:AY5)>0,'User Input'!$D$97, -'User Input'!$D$97)","v":4.1666666666666664E-2},{"$f":"IF(Ranking!AZ5>0,'User Input'!$D$98, -'User Input'!$D$98)","v":4.1666666666666664E-2},{"$f":"IF(Ranking!BA5>0,'User Input'!$D$99, -'User Input'!$D$99)","v":-4.1666666666666664E-2},{"$f":"IF(SUM(Ranking!BB5:BD5)>0,'User Input'!$D$100, -'User Input'!$D$100)","v":4.1666666666666664E-2},{"$f":"IF(Ranking!BE5>0,'User Input'!$D$101, -'User Input'!$D$101)","v":4.1666666666666664E-2},{"$f":"IF(Ranking!BF5>0,'User Input'!$D$102, -'User Input'!$D$102)","v":4.1666666666666664E-2}]
["Eco-counter CITIX – AI ",{"$error":"#N/A"},0.11666666666666667,{"$f":"IF(SUM(Ranking!A6:C6)>0,'User Input'!$D$79, -'User Input'!$D$79)","v":-4.1666666666666664E-2},{"$f":"IF(SUM(Ranking!D6:H6)>0,'User Input'!$D$80, -1*'User Input'!$D$80)","v":4.1666666666666664E-2},{"$f":"IF(Ranking!I6>0,'User Input'!$D$81, -'User Input'!$D$81)","v":4.1666666666666664E-2},{"$f":"IF(Ranking!J6>0,'User Input'!$D$82, -'User Input'!$D$82)","v":4.1666666666666664E-2},{"$f":"IF(Ranking!K6>0,'User Input'!$D$83, -'User Input'!$D$83)","v":4.1666666666666664E-2},{"$f":"IF(Ranking!L6>0,'User Input'!$D$84, -'User Input'!$D$84)","v":-4.1666666666666664E-2},{"$f":"IF(SUM(Ranking!M6:O6)>0,'User Input'!$D$85, -'User Input'!$D$85)","v":4.1666666666666664E-2},{"$f":"IF(SUM(Ranking!P6:U6)>0,'User Input'!$D$86, -'User Input'!$D$86)","v":-4.1666666666666664E-2},{"$f":"IF(Ranking!W6>0,'User Input'!$D$87, -'User Input'!$D$87)","v":4.1666666666666664E-2},{"$f":"IF(Ranking!W6>0,'User Input'!$D$88, -'User Input'!$D$88)","v":4.1666666666666664E-2},{"$f":"IF(Ranking!X6>0,'User Input'!$D$89, -'User Input'!$D$89)","v":-4.1666666666666664E-2},{"$f":"(COUNTIF(Ranking!Y6:AH6,1)*'User Input'!$D$90/10)-(COUNTIF(Ranking!Y6:AH6,0)*'User Input'!$D$90/10)","v":-8.333333333333335E-3},{"$f":"IF(Ranking!AI6>0,'User Input'!$D$91, -'User Input'!$D$91)","v":4.1666666666666664E-2},{"$f":"IF(Ranking!AJ6>0,'User Input'!$D$92, -'User Input'!$D$92)","v":-4.1666666666666664E-2},{"$f":"IF(SUM(Ranking!AK6:AO6)>0,'User Input'!$D$93, -'User Input'!$D$93)","v":-4.1666666666666664E-2},{"$f":"IF(SUM(Ranking!AP6:AT6)>0,'User Input'!$D$94, -'User Input'!$D$94)","v":4.1666666666666664E-2},{"$f":"IF(Ranking!AU6>0,'User Input'!$D$95, -'User Input'!$D$95)","v":4.1666666666666664E-2},{"$f":"IF(Ranking!AV6>0,'User Input'!$D$96, -'User Input'!$D$96)","v":4.1666666666666664E-2},{"$f":"IF(SUM(Ranking!AW6:AY6)>0,'User Input'!$D$97, -'User Input'!$D$97)","v":4.1666666666666664E-2},{"$f":"IF(Ranking!AZ6>0,'User Input'!$D$98, -'User Input'!$D$98)","v":-4.1666666666666664E-2},{"$f":"IF(Ranking!BA6>0,'User Input'!$D$99, -'User Input'!$D$99)","v":-4.1666666666666664E-2},{"$f":"IF(SUM(Ranking!BB6:BD6)>0,'User Input'!$D$100, -'User Input'!$D$100)","v":-4.1666666666666664E-2},{"$f":"IF(Ranking!BE6>0,'User Input'!$D$101, -'User Input'!$D$101)","v":4.1666666666666664E-2},{"$f":"IF(Ranking!BF6>0,'User Input'!$D$102, -'User Input'!$D$102)","v":-4.1666666666666664E-2}]
["Numina ",{"$error":"#N/A"},3.3333333333333347E-2,{"$f":"IF(SUM(Ranking!A7:C7)>0,'User Input'!$D$79, -'User Input'!$D$79)","v":-4.1666666666666664E-2},{"$f":"IF(SUM(Ranking!D7:H7)>0,'User Input'!$D$80, -1*'User Input'!$D$80)","v":4.1666666666666664E-2},{"$f":"IF(Ranking!I7>0,'User Input'!$D$81, -'User Input'!$D$81)","v":4.1666666666666664E-2},{"$f":"IF(Ranking!J7>0,'User Input'!$D$82, -'User Input'!$D$82)","v":4.1666666666666664E-2},{"$f":"IF(Ranking!K7>0,'User Input'!$D$83, -'User Input'!$D$83)","v":4.1666666666666664E-2},{"$f":"IF(Ranking!L7>0,'User Input'!$D$84, -'User Input'!$D$84)","v":-4.1666666666666664E-2},{"$f":"IF(SUM(Ranking!M7:O7)>0,'User Input'!$D$85, -'User Input'!$D$85)","v":4.1666666666666664E-2},{"$f":"IF(SUM(Ranking!P7:U7)>0,'User Input'!$D$86, -'User Input'!$D$86)","v":-4.1666666666666664E-2},{"$f":"IF(Ranking!W7>0,'User Input'!$D$87, -'User Input'!$D$87)","v":4.1666666666666664E-2},{"$f":"IF(Ranking!W7>0,'User Input'!$D$88, -'User Input'!$D$88)","v":4.1666666666666664E-2},{"$f":"IF(Ranking!X7>0,'User Input'!$D$89, -'User Input'!$D$89)","v":-4.1666666666666664E-2},{"$f":"(COUNTIF(Ranking!Y7:AH7,1)*'User Input'!$D$90/10)-(COUNTIF(Ranking!Y7:AH7,0)*'User Input'!$D$90/10)","v":-8.333333333333335E-3},{"$f":"IF(Ranking!AI7>0,'User Input'!$D$91, -'User Input'!$D$91)","v":4.1666666666666664E-2},{"$f":"IF(Ranking!AJ7>0,'User Input'!$D$92, -'User Input'!$D$92)","v":-4.1666666666666664E-2},{"$f":"IF(SUM(Ranking!AK7:AO7)>0,'User Input'!$D$93, -'User Input'!$D$93)","v":-4.1666666666666664E-2},{"$f":"IF(SUM(Ranking!AP7:AT7)>0,'User Input'!$D$94, -'User Input'!$D$94)","v":-4.1666666666666664E-2},{"$f":"IF(Ranking!AU7>0,'User Input'!$D$95, -'User Input'!$D$95)","v":4.1666666666666664E-2},{"$f":"IF(Ranking!AV7>0,'User Input'!$D$96, -'User Input'!$D$96)","v":-4.1666666666666664E-2},{"$f":"IF(SUM(Ranking!AW7:AY7)>0,'User Input'!$D$97, -'User Input'!$D$97)","v":4.1666666666666664E-2},{"$f":"IF(Ranking!AZ7>0,'User Input'!$D$98, -'User Input'!$D$98)","v":4.1666666666666664E-2},{"$f":"IF(Ranking!BA7>0,'User Input'!$D$99, -'User Input'!$D$99)","v":-4.1666666666666664E-2},{"$f":"IF(SUM(Ranking!BB7:BD7)>0,'User Input'!$D$100, -'User Input'!$D$100)","v":-4.1666666666666664E-2},{"$f":"IF(Ranking!BE7>0,'User Input'!$D$101, -'User Input'!$D$101)","v":4.1666666666666664E-2},{"$f":"IF(Ranking!BF7>0,'User Input'!$D$102, -'User Input'!$D$102)","v":-4.1666666666666664E-2}]
["Street Simplified",{"$error":"#N/A"},6.666666666666668E-2,{"$f":"IF(SUM(Ranking!A8:C8)>0,'User Input'!$D$79, -'User Input'!$D$79)","v":4.1666666666666664E-2},{"$f":"IF(SUM(Ranking!D8:H8)>0,'User Input'!$D$80, -1*'User Input'!$D$80)","v":4.1666666666666664E-2},{"$f":"IF(Ranking!I8>0,'User Input'!$D$81, -'User Input'!$D$81)","v":4.1666666666666664E-2},{"$f":"IF(Ranking!J8>0,'User Input'!$D$82, -'User Input'!$D$82)","v":4.1666666666666664E-2},{"$f":"IF(Ranking!K8>0,'User Input'!$D$83, -'User Input'!$D$83)","v":4.1666666666666664E-2},{"$f":"IF(Ranking!L8>0,'User Input'!$D$84, -'User Input'!$D$84)","v":-4.1666666666666664E-2},{"$f":"IF(SUM(Ranking!M8:O8)>0,'User Input'!$D$85, -'User Input'!$D$85)","v":-4.1666666666666664E-2},{"$f":"IF(SUM(Ranking!P8:U8)>0,'User Input'!$D$86, -'User Input'!$D$86)","v":4.1666666666666664E-2},{"$f":"IF(Ranking!W8>0,'User Input'!$D$87, -'User Input'!$D$87)","v":-4.1666666666666664E-2},{"$f":"IF(Ranking!W8>0,'User Input'!$D$88, -'User Input'!$D$88)","v":-4.1666666666666664E-2},{"$f":"IF(Ranking!X8>0,'User Input'!$D$89, -'User Input'!$D$89)","v":-4.1666666666666664E-2},{"$f":"(COUNTIF(Ranking!Y8:AH8,1)*'User Input'!$D$90/10)-(COUNTIF(Ranking!Y8:AH8,0)*'User Input'!$D$90/10)","v":2.5000000000000001E-2},{"$f":"IF(Ranking!AI8>0,'User Input'!$D$91, -'User Input'!$D$91)","v":4.1666666666666664E-2},{"$f":"IF(Ranking!AJ8>0,'User Input'!$D$92, -'User Input'!$D$92)","v":4.1666666666666664E-2},{"$f":"IF(SUM(Ranking!AK8:AO8)>0,'User Input'!$D$93, -'User Input'!$D$93)","v":-4.1666666666666664E-2},{"$f":"IF(SUM(Ranking!AP8:AT8)>0,'User Input'!$D$94, -'User Input'!$D$94)","v":-4.1666666666666664E-2},{"$f":"IF(Ranking!AU8>0,'User Input'!$D$95, -'User Input'!$D$95)","v":-4.1666666666666664E-2},{"$f":"IF(Ranking!AV8>0,'User Input'!$D$96, -'User Input'!$D$96)","v":-4.1666666666666664E-2},{"$f":"IF(SUM(Ranking!AW8:AY8)>0,'User Input'!$D$97, -'User Input'!$D$97)","v":4.1666666666666664E-2},{"$f":"IF(Ranking!AZ8>0,'User Input'!$D$98, -'User Input'!$D$98)","v":4.1666666666666664E-2},{"$f":"IF(Ranking!BA8>0,'User Input'!$D$99, -'User Input'!$D$99)","v":-4.1666666666666664E-2},{"$f":"IF(SUM(Ranking!BB8:BD8)>0,'User Input'!$D$100, -'User Input'!$D$100)","v":-4.1666666666666664E-2},{"$f":"IF(Ranking!BE8>0,'User Input'!$D$101, -'User Input'!$D$101)","v":4.1666666666666664E-2},{"$f":"IF(Ranking!BF8>0,'User Input'!$D$102, -'User Input'!$D$102)","v":4.1666666666666664E-2}]
["Boulder AI DNN Node ",{"$error":"#N/A"},0.31666666666666665,{"$f":"IF(SUM(Ranking!A9:C9)>0,'User Input'!$D$79, -'User Input'!$D$79)","v":-4.1666666666666664E-2},{"$f":"IF(SUM(Ranking!D9:H9)>0,'User Input'!$D$80, -1*'User Input'!$D$80)","v":4.1666666666666664E-2},{"$f":"IF(Ranking!I9>0,'User Input'!$D$81, -'User Input'!$D$81)","v":4.1666666666666664E-2},{"$f":"IF(Ranking!J9>0,'User Input'!$D$82, -'User Input'!$D$82)","v":4.1666666666666664E-2},{"$f":"IF(Ranking!K9>0,'User Input'!$D$83, -'User Input'!$D$83)","v":4.1666666666666664E-2},{"$f":"IF(Ranking!L9>0,'User Input'!$D$84, -'User Input'!$D$84)","v":4.1666666666666664E-2},{"$f":"IF(SUM(Ranking!M9:O9)>0,'User Input'!$D$85, -'User Input'!$D$85)","v":4.1666666666666664E-2},{"$f":"IF(SUM(Ranking!P9:U9)>0,'User Input'!$D$86, -'User Input'!$D$86)","v":4.1666666666666664E-2},{"$f":"IF(Ranking!W9>0,'User Input'!$D$87, -'User Input'!$D$87)","v":4.1666666666666664E-2},{"$f":"IF(Ranking!W9>0,'User Input'!$D$88, -'User Input'!$D$88)","v":4.1666666666666664E-2},{"$f":"IF(Ranking!X9>0,'User Input'!$D$89, -'User Input'!$D$89)","v":4.1666666666666664E-2},{"$f":"(COUNTIF(Ranking!Y9:AH9,1)*'User Input'!$D$90/10)-(COUNTIF(Ranking!Y9:AH9,0)*'User Input'!$D$90/10)","v":2.5000000000000001E-2},{"$f":"IF(Ranking!AI9>0,'User Input'!$D$91, -'User Input'!$D$91)","v":4.1666666666666664E-2},{"$f":"IF(Ranking!AJ9>0,'User Input'!$D$92, -'User Input'!$D$92)","v":-4.1666666666666664E-2},{"$f":"IF(SUM(Ranking!AK9:AO9)>0,'User Input'!$D$93, -'User Input'!$D$93)","v":-4.1666666666666664E-2},{"$f":"IF(SUM(Ranking!AP9:AT9)>0,'User Input'!$D$94, -'User Input'!$D$94)","v":-4.1666666666666664E-2},{"$f":"IF(Ranking!AU9>0,'User Input'!$D$95, -'User Input'!$D$95)","v":4.1666666666666664E-2},{"$f":"IF(Ranking!AV9>0,'User Input'!$D$96, -'User Input'!$D$96)","v":4.1666666666666664E-2},{"$f":"IF(SUM(Ranking!AW9:AY9)>0,'User Input'!$D$97, -'User Input'!$D$97)","v":4.1666666666666664E-2},{"$f":"IF(Ranking!AZ9>0,'User Input'!$D$98, -'User Input'!$D$98)","v":-4.1666666666666664E-2},{"$f":"IF(Ranking!BA9>0,'User Input'!$D$99, -'User Input'!$D$99)","v":-4.1666666666666664E-2},{"$f":"IF(SUM(Ranking!BB9:BD9)>0,'User Input'!$D$100, -'User Input'!$D$100)","v":-4.1666666666666664E-2},{"$f":"IF(Ranking!BE9>0,'User Input'!$D$101, -'User Input'!$D$101)","v":4.1666666666666664E-2},{"$f":"IF(Ranking!BF9>0,'User Input'!$D$102, -'User Input'!$D$102)","v":-4.1666666666666664E-2}]
["Boulder AI DNN Cam ",{"$error":"#N/A"},0.48333333333333339,{"$f":"IF(SUM(Ranking!A10:C10)>0,'User Input'!$D$79, -'User Input'!$D$79)","v":4.1666666666666664E-2},{"$f":"IF(SUM(Ranking!D10:H10)>0,'User Input'!$D$80, -1*'User Input'!$D$80)","v":4.1666666666666664E-2},{"$f":"IF(Ranking!I10>0,'User Input'!$D$81, -'User Input'!$D$81)","v":4.1666666666666664E-2},{"$f":"IF(Ranking!J10>0,'User Input'!$D$82, -'User Input'!$D$82)","v":4.1666666666666664E-2},{"$f":"IF(Ranking!K10>0,'User Input'!$D$83, -'User Input'!$D$83)","v":4.1666666666666664E-2},{"$f":"IF(Ranking!L10>0,'User Input'!$D$84, -'User Input'!$D$84)","v":-4.1666666666666664E-2},{"$f":"IF(SUM(Ranking!M10:O10)>0,'User Input'!$D$85, -'User Input'!$D$85)","v":4.1666666666666664E-2},{"$f":"IF(SUM(Ranking!P10:U10)>0,'User Input'!$D$86, -'User Input'!$D$86)","v":4.1666666666666664E-2},{"$f":"IF(Ranking!W10>0,'User Input'!$D$87, -'User Input'!$D$87)","v":4.1666666666666664E-2},{"$f":"IF(Ranking!W10>0,'User Input'!$D$88, -'User Input'!$D$88)","v":4.1666666666666664E-2},{"$f":"IF(Ranking!X10>0,'User Input'!$D$89, -'User Input'!$D$89)","v":4.1666666666666664E-2},{"$f":"(COUNTIF(Ranking!Y10:AH10,1)*'User Input'!$D$90/10)-(COUNTIF(Ranking!Y10:AH10,0)*'User Input'!$D$90/10)","v":2.5000000000000001E-2},{"$f":"IF(Ranking!AI10>0,'User Input'!$D$91, -'User Input'!$D$91)","v":4.1666666666666664E-2},{"$f":"IF(Ranking!AJ10>0,'User Input'!$D$92, -'User Input'!$D$92)","v":-4.1666666666666664E-2},{"$f":"IF(SUM(Ranking!AK10:AO10)>0,'User Input'!$D$93, -'User Input'!$D$93)","v":-4.1666666666666664E-2},{"$f":"IF(SUM(Ranking!AP10:AT10)>0,'User Input'!$D$94, -'User Input'!$D$94)","v":-4.1666666666666664E-2},{"$f":"IF(Ranking!AU10>0,'User Input'!$D$95, -'User Input'!$D$95)","v":4.1666666666666664E-2},{"$f":"IF(Ranking!AV10>0,'User Input'!$D$96, -'User Input'!$D$96)","v":4.1666666666666664E-2},{"$f":"IF(SUM(Ranking!AW10:AY10)>0,'User Input'!$D$97, -'User Input'!$D$97)","v":4.1666666666666664E-2},{"$f":"IF(Ranking!AZ10>0,'User Input'!$D$98, -'User Input'!$D$98)","v":4.1666666666666664E-2},{"$f":"IF(Ranking!BA10>0,'User Input'!$D$99, -'User Input'!$D$99)","v":-4.1666666666666664E-2},{"$f":"IF(SUM(Ranking!BB10:BD10)>0,'User Input'!$D$100, -'User Input'!$D$100)","v":-4.1666666666666664E-2},{"$f":"IF(Ranking!BE10>0,'User Input'!$D$101, -'User Input'!$D$101)","v":4.1666666666666664E-2},{"$f":"IF(Ranking!BF10>0,'User Input'!$D$102, -'User Input'!$D$102)","v":4.1666666666666664E-2}]
["Currux Vision",{"$error":"#N/A"},0.31666666666666665,{"$f":"IF(SUM(Ranking!A11:C11)>0,'User Input'!$D$79, -'User Input'!$D$79)","v":-4.1666666666666664E-2},{"$f":"IF(SUM(Ranking!D11:H11)>0,'User Input'!$D$80, -1*'User Input'!$D$80)","v":4.1666666666666664E-2},{"$f":"IF(Ranking!I11>0,'User Input'!$D$81, -'User Input'!$D$81)","v":4.1666666666666664E-2},{"$f":"IF(Ranking!J11>0,'User Input'!$D$82, -'User Input'!$D$82)","v":4.1666666666666664E-2},{"$f":"IF(Ranking!K11>0,'User Input'!$D$83, -'User Input'!$D$83)","v":4.1666666666666664E-2},{"$f":"IF(Ranking!L11>0,'User Input'!$D$84, -'User Input'!$D$84)","v":4.1666666666666664E-2},{"$f":"IF(SUM(Ranking!M11:O11)>0,'User Input'!$D$85, -'User Input'!$D$85)","v":4.1666666666666664E-2},{"$f":"IF(SUM(Ranking!P11:U11)>0,'User Input'!$D$86, -'User Input'!$D$86)","v":4.1666666666666664E-2},{"$f":"IF(Ranking!W11>0,'User Input'!$D$87, -'User Input'!$D$87)","v":4.1666666666666664E-2},{"$f":"IF(Ranking!W11>0,'User Input'!$D$88, -'User Input'!$D$88)","v":4.1666666666666664E-2},{"$f":"IF(Ranking!X11>0,'User Input'!$D$89, -'User Input'!$D$89)","v":4.1666666666666664E-2},{"$f":"(COUNTIF(Ranking!Y11:AH11,1)*'User Input'!$D$90/10)-(COUNTIF(Ranking!Y11:AH11,0)*'User Input'!$D$90/10)","v":2.5000000000000001E-2},{"$f":"IF(Ranking!AI11>0,'User Input'!$D$91, -'User Input'!$D$91)","v":4.1666666666666664E-2},{"$f":"IF(Ranking!AJ11>0,'User Input'!$D$92, -'User Input'!$D$92)","v":-4.1666666666666664E-2},{"$f":"IF(SUM(Ranking!AK11:AO11)>0,'User Input'!$D$93, -'User Input'!$D$93)","v":-4.1666666666666664E-2},{"$f":"IF(SUM(Ranking!AP11:AT11)>0,'User Input'!$D$94, -'User Input'!$D$94)","v":-4.1666666666666664E-2},{"$f":"IF(Ranking!AU11>0,'User Input'!$D$95, -'User Input'!$D$95)","v":4.1666666666666664E-2},{"$f":"IF(Ranking!AV11>0,'User Input'!$D$96, -'User Input'!$D$96)","v":4.1666666666666664E-2},{"$f":"IF(SUM(Ranking!AW11:AY11)>0,'User Input'!$D$97, -'User Input'!$D$97)","v":4.1666666666666664E-2},{"$f":"IF(Ranking!AZ11>0,'User Input'!$D$98, -'User Input'!$D$98)","v":-4.1666666666666664E-2},{"$f":"IF(Ranking!BA11>0,'User Input'!$D$99, -'User Input'!$D$99)","v":-4.1666666666666664E-2},{"$f":"IF(SUM(Ranking!BB11:BD11)>0,'User Input'!$D$100, -'User Input'!$D$100)","v":-4.1666666666666664E-2},{"$f":"IF(Ranking!BE11>0,'User Input'!$D$101, -'User Input'!$D$101)","v":4.1666666666666664E-2},{"$f":"IF(Ranking!BF11>0,'User Input'!$D$102, -'User Input'!$D$102)","v":-4.1666666666666664E-2}]
["Gridsmart",{"$error":"#N/A"},0.45833333333333337,{"$f":"IF(SUM(Ranking!A12:C12)>0,'User Input'!$D$79, -'User Input'!$D$79)","v":-4.1666666666666664E-2},{"$f":"IF(SUM(Ranking!D12:H12)>0,'User Input'!$D$80, -1*'User Input'!$D$80)","v":4.1666666666666664E-2},{"$f":"IF(Ranking!I12>0,'User Input'!$D$81, -'User Input'!$D$81)","v":4.1666666666666664E-2},{"$f":"IF(Ranking!J12>0,'User Input'!$D$82, -'User Input'!$D$82)","v":4.1666666666666664E-2},{"$f":"IF(Ranking!K12>0,'User Input'!$D$83, -'User Input'!$D$83)","v":4.1666666666666664E-2},{"$f":"IF(Ranking!L12>0,'User Input'!$D$84, -'User Input'!$D$84)","v":-4.1666666666666664E-2},{"$f":"IF(SUM(Ranking!M12:O12)>0,'User Input'!$D$85, -'User Input'!$D$85)","v":4.1666666666666664E-2},{"$f":"IF(SUM(Ranking!P12:U12)>0,'User Input'!$D$86, -'User Input'!$D$86)","v":4.1666666666666664E-2},{"$f":"IF(Ranking!W12>0,'User Input'!$D$87, -'User Input'!$D$87)","v":4.1666666666666664E-2},{"$f":"IF(Ranking!W12>0,'User Input'!$D$88, -'User Input'!$D$88)","v":4.1666666666666664E-2},{"$f":"IF(Ranking!X12>0,'User Input'!$D$89, -'User Input'!$D$89)","v":4.1666666666666664E-2},{"$f":"(COUNTIF(Ranking!Y12:AH12,1)*'User Input'!$D$90/10)-(COUNTIF(Ranking!Y12:AH12,0)*'User Input'!$D$90/10)","v":0},{"$f":"IF(Ranking!AI12>0,'User Input'!$D$91, -'User Input'!$D$91)","v":4.1666666666666664E-2},{"$f":"IF(Ranking!AJ12>0,'User Input'!$D$92, -'User Input'!$D$92)","v":4.1666666666666664E-2},{"$f":"IF(SUM(Ranking!AK12:AO12)>0,'User Input'!$D$93, -'User Input'!$D$93)","v":-4.1666666666666664E-2},{"$f":"IF(SUM(Ranking!AP12:AT12)>0,'User Input'!$D$94, -'User Input'!$D$94)","v":-4.1666666666666664E-2},{"$f":"IF(Ranking!AU12>0,'User Input'!$D$95, -'User Input'!$D$95)","v":4.1666666666666664E-2},{"$f":"IF(Ranking!AV12>0,'User Input'!$D$96, -'User Input'!$D$96)","v":4.1666666666666664E-2},{"$f":"IF(SUM(Ranking!AW12:AY12)>0,'User Input'!$D$97, -'User Input'!$D$97)","v":4.1666666666666664E-2},{"$f":"IF(Ranking!AZ12>0,'User Input'!$D$98, -'User Input'!$D$98)","v":4.1666666666666664E-2},{"$f":"IF(Ranking!BA12>0,'User Input'!$D$99, -'User Input'!$D$99)","v":-4.1666666666666664E-2},{"$f":"IF(SUM(Ranking!BB12:BD12)>0,'User Input'!$D$100, -'User Input'!$D$100)","v":-4.1666666666666664E-2},{"$f":"IF(Ranking!BE12>0,'User Input'!$D$101, -'User Input'!$D$101)","v":4.1666666666666664E-2},{"$f":"IF(Ranking!BF12>0,'User Input'!$D$102, -'User Input'!$D$102)","v":4.1666666666666664E-2}]
["Iteris Vantage Vector with Vantage Next",{"$error":"#N/A"},0.29166666666666663,{"$f":"IF(SUM(Ranking!A13:C13)>0,'User Input'!$D$79, -'User Input'!$D$79)","v":4.1666666666666664E-2},{"$f":"IF(SUM(Ranking!D13:H13)>0,'User Input'!$D$80, -1*'User Input'!$D$80)","v":4.1666666666666664E-2},{"$f":"IF(Ranking!I13>0,'User Input'!$D$81, -'User Input'!$D$81)","v":4.1666666666666664E-2},{"$f":"IF(Ranking!J13>0,'User Input'!$D$82, -'User Input'!$D$82)","v":4.1666666666666664E-2},{"$f":"IF(Ranking!K13>0,'User Input'!$D$83, -'User Input'!$D$83)","v":4.1666666666666664E-2},{"$f":"IF(Ranking!L13>0,'User Input'!$D$84, -'User Input'!$D$84)","v":-4.1666666666666664E-2},{"$f":"IF(SUM(Ranking!M13:O13)>0,'User Input'!$D$85, -'User Input'!$D$85)","v":4.1666666666666664E-2},{"$f":"IF(SUM(Ranking!P13:U13)>0,'User Input'!$D$86, -'User Input'!$D$86)","v":4.1666666666666664E-2},{"$f":"IF(Ranking!W13>0,'User Input'!$D$87, -'User Input'!$D$87)","v":4.1666666666666664E-2},{"$f":"IF(Ranking!W13>0,'User Input'!$D$88, -'User Input'!$D$88)","v":4.1666666666666664E-2},{"$f":"IF(Ranking!X13>0,'User Input'!$D$89, -'User Input'!$D$89)","v":4.1666666666666664E-2},{"$f":"(COUNTIF(Ranking!Y13:AH13,1)*'User Input'!$D$90/10)-(COUNTIF(Ranking!Y13:AH13,0)*'User Input'!$D$90/10)","v":0},{"$f":"IF(Ranking!AI13>0,'User Input'!$D$91, -'User Input'!$D$91)","v":4.1666666666666664E-2},{"$f":"IF(Ranking!AJ13>0,'User Input'!$D$92, -'User Input'!$D$92)","v":-4.1666666666666664E-2},{"$f":"IF(SUM(Ranking!AK13:AO13)>0,'User Input'!$D$93, -'User Input'!$D$93)","v":-4.1666666666666664E-2},{"$f":"IF(SUM(Ranking!AP13:AT13)>0,'User Input'!$D$94, -'User Input'!$D$94)","v":-4.1666666666666664E-2},{"$f":"IF(Ranking!AU13>0,'User Input'!$D$95, -'User Input'!$D$95)","v":4.1666666666666664E-2},{"$f":"IF(Ranking!AV13>0,'User Input'!$D$96, -'User Input'!$D$96)","v":4.1666666666666664E-2},{"$f":"IF(SUM(Ranking!AW13:AY13)>0,'User Input'!$D$97, -'User Input'!$D$97)","v":4.1666666666666664E-2},{"$f":"IF(Ranking!AZ13>0,'User Input'!$D$98, -'User Input'!$D$98)","v":-4.1666666666666664E-2},{"$f":"IF(Ranking!BA13>0,'User Input'!$D$99, -'User Input'!$D$99)","v":-4.1666666666666664E-2},{"$f":"IF(SUM(Ranking!BB13:BD13)>0,'User Input'!$D$100, -'User Input'!$D$100)","v":-4.1666666666666664E-2},{"$f":"IF(Ranking!BE13>0,'User Input'!$D$101, -'User Input'!$D$101)","v":4.1666666666666664E-2},{"$f":"IF(Ranking!BF13>0,'User Input'!$D$102, -'User Input'!$D$102)","v":-4.1666666666666664E-2}]
["TrafiOne – FLIR",{"$error":"#N/A"},0.375,{"$f":"IF(SUM(Ranking!A14:C14)>0,'User Input'!$D$79, -'User Input'!$D$79)","v":-4.1666666666666664E-2},{"$f":"IF(SUM(Ranking!D14:H14)>0,'User Input'!$D$80, -1*'User Input'!$D$80)","v":4.1666666666666664E-2},{"$f":"IF(Ranking!I14>0,'User Input'!$D$81, -'User Input'!$D$81)","v":4.1666666666666664E-2},{"$f":"IF(Ranking!J14>0,'User Input'!$D$82, -'User Input'!$D$82)","v":4.1666666666666664E-2},{"$f":"IF(Ranking!K14>0,'User Input'!$D$83, -'User Input'!$D$83)","v":4.1666666666666664E-2},{"$f":"IF(Ranking!L14>0,'User Input'!$D$84, -'User Input'!$D$84)","v":-4.1666666666666664E-2},{"$f":"IF(SUM(Ranking!M14:O14)>0,'User Input'!$D$85, -'User Input'!$D$85)","v":4.1666666666666664E-2},{"$f":"IF(SUM(Ranking!P14:U14)>0,'User Input'!$D$86, -'User Input'!$D$86)","v":4.1666666666666664E-2},{"$f":"IF(Ranking!W14>0,'User Input'!$D$87, -'User Input'!$D$87)","v":4.1666666666666664E-2},{"$f":"IF(Ranking!W14>0,'User Input'!$D$88, -'User Input'!$D$88)","v":4.1666666666666664E-2},{"$f":"IF(Ranking!X14>0,'User Input'!$D$89, -'User Input'!$D$89)","v":4.1666666666666664E-2},{"$f":"(COUNTIF(Ranking!Y14:AH14,1)*'User Input'!$D$90/10)-(COUNTIF(Ranking!Y14:AH14,0)*'User Input'!$D$90/10)","v":0},{"$f":"IF(Ranking!AI14>0,'User Input'!$D$91, -'User Input'!$D$91)","v":4.1666666666666664E-2},{"$f":"IF(Ranking!AJ14>0,'User Input'!$D$92, -'User Input'!$D$92)","v":-4.1666666666666664E-2},{"$f":"IF(SUM(Ranking!AK14:AO14)>0,'User Input'!$D$93, -'User Input'!$D$93)","v":-4.1666666666666664E-2},{"$f":"IF(SUM(Ranking!AP14:AT14)>0,'User Input'!$D$94, -'User Input'!$D$94)","v":4.1666666666666664E-2},{"$f":"IF(Ranking!AU14>0,'User Input'!$D$95, -'User Input'!$D$95)","v":4.1666666666666664E-2},{"$f":"IF(Ranking!AV14>0,'User Input'!$D$96, -'User Input'!$D$96)","v":4.1666666666666664E-2},{"$f":"IF(SUM(Ranking!AW14:AY14)>0,'User Input'!$D$97, -'User Input'!$D$97)","v":4.1666666666666664E-2},{"$f":"IF(Ranking!AZ14>0,'User Input'!$D$98, -'User Input'!$D$98)","v":-4.1666666666666664E-2},{"$f":"IF(Ranking!BA14>0,'User Input'!$D$99, -'User Input'!$D$99)","v":4.1666666666666664E-2},{"$f":"IF(SUM(Ranking!BB14:BD14)>0,'User Input'!$D$100, -'User Input'!$D$100)","v":-4.1666666666666664E-2},{"$f":"IF(Ranking!BE14>0,'User Input'!$D$101, -'User Input'!$D$101)","v":4.1666666666666664E-2},{"$f":"IF(Ranking!BF14>0,'User Input'!$D$102, -'User Input'!$D$102)","v":-4.1666666666666664E-2}]
["TrafiSense AI– FLIR",{"$error":"#N/A"},0.35,{"$f":"IF(SUM(Ranking!A15:C15)>0,'User Input'!$D$79, -'User Input'!$D$79)","v":-4.1666666666666664E-2},{"$f":"IF(SUM(Ranking!D15:H15)>0,'User Input'!$D$80, -1*'User Input'!$D$80)","v":4.1666666666666664E-2},{"$f":"IF(Ranking!I15>0,'User Input'!$D$81, -'User Input'!$D$81)","v":4.1666666666666664E-2},{"$f":"IF(Ranking!J15>0,'User Input'!$D$82, -'User Input'!$D$82)","v":4.1666666666666664E-2},{"$f":"IF(Ranking!K15>0,'User Input'!$D$83, -'User Input'!$D$83)","v":4.1666666666666664E-2},{"$f":"IF(Ranking!L15>0,'User Input'!$D$84, -'User Input'!$D$84)","v":-4.1666666666666664E-2},{"$f":"IF(SUM(Ranking!M15:O15)>0,'User Input'!$D$85, -'User Input'!$D$85)","v":4.1666666666666664E-2},{"$f":"IF(SUM(Ranking!P15:U15)>0,'User Input'!$D$86, -'User Input'!$D$86)","v":4.1666666666666664E-2},{"$f":"IF(Ranking!W15>0,'User Input'!$D$87, -'User Input'!$D$87)","v":4.1666666666666664E-2},{"$f":"IF(Ranking!W15>0,'User Input'!$D$88, -'User Input'!$D$88)","v":4.1666666666666664E-2},{"$f":"IF(Ranking!X15>0,'User Input'!$D$89, -'User Input'!$D$89)","v":4.1666666666666664E-2},{"$f":"(COUNTIF(Ranking!Y15:AH15,1)*'User Input'!$D$90/10)-(COUNTIF(Ranking!Y15:AH15,0)*'User Input'!$D$90/10)","v":-2.5000000000000001E-2},{"$f":"IF(Ranking!AI15>0,'User Input'!$D$91, -'User Input'!$D$91)","v":4.1666666666666664E-2},{"$f":"IF(Ranking!AJ15>0,'User Input'!$D$92, -'User Input'!$D$92)","v":-4.1666666666666664E-2},{"$f":"IF(SUM(Ranking!AK15:AO15)>0,'User Input'!$D$93, -'User Input'!$D$93)","v":-4.1666666666666664E-2},{"$f":"IF(SUM(Ranking!AP15:AT15)>0,'User Input'!$D$94, -'User Input'!$D$94)","v":4.1666666666666664E-2},{"$f":"IF(Ranking!AU15>0,'User Input'!$D$95, -'User Input'!$D$95)","v":4.1666666666666664E-2},{"$f":"IF(Ranking!AV15>0,'User Input'!$D$96, -'User Input'!$D$96)","v":4.1666666666666664E-2},{"$f":"IF(SUM(Ranking!AW15:AY15)>0,'User Input'!$D$97, -'User Input'!$D$97)","v":4.1666666666666664E-2},{"$f":"IF(Ranking!AZ15>0,'User Input'!$D$98, -'User Input'!$D$98)","v":-4.1666666666666664E-2},{"$f":"IF(Ranking!BA15>0,'User Input'!$D$99, -'User Input'!$D$99)","v":4.1666666666666664E-2},{"$f":"IF(SUM(Ranking!BB15:BD15)>0,'User Input'!$D$100, -'User Input'!$D$100)","v":-4.1666666666666664E-2},{"$f":"IF(Ranking!BE15>0,'User Input'!$D$101, -'User Input'!$D$101)","v":4.1666666666666664E-2},{"$f":"IF(Ranking!BF15>0,'User Input'!$D$102, -'User Input'!$D$102)","v":-4.1666666666666664E-2}]
["LiDAR Matrix Inc.",{"$error":"#N/A"},0.28333333333333333,{"$f":"IF(SUM(Ranking!A16:C16)>0,'User Input'!$D$79, -'User Input'!$D$79)","v":4.1666666666666664E-2},{"$f":"IF(SUM(Ranking!D16:H16)>0,'User Input'!$D$80, -1*'User Input'!$D$80)","v":4.1666666666666664E-2},{"$f":"IF(Ranking!I16>0,'User Input'!$D$81, -'User Input'!$D$81)","v":4.1666666666666664E-2},{"$f":"IF(Ranking!J16>0,'User Input'!$D$82, -'User Input'!$D$82)","v":4.1666666666666664E-2},{"$f":"IF(Ranking!K16>0,'User Input'!$D$83, -'User Input'!$D$83)","v":4.1666666666666664E-2},{"$f":"IF(Ranking!L16>0,'User Input'!$D$84, -'User Input'!$D$84)","v":-4.1666666666666664E-2},{"$f":"IF(SUM(Ranking!M16:O16)>0,'User Input'!$D$85, -'User Input'!$D$85)","v":-4.1666666666666664E-2},{"$f":"IF(SUM(Ranking!P16:U16)>0,'User Input'!$D$86, -'User Input'!$D$86)","v":-4.1666666666666664E-2},{"$f":"IF(Ranking!W16>0,'User Input'!$D$87, -'User Input'!$D$87)","v":4.1666666666666664E-2},{"$f":"IF(Ranking!W16>0,'User Input'!$D$88, -'User Input'!$D$88)","v":4.1666666666666664E-2},{"$f":"IF(Ranking!X16>0,'User Input'!$D$89, -'User Input'!$D$89)","v":4.1666666666666664E-2},{"$f":"(COUNTIF(Ranking!Y16:AH16,1)*'User Input'!$D$90/10)-(COUNTIF(Ranking!Y16:AH16,0)*'User Input'!$D$90/10)","v":-8.333333333333335E-3},{"$f":"IF(Ranking!AI16>0,'User Input'!$D$91, -'User Input'!$D$91)","v":4.1666666666666664E-2},{"$f":"IF(Ranking!AJ16>0,'User Input'!$D$92, -'User Input'!$D$92)","v":-4.1666666666666664E-2},{"$f":"IF(SUM(Ranking!AK16:AO16)>0,'User Input'!$D$93, -'User Input'!$D$93)","v":4.1666666666666664E-2},{"$f":"IF(SUM(Ranking!AP16:AT16)>0,'User Input'!$D$94, -'User Input'!$D$94)","v":4.1666666666666664E-2},{"$f":"IF(Ranking!AU16>0,'User Input'!$D$95, -'User Input'!$D$95)","v":-4.1666666666666664E-2},{"$f":"IF(Ranking!AV16>0,'User Input'!$D$96, -'User Input'!$D$96)","v":-4.1666666666666664E-2},{"$f":"IF(SUM(Ranking!AW16:AY16)>0,'User Input'!$D$97, -'User Input'!$D$97)","v":4.1666666666666664E-2},{"$f":"IF(Ranking!AZ16>0,'User Input'!$D$98, -'User Input'!$D$98)","v":-4.1666666666666664E-2},{"$f":"IF(Ranking!BA16>0,'User Input'!$D$99, -'User Input'!$D$99)","v":4.1666666666666664E-2},{"$f":"IF(SUM(Ranking!BB16:BD16)>0,'User Input'!$D$100, -'User Input'!$D$100)","v":-4.1666666666666664E-2},{"$f":"IF(Ranking!BE16>0,'User Input'!$D$101, -'User Input'!$D$101)","v":4.1666666666666664E-2},{"$f":"IF(Ranking!BF16>0,'User Input'!$D$102, -'User Input'!$D$102)","v":4.1666666666666664E-2}]
["Placeholder",{"$f":"RANK(C72,$C$57:$C$57,0)","v":{"$error":"#N/A"}},{"$f":"SUM(D72:AA72)","v":-0.48333333333333339},{"$f":"IF(SUM(Ranking!A17:C17)>0,'User Input'!$D$79, -'User Input'!$D$79)","v":-4.1666666666666664E-2},{"$f":"IF(SUM(Ranking!D17:H17)>0,'User Input'!$D$80, -1*'User Input'!$D$80)","v":-4.1666666666666664E-2},{"$f":"IF(Ranking!I17>0,'User Input'!$D$81, -'User Input'!$D$81)","v":4.1666666666666664E-2},{"$f":"IF(Ranking!J17>0,'User Input'!$D$82, -'User Input'!$D$82)","v":4.1666666666666664E-2},{"$f":"IF(Ranking!K17>0,'User Input'!$D$83, -'User Input'!$D$83)","v":4.1666666666666664E-2},{"$f":"IF(Ranking!L17>0,'User Input'!$D$84, -'User Input'!$D$84)","v":-4.1666666666666664E-2},{"$f":"IF(SUM(Ranking!M17:O17)>0,'User Input'!$D$85, -'User Input'!$D$85)","v":-4.1666666666666664E-2},{"$f":"IF(SUM(Ranking!P17:U17)>0,'User Input'!$D$86, -'User Input'!$D$86)","v":-4.1666666666666664E-2},{"$f":"IF(Ranking!W17>0,'User Input'!$D$87, -'User Input'!$D$87)","v":-4.1666666666666664E-2},{"$f":"IF(Ranking!W17>0,'User Input'!$D$88, -'User Input'!$D$88)","v":-4.1666666666666664E-2},{"$f":"IF(Ranking!X17>0,'User Input'!$D$89, -'User Input'!$D$89)","v":-4.1666666666666664E-2},{"$f":"(COUNTIF(Ranking!Y17:AH17,1)*'User Input'!$D$90/10)-(COUNTIF(Ranking!Y17:AH17,0)*'User Input'!$D$90/10)","v":-2.5000000000000001E-2},{"$f":"IF(Ranking!AI17>0,'User Input'!$D$91, -'User Input'!$D$91)","v":-4.1666666666666664E-2},{"$f":"IF(Ranking!AJ17>0,'User Input'!$D$92, -'User Input'!$D$92)","v":-4.1666666666666664E-2},{"$f":"IF(SUM(Ranking!AK17:AO17)>0,'User Input'!$D$93, -'User Input'!$D$93)","v":4.1666666666666664E-2},{"$f":"IF(SUM(Ranking!AP17:AT17)>0,'User Input'!$D$94, -'User Input'!$D$94)","v":-4.1666666666666664E-2},{"$f":"IF(Ranking!AU17>0,'User Input'!$D$95, -'User Input'!$D$95)","v":-4.1666666666666664E-2},{"$f":"IF(Ranking!AV17>0,'User Input'!$D$96, -'User Input'!$D$96)","v":-4.1666666666666664E-2},{"$f":"IF(SUM(Ranking!AW17:AY17)>0,'User Input'!$D$97, -'User Input'!$D$97)","v":-4.1666666666666664E-2},{"$f":"IF(Ranking!AZ17>0,'User Input'!$D$98, -'User Input'!$D$98)","v":-4.1666666666666664E-2},{"$f":"IF(Ranking!BA17>0,'User Input'!$D$99, -'User Input'!$D$99)","v":4.1666666666666664E-2},{"$f":"IF(SUM(Ranking!BB17:BD17)>0,'User Input'!$D$100, -'User Input'!$D$100)","v":-4.1666666666666664E-2},{"$f":"IF(Ranking!BE17>0,'User Input'!$D$101, -'User Input'!$D$101)","v":4.1666666666666664E-2},{"$f":"IF(Ranking!BF17>0,'User Input'!$D$102, -'User Input'!$D$102)","v":-4.1666666666666664E-2}]
["Placeholder",{"$error":"#N/A"},-0.48333333333333339,{"$f":"IF(SUM(Ranking!A18:C18)>0,'User Input'!$D$79, -'User Input'!$D$79)","v":-4.1666666666666664E-2},{"$f":"IF(SUM(Ranking!D18:H18)>0,'User Input'!$D$80, -1*'User Input'!$D$80)","v":-4.1666666666666664E-2},{"$f":"IF(Ranking!I18>0,'User Input'!$D$81, -'User Input'!$D$81)","v":4.1666666666666664E-2},{"$f":"IF(Ranking!J18>0,'User Input'!$D$82, -'User Input'!$D$82)","v":4.1666666666666664E-2},{"$f":"IF(Ranking!K18>0,'User Input'!$D$83, -'User Input'!$D$83)","v":4.1666666666666664E-2},{"$f":"IF(Ranking!L18>0,'User Input'!$D$84, -'User Input'!$D$84)","v":-4.1666666666666664E-2},{"$f":"IF(SUM(Ranking!M18:O18)>0,'User Input'!$D$85, -'User Input'!$D$85)","v":-4.1666666666666664E-2},{"$f":"IF(SUM(Ranking!P18:U18)>0,'User Input'!$D$86, -'User Input'!$D$86)","v":-4.1666666666666664E-2},{"$f":"IF(Ranking!W18>0,'User Input'!$D$87, -'User Input'!$D$87)","v":-4.1666666666666664E-2},{"$f":"IF(Ranking!W18>0,'User Input'!$D$88, -'User Input'!$D$88)","v":-4.1666666666666664E-2},{"$f":"IF(Ranking!X18>0,'User Input'!$D$89, -'User Input'!$D$89)","v":-4.1666666666666664E-2},{"$f":"(COUNTIF(Ranking!Y18:AH18,1)*'User Input'!$D$90/10)-(COUNTIF(Ranking!Y18:AH18,0)*'User Input'!$D$90/10)","v":-2.5000000000000001E-2},{"$f":"IF(Ranking!AI18>0,'User Input'!$D$91, -'User Input'!$D$91)","v":-4.1666666666666664E-2},{"$f":"IF(Ranking!AJ18>0,'User Input'!$D$92, -'User Input'!$D$92)","v":-4.1666666666666664E-2},{"$f":"IF(SUM(Ranking!AK18:AO18)>0,'User Input'!$D$93, -'User Input'!$D$93)","v":4.1666666666666664E-2},{"$f":"IF(SUM(Ranking!AP18:AT18)>0,'User Input'!$D$94, -'User Input'!$D$94)","v":-4.1666666666666664E-2},{"$f":"IF(Ranking!AU18>0,'User Input'!$D$95, -'User Input'!$D$95)","v":-4.1666666666666664E-2},{"$f":"IF(Ranking!AV18>0,'User Input'!$D$96, -'User Input'!$D$96)","v":-4.1666666666666664E-2},{"$f":"IF(SUM(Ranking!AW18:AY18)>0,'User Input'!$D$97, -'User Input'!$D$97)","v":-4.1666666666666664E-2},{"$f":"IF(Ranking!AZ18>0,'User Input'!$D$98, -'User Input'!$D$98)","v":-4.1666666666666664E-2},{"$f":"IF(Ranking!BA18>0,'User Input'!$D$99, -'User Input'!$D$99)","v":4.1666666666666664E-2},{"$f":"IF(SUM(Ranking!BB18:BD18)>0,'User Input'!$D$100, -'User Input'!$D$100)","v":-4.1666666666666664E-2},{"$f":"IF(Ranking!BE18>0,'User Input'!$D$101, -'User Input'!$D$101)","v":4.1666666666666664E-2},{"$f":"IF(Ranking!BF18>0,'User Input'!$D$102, -'User Input'!$D$102)","v":-4.1666666666666664E-2}]
["Placeholder",{"$error":"#N/A"},-0.48333333333333339,{"$f":"IF(SUM(Ranking!A19:C19)>0,'User Input'!$D$79, -'User Input'!$D$79)","v":-4.1666666666666664E-2},{"$f":"IF(SUM(Ranking!D19:H19)>0,'User Input'!$D$80, -1*'User Input'!$D$80)","v":-4.1666666666666664E-2},{"$f":"IF(Ranking!I19>0,'User Input'!$D$81, -'User Input'!$D$81)","v":4.1666666666666664E-2},{"$f":"IF(Ranking!J19>0,'User Input'!$D$82, -'User Input'!$D$82)","v":4.1666666666666664E-2},{"$f":"IF(Ranking!K19>0,'User Input'!$D$83, -'User Input'!$D$83)","v":4.1666666666666664E-2},{"$f":"IF(Ranking!L19>0,'User Input'!$D$84, -'User Input'!$D$84)","v":-4.1666666666666664E-2},{"$f":"IF(SUM(Ranking!M19:O19)>0,'User Input'!$D$85, -'User Input'!$D$85)","v":-4.1666666666666664E-2},{"$f":"IF(SUM(Ranking!P19:U19)>0,'User Input'!$D$86, -'User Input'!$D$86)","v":-4.1666666666666664E-2},{"$f":"IF(Ranking!W19>0,'User Input'!$D$87, -'User Input'!$D$87)","v":-4.1666666666666664E-2},{"$f":"IF(Ranking!W19>0,'User Input'!$D$88, -'User Input'!$D$88)","v":-4.1666666666666664E-2},{"$f":"IF(Ranking!X19>0,'User Input'!$D$89, -'User Input'!$D$89)","v":-4.1666666666666664E-2},{"$f":"(COUNTIF(Ranking!Y19:AH19,1)*'User Input'!$D$90/10)-(COUNTIF(Ranking!Y19:AH19,0)*'User Input'!$D$90/10)","v":-2.5000000000000001E-2},{"$f":"IF(Ranking!AI19>0,'User Input'!$D$91, -'User Input'!$D$91)","v":-4.1666666666666664E-2},{"$f":"IF(Ranking!AJ19>0,'User Input'!$D$92, -'User Input'!$D$92)","v":-4.1666666666666664E-2},{"$f":"IF(SUM(Ranking!AK19:AO19)>0,'User Input'!$D$93, -'User Input'!$D$93)","v":4.1666666666666664E-2},{"$f":"IF(SUM(Ranking!AP19:AT19)>0,'User Input'!$D$94, -'User Input'!$D$94)","v":-4.1666666666666664E-2},{"$f":"IF(Ranking!AU19>0,'User Input'!$D$95, -'User Input'!$D$95)","v":-4.1666666666666664E-2},{"$f":"IF(Ranking!AV19>0,'User Input'!$D$96, -'User Input'!$D$96)","v":-4.1666666666666664E-2},{"$f":"IF(SUM(Ranking!AW19:AY19)>0,'User Input'!$D$97, -'User Input'!$D$97)","v":-4.1666666666666664E-2},{"$f":"IF(Ranking!AZ19>0,'User Input'!$D$98, -'User Input'!$D$98)","v":-4.1666666666666664E-2},{"$f":"IF(Ranking!BA19>0,'User Input'!$D$99, -'User Input'!$D$99)","v":4.1666666666666664E-2},{"$f":"IF(SUM(Ranking!BB19:BD19)>0,'User Input'!$D$100, -'User Input'!$D$100)","v":-4.1666666666666664E-2},{"$f":"IF(Ranking!BE19>0,'User Input'!$D$101, -'User Input'!$D$101)","v":4.1666666666666664E-2},{"$f":"IF(Ranking!BF19>0,'User Input'!$D$102, -'User Input'!$D$102)","v":-4.1666666666666664E-2}]
["Placeholder",{"$error":"#N/A"},-0.48333333333333339,{"$f":"IF(SUM(Ranking!A20:C20)>0,'User Input'!$D$79, -'User Input'!$D$79)","v":-4.1666666666666664E-2},{"$f":"IF(SUM(Ranking!D20:H20)>0,'User Input'!$D$80, -1*'User Input'!$D$80)","v":-4.1666666666666664E-2},{"$f":"IF(Ranking!I20>0,'User Input'!$D$81, -'User Input'!$D$81)","v":4.1666666666666664E-2},{"$f":"IF(Ranking!J20>0,'User Input'!$D$82, -'User Input'!$D$82)","v":4.1666666666666664E-2},{"$f":"IF(Ranking!K20>0,'User Input'!$D$83, -'User Input'!$D$83)","v":4.1666666666666664E-2},{"$f":"IF(Ranking!L20>0,'User Input'!$D$84, -'User Input'!$D$84)","v":-4.1666666666666664E-2},{"$f":"IF(SUM(Ranking!M20:O20)>0,'User Input'!$D$85, -'User Input'!$D$85)","v":-4.1666666666666664E-2},{"$f":"IF(SUM(Ranking!P20:U20)>0,'User Input'!$D$86, -'User Input'!$D$86)","v":-4.1666666666666664E-2},{"$f":"IF(Ranking!W20>0,'User Input'!$D$87, -'User Input'!$D$87)","v":-4.1666666666666664E-2},{"$f":"IF(Ranking!W20>0,'User Input'!$D$88, -'User Input'!$D$88)","v":-4.1666666666666664E-2},{"$f":"IF(Ranking!X20>0,'User Input'!$D$89, -'User Input'!$D$89)","v":-4.1666666666666664E-2},{"$f":"(COUNTIF(Ranking!Y20:AH20,1)*'User Input'!$D$90/10)-(COUNTIF(Ranking!Y20:AH20,0)*'User Input'!$D$90/10)","v":-2.5000000000000001E-2},{"$f":"IF(Ranking!AI20>0,'User Input'!$D$91, -'User Input'!$D$91)","v":-4.1666666666666664E-2},{"$f":"IF(Ranking!AJ20>0,'User Input'!$D$92, -'User Input'!$D$92)","v":-4.1666666666666664E-2},{"$f":"IF(SUM(Ranking!AK20:AO20)>0,'User Input'!$D$93, -'User Input'!$D$93)","v":4.1666666666666664E-2},{"$f":"IF(SUM(Ranking!AP20:AT20)>0,'User Input'!$D$94, -'User Input'!$D$94)","v":-4.1666666666666664E-2},{"$f":"IF(Ranking!AU20>0,'User Input'!$D$95, -'User Input'!$D$95)","v":-4.1666666666666664E-2},{"$f":"IF(Ranking!AV20>0,'User Input'!$D$96, -'User Input'!$D$96)","v":-4.1666666666666664E-2},{"$f":"IF(SUM(Ranking!AW20:AY20)>0,'User Input'!$D$97, -'User Input'!$D$97)","v":-4.1666666666666664E-2},{"$f":"IF(Ranking!AZ20>0,'User Input'!$D$98, -'User Input'!$D$98)","v":-4.1666666666666664E-2},{"$f":"IF(Ranking!BA20>0,'User Input'!$D$99, -'User Input'!$D$99)","v":4.1666666666666664E-2},{"$f":"IF(SUM(Ranking!BB20:BD20)>0,'User Input'!$D$100, -'User Input'!$D$100)","v":-4.1666666666666664E-2},{"$f":"IF(Ranking!BE20>0,'User Input'!$D$101, -'User Input'!$D$101)","v":4.1666666666666664E-2},{"$f":"IF(Ranking!BF20>0,'User Input'!$D$102, -'User Input'!$D$102)","v":-4.1666666666666664E-2}]
["Placeholder",{"$error":"#N/A"},-0.48333333333333339,{"$f":"IF(SUM(Ranking!A21:C21)>0,'User Input'!$D$79, -'User Input'!$D$79)","v":-4.1666666666666664E-2},{"$f":"IF(SUM(Ranking!D21:H21)>0,'User Input'!$D$80, -1*'User Input'!$D$80)","v":-4.1666666666666664E-2},{"$f":"IF(Ranking!I21>0,'User Input'!$D$81, -'User Input'!$D$81)","v":4.1666666666666664E-2},{"$f":"IF(Ranking!J21>0,'User Input'!$D$82, -'User Input'!$D$82)","v":4.1666666666666664E-2},{"$f":"IF(Ranking!K21>0,'User Input'!$D$83, -'User Input'!$D$83)","v":4.1666666666666664E-2},{"$f":"IF(Ranking!L21>0,'User Input'!$D$84, -'User Input'!$D$84)","v":-4.1666666666666664E-2},{"$f":"IF(SUM(Ranking!M21:O21)>0,'User Input'!$D$85, -'User Input'!$D$85)","v":-4.1666666666666664E-2},{"$f":"IF(SUM(Ranking!P21:U21)>0,'User Input'!$D$86, -'User Input'!$D$86)","v":-4.1666666666666664E-2},{"$f":"IF(Ranking!W21>0,'User Input'!$D$87, -'User Input'!$D$87)","v":-4.1666666666666664E-2},{"$f":"IF(Ranking!W21>0,'User Input'!$D$88, -'User Input'!$D$88)","v":-4.1666666666666664E-2},{"$f":"IF(Ranking!X21>0,'User Input'!$D$89, -'User Input'!$D$89)","v":-4.1666666666666664E-2},{"$f":"(COUNTIF(Ranking!Y21:AH21,1)*'User Input'!$D$90/10)-(COUNTIF(Ranking!Y21:AH21,0)*'User Input'!$D$90/10)","v":-2.5000000000000001E-2},{"$f":"IF(Ranking!AI21>0,'User Input'!$D$91, -'User Input'!$D$91)","v":-4.1666666666666664E-2},{"$f":"IF(Ranking!AJ21>0,'User Input'!$D$92, -'User Input'!$D$92)","v":-4.1666666666666664E-2},{"$f":"IF(SUM(Ranking!AK21:AO21)>0,'User Input'!$D$93, -'User Input'!$D$93)","v":4.1666666666666664E-2},{"$f":"IF(SUM(Ranking!AP21:AT21)>0,'User Input'!$D$94, -'User Input'!$D$94)","v":-4.1666666666666664E-2},{"$f":"IF(Ranking!AU21>0,'User Input'!$D$95, -'User Input'!$D$95)","v":-4.1666666666666664E-2},{"$f":"IF(Ranking!AV21>0,'User Input'!$D$96, -'User Input'!$D$96)","v":-4.1666666666666664E-2},{"$f":"IF(SUM(Ranking!AW21:AY21)>0,'User Input'!$D$97, -'User Input'!$D$97)","v":-4.1666666666666664E-2},{"$f":"IF(Ranking!AZ21>0,'User Input'!$D$98, -'User Input'!$D$98)","v":-4.1666666666666664E-2},{"$f":"IF(Ranking!BA21>0,'User Input'!$D$99, -'User Input'!$D$99)","v":4.1666666666666664E-2},{"$f":"IF(SUM(Ranking!BB21:BD21)>0,'User Input'!$D$100, -'User Input'!$D$100)","v":-4.1666666666666664E-2},{"$f":"IF(Ranking!BE21>0,'User Input'!$D$101, -'User Input'!$D$101)","v":4.1666666666666664E-2},{"$f":"IF(Ranking!BF21>0,'User Input'!$D$102, -'User Input'!$D$102)","v":-4.1666666666666664E-2}]
["Placeholder",{"$error":"#N/A"},-0.48333333333333339,{"$f":"IF(SUM(Ranking!A22:C22)>0,'User Input'!$D$79, -'User Input'!$D$79)","v":-4.1666666666666664E-2},{"$f":"IF(SUM(Ranking!D22:H22)>0,'User Input'!$D$80, -1*'User Input'!$D$80)","v":-4.1666666666666664E-2},{"$f":"IF(Ranking!I22>0,'User Input'!$D$81, -'User Input'!$D$81)","v":4.1666666666666664E-2},{"$f":"IF(Ranking!J22>0,'User Input'!$D$82, -'User Input'!$D$82)","v":4.1666666666666664E-2},{"$f":"IF(Ranking!K22>0,'User Input'!$D$83, -'User Input'!$D$83)","v":4.1666666666666664E-2},{"$f":"IF(Ranking!L22>0,'User Input'!$D$84, -'User Input'!$D$84)","v":-4.1666666666666664E-2},{"$f":"IF(SUM(Ranking!M22:O22)>0,'User Input'!$D$85, -'User Input'!$D$85)","v":-4.1666666666666664E-2},{"$f":"IF(SUM(Ranking!P22:U22)>0,'User Input'!$D$86, -'User Input'!$D$86)","v":-4.1666666666666664E-2},{"$f":"IF(Ranking!W22>0,'User Input'!$D$87, -'User Input'!$D$87)","v":-4.1666666666666664E-2},{"$f":"IF(Ranking!W22>0,'User Input'!$D$88, -'User Input'!$D$88)","v":-4.1666666666666664E-2},{"$f":"IF(Ranking!X22>0,'User Input'!$D$89, -'User Input'!$D$89)","v":-4.1666666666666664E-2},{"$f":"(COUNTIF(Ranking!Y22:AH22,1)*'User Input'!$D$90/10)-(COUNTIF(Ranking!Y22:AH22,0)*'User Input'!$D$90/10)","v":-2.5000000000000001E-2},{"$f":"IF(Ranking!AI22>0,'User Input'!$D$91, -'User Input'!$D$91)","v":-4.1666666666666664E-2},{"$f":"IF(Ranking!AJ22>0,'User Input'!$D$92, -'User Input'!$D$92)","v":-4.1666666666666664E-2},{"$f":"IF(SUM(Ranking!AK22:AO22)>0,'User Input'!$D$93, -'User Input'!$D$93)","v":4.1666666666666664E-2},{"$f":"IF(SUM(Ranking!AP22:AT22)>0,'User Input'!$D$94, -'User Input'!$D$94)","v":-4.1666666666666664E-2},{"$f":"IF(Ranking!AU22>0,'User Input'!$D$95, -'User Input'!$D$95)","v":-4.1666666666666664E-2},{"$f":"IF(Ranking!AV22>0,'User Input'!$D$96, -'User Input'!$D$96)","v":-4.1666666666666664E-2},{"$f":"IF(SUM(Ranking!AW22:AY22)>0,'User Input'!$D$97, -'User Input'!$D$97)","v":-4.1666666666666664E-2},{"$f":"IF(Ranking!AZ22>0,'User Input'!$D$98, -'User Input'!$D$98)","v":-4.1666666666666664E-2},{"$f":"IF(Ranking!BA22>0,'User Input'!$D$99, -'User Input'!$D$99)","v":4.1666666666666664E-2},{"$f":"IF(SUM(Ranking!BB22:BD22)>0,'User Input'!$D$100, -'User Input'!$D$100)","v":-4.1666666666666664E-2},{"$f":"IF(Ranking!BE22>0,'User Input'!$D$101, -'User Input'!$D$101)","v":4.1666666666666664E-2},{"$f":"IF(Ranking!BF22>0,'User Input'!$D$102, -'User Input'!$D$102)","v":-4.1666666666666664E-2}]
["Placeholder",{"$error":"#N/A"},-0.48333333333333339,{"$f":"IF(SUM(Ranking!A23:C23)>0,'User Input'!$D$79, -'User Input'!$D$79)","v":-4.1666666666666664E-2},{"$f":"IF(SUM(Ranking!D23:H23)>0,'User Input'!$D$80, -1*'User Input'!$D$80)","v":-4.1666666666666664E-2},{"$f":"IF(Ranking!I23>0,'User Input'!$D$81, -'User Input'!$D$81)","v":4.1666666666666664E-2},{"$f":"IF(Ranking!J23>0,'User Input'!$D$82, -'User Input'!$D$82)","v":4.1666666666666664E-2},{"$f":"IF(Ranking!K23>0,'User Input'!$D$83, -'User Input'!$D$83)","v":4.1666666666666664E-2},{"$f":"IF(Ranking!L23>0,'User Input'!$D$84, -'User Input'!$D$84)","v":-4.1666666666666664E-2},{"$f":"IF(SUM(Ranking!M23:O23)>0,'User Input'!$D$85, -'User Input'!$D$85)","v":-4.1666666666666664E-2},{"$f":"IF(SUM(Ranking!P23:U23)>0,'User Input'!$D$86, -'User Input'!$D$86)","v":-4.1666666666666664E-2},{"$f":"IF(Ranking!W23>0,'User Input'!$D$87, -'User Input'!$D$87)","v":-4.1666666666666664E-2},{"$f":"IF(Ranking!W23>0,'User Input'!$D$88, -'User Input'!$D$88)","v":-4.1666666666666664E-2},{"$f":"IF(Ranking!X23>0,'User Input'!$D$89, -'User Input'!$D$89)","v":-4.1666666666666664E-2},{"$f":"(COUNTIF(Ranking!Y23:AH23,1)*'User Input'!$D$90/10)-(COUNTIF(Ranking!Y23:AH23,0)*'User Input'!$D$90/10)","v":-2.5000000000000001E-2},{"$f":"IF(Ranking!AI23>0,'User Input'!$D$91, -'User Input'!$D$91)","v":-4.1666666666666664E-2},{"$f":"IF(Ranking!AJ23>0,'User Input'!$D$92, -'User Input'!$D$92)","v":-4.1666666666666664E-2},{"$f":"IF(SUM(Ranking!AK23:AO23)>0,'User Input'!$D$93, -'User Input'!$D$93)","v":4.1666666666666664E-2},{"$f":"IF(SUM(Ranking!AP23:AT23)>0,'User Input'!$D$94, -'User Input'!$D$94)","v":-4.1666666666666664E-2},{"$f":"IF(Ranking!AU23>0,'User Input'!$D$95, -'User Input'!$D$95)","v":-4.1666666666666664E-2},{"$f":"IF(Ranking!AV23>0,'User Input'!$D$96, -'User Input'!$D$96)","v":-4.1666666666666664E-2},{"$f":"IF(SUM(Ranking!AW23:AY23)>0,'User Input'!$D$97, -'User Input'!$D$97)","v":-4.1666666666666664E-2},{"$f":"IF(Ranking!AZ23>0,'User Input'!$D$98, -'User Input'!$D$98)","v":-4.1666666666666664E-2},{"$f":"IF(Ranking!BA23>0,'User Input'!$D$99, -'User Input'!$D$99)","v":4.1666666666666664E-2},{"$f":"IF(SUM(Ranking!BB23:BD23)>0,'User Input'!$D$100, -'User Input'!$D$100)","v":-4.1666666666666664E-2},{"$f":"IF(Ranking!BE23>0,'User Input'!$D$101, -'User Input'!$D$101)","v":4.1666666666666664E-2},{"$f":"IF(Ranking!BF23>0,'User Input'!$D$102, -'User Input'!$D$102)","v":-4.1666666666666664E-2}]
["Placeholder",{"$error":"#N/A"},-0.48333333333333339,{"$f":"IF(SUM(Ranking!A24:C24)>0,'User Input'!$D$79, -'User Input'!$D$79)","v":-4.1666666666666664E-2},{"$f":"IF(SUM(Ranking!D24:H24)>0,'User Input'!$D$80, -1*'User Input'!$D$80)","v":-4.1666666666666664E-2},{"$f":"IF(Ranking!I24>0,'User Input'!$D$81, -'User Input'!$D$81)","v":4.1666666666666664E-2},{"$f":"IF(Ranking!J24>0,'User Input'!$D$82, -'User Input'!$D$82)","v":4.1666666666666664E-2},{"$f":"IF(Ranking!K24>0,'User Input'!$D$83, -'User Input'!$D$83)","v":4.1666666666666664E-2},{"$f":"IF(Ranking!L24>0,'User Input'!$D$84, -'User Input'!$D$84)","v":-4.1666666666666664E-2},{"$f":"IF(SUM(Ranking!M24:O24)>0,'User Input'!$D$85, -'User Input'!$D$85)","v":-4.1666666666666664E-2},{"$f":"IF(SUM(Ranking!P24:U24)>0,'User Input'!$D$86, -'User Input'!$D$86)","v":-4.1666666666666664E-2},{"$f":"IF(Ranking!W24>0,'User Input'!$D$87, -'User Input'!$D$87)","v":-4.1666666666666664E-2},{"$f":"IF(Ranking!W24>0,'User Input'!$D$88, -'User Input'!$D$88)","v":-4.1666666666666664E-2},{"$f":"IF(Ranking!X24>0,'User Input'!$D$89, -'User Input'!$D$89)","v":-4.1666666666666664E-2},{"$f":"(COUNTIF(Ranking!Y24:AH24,1)*'User Input'!$D$90/10)-(COUNTIF(Ranking!Y24:AH24,0)*'User Input'!$D$90/10)","v":-2.5000000000000001E-2},{"$f":"IF(Ranking!AI24>0,'User Input'!$D$91, -'User Input'!$D$91)","v":-4.1666666666666664E-2},{"$f":"IF(Ranking!AJ24>0,'User Input'!$D$92, -'User Input'!$D$92)","v":-4.1666666666666664E-2},{"$f":"IF(SUM(Ranking!AK24:AO24)>0,'User Input'!$D$93, -'User Input'!$D$93)","v":4.1666666666666664E-2},{"$f":"IF(SUM(Ranking!AP24:AT24)>0,'User Input'!$D$94, -'User Input'!$D$94)","v":-4.1666666666666664E-2},{"$f":"IF(Ranking!AU24>0,'User Input'!$D$95, -'User Input'!$D$95)","v":-4.1666666666666664E-2},{"$f":"IF(Ranking!AV24>0,'User Input'!$D$96, -'User Input'!$D$96)","v":-4.1666666666666664E-2},{"$f":"IF(SUM(Ranking!AW24:AY24)>0,'User Input'!$D$97, -'User Input'!$D$97)","v":-4.1666666666666664E-2},{"$f":"IF(Ranking!AZ24>0,'User Input'!$D$98, -'User Input'!$D$98)","v":-4.1666666666666664E-2},{"$f":"IF(Ranking!BA24>0,'User Input'!$D$99, -'User Input'!$D$99)","v":4.1666666666666664E-2},{"$f":"IF(SUM(Ranking!BB24:BD24)>0,'User Input'!$D$100, -'User Input'!$D$100)","v":-4.1666666666666664E-2},{"$f":"IF(Ranking!BE24>0,'User Input'!$D$101, -'User Input'!$D$101)","v":4.1666666666666664E-2},{"$f":"IF(Ranking!BF24>0,'User Input'!$D$102, -'User Input'!$D$102)","v":-4.1666666666666664E-2}]
["Placeholder",{"$error":"#N/A"},-0.48333333333333339,{"$f":"IF(SUM(Ranking!A25:C25)>0,'User Input'!$D$79, -'User Input'!$D$79)","v":-4.1666666666666664E-2},{"$f":"IF(SUM(Ranking!D25:H25)>0,'User Input'!$D$80, -1*'User Input'!$D$80)","v":-4.1666666666666664E-2},{"$f":"IF(Ranking!I25>0,'User Input'!$D$81, -'User Input'!$D$81)","v":4.1666666666666664E-2},{"$f":"IF(Ranking!J25>0,'User Input'!$D$82, -'User Input'!$D$82)","v":4.1666666666666664E-2},{"$f":"IF(Ranking!K25>0,'User Input'!$D$83, -'User Input'!$D$83)","v":4.1666666666666664E-2},{"$f":"IF(Ranking!L25>0,'User Input'!$D$84, -'User Input'!$D$84)","v":-4.1666666666666664E-2},{"$f":"IF(SUM(Ranking!M25:O25)>0,'User Input'!$D$85, -'User Input'!$D$85)","v":-4.1666666666666664E-2},{"$f":"IF(SUM(Ranking!P25:U25)>0,'User Input'!$D$86, -'User Input'!$D$86)","v":-4.1666666666666664E-2},{"$f":"IF(Ranking!W25>0,'User Input'!$D$87, -'User Input'!$D$87)","v":-4.1666666666666664E-2},{"$f":"IF(Ranking!W25>0,'User Input'!$D$88, -'User Input'!$D$88)","v":-4.1666666666666664E-2},{"$f":"IF(Ranking!X25>0,'User Input'!$D$89, -'User Input'!$D$89)","v":-4.1666666666666664E-2},{"$f":"(COUNTIF(Ranking!Y25:AH25,1)*'User Input'!$D$90/10)-(COUNTIF(Ranking!Y25:AH25,0)*'User Input'!$D$90/10)","v":-2.5000000000000001E-2},{"$f":"IF(Ranking!AI25>0,'User Input'!$D$91, -'User Input'!$D$91)","v":-4.1666666666666664E-2},{"$f":"IF(Ranking!AJ25>0,'User Input'!$D$92, -'User Input'!$D$92)","v":-4.1666666666666664E-2},{"$f":"IF(SUM(Ranking!AK25:AO25)>0,'User Input'!$D$93, -'User Input'!$D$93)","v":4.1666666666666664E-2},{"$f":"IF(SUM(Ranking!AP25:AT25)>0,'User Input'!$D$94, -'User Input'!$D$94)","v":-4.1666666666666664E-2},{"$f":"IF(Ranking!AU25>0,'User Input'!$D$95, -'User Input'!$D$95)","v":-4.1666666666666664E-2},{"$f":"IF(Ranking!AV25>0,'User Input'!$D$96, -'User Input'!$D$96)","v":-4.1666666666666664E-2},{"$f":"IF(SUM(Ranking!AW25:AY25)>0,'User Input'!$D$97, -'User Input'!$D$97)","v":-4.1666666666666664E-2},{"$f":"IF(Ranking!AZ25>0,'User Input'!$D$98, -'User Input'!$D$98)","v":-4.1666666666666664E-2},{"$f":"IF(Ranking!BA25>0,'User Input'!$D$99, -'User Input'!$D$99)","v":4.1666666666666664E-2},{"$f":"IF(SUM(Ranking!BB25:BD25)>0,'User Input'!$D$100, -'User Input'!$D$100)","v":-4.1666666666666664E-2},{"$f":"IF(Ranking!BE25>0,'User Input'!$D$101, -'User Input'!$D$101)","v":4.1666666666666664E-2},{"$f":"IF(Ranking!BF25>0,'User Input'!$D$102, -'User Input'!$D$102)","v":-4.1666666666666664E-2}]
["Placeholder",{"$error":"#N/A"},-0.48333333333333339,{"$f":"IF(SUM(Ranking!A26:C26)>0,'User Input'!$D$79, -'User Input'!$D$79)","v":-4.1666666666666664E-2},{"$f":"IF(SUM(Ranking!D26:H26)>0,'User Input'!$D$80, -1*'User Input'!$D$80)","v":-4.1666666666666664E-2},{"$f":"IF(Ranking!I26>0,'User Input'!$D$81, -'User Input'!$D$81)","v":4.1666666666666664E-2},{"$f":"IF(Ranking!J26>0,'User Input'!$D$82, -'User Input'!$D$82)","v":4.1666666666666664E-2},{"$f":"IF(Ranking!K26>0,'User Input'!$D$83, -'User Input'!$D$83)","v":4.1666666666666664E-2},{"$f":"IF(Ranking!L26>0,'User Input'!$D$84, -'User Input'!$D$84)","v":-4.1666666666666664E-2},{"$f":"IF(SUM(Ranking!M26:O26)>0,'User Input'!$D$85, -'User Input'!$D$85)","v":-4.1666666666666664E-2},{"$f":"IF(SUM(Ranking!P26:U26)>0,'User Input'!$D$86, -'User Input'!$D$86)","v":-4.1666666666666664E-2},{"$f":"IF(Ranking!W26>0,'User Input'!$D$87, -'User Input'!$D$87)","v":-4.1666666666666664E-2},{"$f":"IF(Ranking!W26>0,'User Input'!$D$88, -'User Input'!$D$88)","v":-4.1666666666666664E-2},{"$f":"IF(Ranking!X26>0,'User Input'!$D$89, -'User Input'!$D$89)","v":-4.1666666666666664E-2},{"$f":"(COUNTIF(Ranking!Y26:AH26,1)*'User Input'!$D$90/10)-(COUNTIF(Ranking!Y26:AH26,0)*'User Input'!$D$90/10)","v":-2.5000000000000001E-2},{"$f":"IF(Ranking!AI26>0,'User Input'!$D$91, -'User Input'!$D$91)","v":-4.1666666666666664E-2},{"$f":"IF(Ranking!AJ26>0,'User Input'!$D$92, -'User Input'!$D$92)","v":-4.1666666666666664E-2},{"$f":"IF(SUM(Ranking!AK26:AO26)>0,'User Input'!$D$93, -'User Input'!$D$93)","v":4.1666666666666664E-2},{"$f":"IF(SUM(Ranking!AP26:AT26)>0,'User Input'!$D$94, -'User Input'!$D$94)","v":-4.1666666666666664E-2},{"$f":"IF(Ranking!AU26>0,'User Input'!$D$95, -'User Input'!$D$95)","v":-4.1666666666666664E-2},{"$f":"IF(Ranking!AV26>0,'User Input'!$D$96, -'User Input'!$D$96)","v":-4.1666666666666664E-2},{"$f":"IF(SUM(Ranking!AW26:AY26)>0,'User Input'!$D$97, -'User Input'!$D$97)","v":-4.1666666666666664E-2},{"$f":"IF(Ranking!AZ26>0,'User Input'!$D$98, -'User Input'!$D$98)","v":-4.1666666666666664E-2},{"$f":"IF(Ranking!BA26>0,'User Input'!$D$99, -'User Input'!$D$99)","v":4.1666666666666664E-2},{"$f":"IF(SUM(Ranking!BB26:BD26)>0,'User Input'!$D$100, -'User Input'!$D$100)","v":-4.1666666666666664E-2},{"$f":"IF(Ranking!BE26>0,'User Input'!$D$101, -'User Input'!$D$101)","v":4.1666666666666664E-2},{"$f":"IF(Ranking!BF26>0,'User Input'!$D$102, -'User Input'!$D$102)","v":-4.1666666666666664E-2}]
["Placeholder",{"$error":"#N/A"},-0.48333333333333339,{"$f":"IF(SUM(Ranking!A27:C27)>0,'User Input'!$D$79, -'User Input'!$D$79)","v":-4.1666666666666664E-2},{"$f":"IF(SUM(Ranking!D27:H27)>0,'User Input'!$D$80, -1*'User Input'!$D$80)","v":-4.1666666666666664E-2},{"$f":"IF(Ranking!I27>0,'User Input'!$D$81, -'User Input'!$D$81)","v":4.1666666666666664E-2},{"$f":"IF(Ranking!J27>0,'User Input'!$D$82, -'User Input'!$D$82)","v":4.1666666666666664E-2},{"$f":"IF(Ranking!K27>0,'User Input'!$D$83, -'User Input'!$D$83)","v":4.1666666666666664E-2},{"$f":"IF(Ranking!L27>0,'User Input'!$D$84, -'User Input'!$D$84)","v":-4.1666666666666664E-2},{"$f":"IF(SUM(Ranking!M27:O27)>0,'User Input'!$D$85, -'User Input'!$D$85)","v":-4.1666666666666664E-2},{"$f":"IF(SUM(Ranking!P27:U27)>0,'User Input'!$D$86, -'User Input'!$D$86)","v":-4.1666666666666664E-2},{"$f":"IF(Ranking!W27>0,'User Input'!$D$87, -'User Input'!$D$87)","v":-4.1666666666666664E-2},{"$f":"IF(Ranking!W27>0,'User Input'!$D$88, -'User Input'!$D$88)","v":-4.1666666666666664E-2},{"$f":"IF(Ranking!X27>0,'User Input'!$D$89, -'User Input'!$D$89)","v":-4.1666666666666664E-2},{"$f":"(COUNTIF(Ranking!Y27:AH27,1)*'User Input'!$D$90/10)-(COUNTIF(Ranking!Y27:AH27,0)*'User Input'!$D$90/10)","v":-2.5000000000000001E-2},{"$f":"IF(Ranking!AI27>0,'User Input'!$D$91, -'User Input'!$D$91)","v":-4.1666666666666664E-2},{"$f":"IF(Ranking!AJ27>0,'User Input'!$D$92, -'User Input'!$D$92)","v":-4.1666666666666664E-2},{"$f":"IF(SUM(Ranking!AK27:AO27)>0,'User Input'!$D$93, -'User Input'!$D$93)","v":4.1666666666666664E-2},{"$f":"IF(SUM(Ranking!AP27:AT27)>0,'User Input'!$D$94, -'User Input'!$D$94)","v":-4.1666666666666664E-2},{"$f":"IF(Ranking!AU27>0,'User Input'!$D$95, -'User Input'!$D$95)","v":-4.1666666666666664E-2},{"$f":"IF(Ranking!AV27>0,'User Input'!$D$96, -'User Input'!$D$96)","v":-4.1666666666666664E-2},{"$f":"IF(SUM(Ranking!AW27:AY27)>0,'User Input'!$D$97, -'User Input'!$D$97)","v":-4.1666666666666664E-2},{"$f":"IF(Ranking!AZ27>0,'User Input'!$D$98, -'User Input'!$D$98)","v":-4.1666666666666664E-2},{"$f":"IF(Ranking!BA27>0,'User Input'!$D$99, -'User Input'!$D$99)","v":4.1666666666666664E-2},{"$f":"IF(SUM(Ranking!BB27:BD27)>0,'User Input'!$D$100, -'User Input'!$D$100)","v":-4.1666666666666664E-2},{"$f":"IF(Ranking!BE27>0,'User Input'!$D$101, -'User Input'!$D$101)","v":4.1666666666666664E-2},{"$f":"IF(Ranking!BF27>0,'User Input'!$D$102, -'User Input'!$D$102)","v":-4.1666666666666664E-2}]
["Placeholder",{"$error":"#N/A"},-0.48333333333333339,{"$f":"IF(SUM(Ranking!A28:C28)>0,'User Input'!$D$79, -'User Input'!$D$79)","v":-4.1666666666666664E-2},{"$f":"IF(SUM(Ranking!D28:H28)>0,'User Input'!$D$80, -1*'User Input'!$D$80)","v":-4.1666666666666664E-2},{"$f":"IF(Ranking!I28>0,'User Input'!$D$81, -'User Input'!$D$81)","v":4.1666666666666664E-2},{"$f":"IF(Ranking!J28>0,'User Input'!$D$82, -'User Input'!$D$82)","v":4.1666666666666664E-2},{"$f":"IF(Ranking!K28>0,'User Input'!$D$83, -'User Input'!$D$83)","v":4.1666666666666664E-2},{"$f":"IF(Ranking!L28>0,'User Input'!$D$84, -'User Input'!$D$84)","v":-4.1666666666666664E-2},{"$f":"IF(SUM(Ranking!M28:O28)>0,'User Input'!$D$85, -'User Input'!$D$85)","v":-4.1666666666666664E-2},{"$f":"IF(SUM(Ranking!P28:U28)>0,'User Input'!$D$86, -'User Input'!$D$86)","v":-4.1666666666666664E-2},{"$f":"IF(Ranking!W28>0,'User Input'!$D$87, -'User Input'!$D$87)","v":-4.1666666666666664E-2},{"$f":"IF(Ranking!W28>0,'User Input'!$D$88, -'User Input'!$D$88)","v":-4.1666666666666664E-2},{"$f":"IF(Ranking!X28>0,'User Input'!$D$89, -'User Input'!$D$89)","v":-4.1666666666666664E-2},{"$f":"(COUNTIF(Ranking!Y28:AH28,1)*'User Input'!$D$90/10)-(COUNTIF(Ranking!Y28:AH28,0)*'User Input'!$D$90/10)","v":-2.5000000000000001E-2},{"$f":"IF(Ranking!AI28>0,'User Input'!$D$91, -'User Input'!$D$91)","v":-4.1666666666666664E-2},{"$f":"IF(Ranking!AJ28>0,'User Input'!$D$92, -'User Input'!$D$92)","v":-4.1666666666666664E-2},{"$f":"IF(SUM(Ranking!AK28:AO28)>0,'User Input'!$D$93, -'User Input'!$D$93)","v":4.1666666666666664E-2},{"$f":"IF(SUM(Ranking!AP28:AT28)>0,'User Input'!$D$94, -'User Input'!$D$94)","v":-4.1666666666666664E-2},{"$f":"IF(Ranking!AU28>0,'User Input'!$D$95, -'User Input'!$D$95)","v":-4.1666666666666664E-2},{"$f":"IF(Ranking!AV28>0,'User Input'!$D$96, -'User Input'!$D$96)","v":-4.1666666666666664E-2},{"$f":"IF(SUM(Ranking!AW28:AY28)>0,'User Input'!$D$97, -'User Input'!$D$97)","v":-4.1666666666666664E-2},{"$f":"IF(Ranking!AZ28>0,'User Input'!$D$98, -'User Input'!$D$98)","v":-4.1666666666666664E-2},{"$f":"IF(Ranking!BA28>0,'User Input'!$D$99, -'User Input'!$D$99)","v":4.1666666666666664E-2},{"$f":"IF(SUM(Ranking!BB28:BD28)>0,'User Input'!$D$100, -'User Input'!$D$100)","v":-4.1666666666666664E-2},{"$f":"IF(Ranking!BE28>0,'User Input'!$D$101, -'User Input'!$D$101)","v":4.1666666666666664E-2},{"$f":"IF(Ranking!BF28>0,'User Input'!$D$102, -'User Input'!$D$102)","v":-4.1666666666666664E-2}]
["Placeholder",{"$error":"#N/A"},-0.48333333333333339,{"$f":"IF(SUM(Ranking!A29:C29)>0,'User Input'!$D$79, -'User Input'!$D$79)","v":-4.1666666666666664E-2},{"$f":"IF(SUM(Ranking!D29:H29)>0,'User Input'!$D$80, -1*'User Input'!$D$80)","v":-4.1666666666666664E-2},{"$f":"IF(Ranking!I29>0,'User Input'!$D$81, -'User Input'!$D$81)","v":4.1666666666666664E-2},{"$f":"IF(Ranking!J29>0,'User Input'!$D$82, -'User Input'!$D$82)","v":4.1666666666666664E-2},{"$f":"IF(Ranking!K29>0,'User Input'!$D$83, -'User Input'!$D$83)","v":4.1666666666666664E-2},{"$f":"IF(Ranking!L29>0,'User Input'!$D$84, -'User Input'!$D$84)","v":-4.1666666666666664E-2},{"$f":"IF(SUM(Ranking!M29:O29)>0,'User Input'!$D$85, -'User Input'!$D$85)","v":-4.1666666666666664E-2},{"$f":"IF(SUM(Ranking!P29:U29)>0,'User Input'!$D$86, -'User Input'!$D$86)","v":-4.1666666666666664E-2},{"$f":"IF(Ranking!W29>0,'User Input'!$D$87, -'User Input'!$D$87)","v":-4.1666666666666664E-2},{"$f":"IF(Ranking!W29>0,'User Input'!$D$88, -'User Input'!$D$88)","v":-4.1666666666666664E-2},{"$f":"IF(Ranking!X29>0,'User Input'!$D$89, -'User Input'!$D$89)","v":-4.1666666666666664E-2},{"$f":"(COUNTIF(Ranking!Y29:AH29,1)*'User Input'!$D$90/10)-(COUNTIF(Ranking!Y29:AH29,0)*'User Input'!$D$90/10)","v":-2.5000000000000001E-2},{"$f":"IF(Ranking!AI29>0,'User Input'!$D$91, -'User Input'!$D$91)","v":-4.1666666666666664E-2},{"$f":"IF(Ranking!AJ29>0,'User Input'!$D$92, -'User Input'!$D$92)","v":-4.1666666666666664E-2},{"$f":"IF(SUM(Ranking!AK29:AO29)>0,'User Input'!$D$93, -'User Input'!$D$93)","v":4.1666666666666664E-2},{"$f":"IF(SUM(Ranking!AP29:AT29)>0,'User Input'!$D$94, -'User Input'!$D$94)","v":-4.1666666666666664E-2},{"$f":"IF(Ranking!AU29>0,'User Input'!$D$95, -'User Input'!$D$95)","v":-4.1666666666666664E-2},{"$f":"IF(Ranking!AV29>0,'User Input'!$D$96, -'User Input'!$D$96)","v":-4.1666666666666664E-2},{"$f":"IF(SUM(Ranking!AW29:AY29)>0,'User Input'!$D$97, -'User Input'!$D$97)","v":-4.1666666666666664E-2},{"$f":"IF(Ranking!AZ29>0,'User Input'!$D$98, -'User Input'!$D$98)","v":-4.1666666666666664E-2},{"$f":"IF(Ranking!BA29>0,'User Input'!$D$99, -'User Input'!$D$99)","v":4.1666666666666664E-2},{"$f":"IF(SUM(Ranking!BB29:BD29)>0,'User Input'!$D$100, -'User Input'!$D$100)","v":-4.1666666666666664E-2},{"$f":"IF(Ranking!BE29>0,'User Input'!$D$101, -'User Input'!$D$101)","v":4.1666666666666664E-2},{"$f":"IF(Ranking!BF29>0,'User Input'!$D$102, -'User Input'!$D$102)","v":-4.1666666666666664E-2}]
["Placeholder",{"$error":"#N/A"},-0.48333333333333339,{"$f":"IF(SUM(Ranking!A30:C30)>0,'User Input'!$D$79, -'User Input'!$D$79)","v":-4.1666666666666664E-2},{"$f":"IF(SUM(Ranking!D30:H30)>0,'User Input'!$D$80, -1*'User Input'!$D$80)","v":-4.1666666666666664E-2},{"$f":"IF(Ranking!I30>0,'User Input'!$D$81, -'User Input'!$D$81)","v":4.1666666666666664E-2},{"$f":"IF(Ranking!J30>0,'User Input'!$D$82, -'User Input'!$D$82)","v":4.1666666666666664E-2},{"$f":"IF(Ranking!K30>0,'User Input'!$D$83, -'User Input'!$D$83)","v":4.1666666666666664E-2},{"$f":"IF(Ranking!L30>0,'User Input'!$D$84, -'User Input'!$D$84)","v":-4.1666666666666664E-2},{"$f":"IF(SUM(Ranking!M30:O30)>0,'User Input'!$D$85, -'User Input'!$D$85)","v":-4.1666666666666664E-2},{"$f":"IF(SUM(Ranking!P30:U30)>0,'User Input'!$D$86, -'User Input'!$D$86)","v":-4.1666666666666664E-2},{"$f":"IF(Ranking!W30>0,'User Input'!$D$87, -'User Input'!$D$87)","v":-4.1666666666666664E-2},{"$f":"IF(Ranking!W30>0,'User Input'!$D$88, -'User Input'!$D$88)","v":-4.1666666666666664E-2},{"$f":"IF(Ranking!X30>0,'User Input'!$D$89, -'User Input'!$D$89)","v":-4.1666666666666664E-2},{"$f":"(COUNTIF(Ranking!Y30:AH30,1)*'User Input'!$D$90/10)-(COUNTIF(Ranking!Y30:AH30,0)*'User Input'!$D$90/10)","v":-2.5000000000000001E-2},{"$f":"IF(Ranking!AI30>0,'User Input'!$D$91, -'User Input'!$D$91)","v":-4.1666666666666664E-2},{"$f":"IF(Ranking!AJ30>0,'User Input'!$D$92, -'User Input'!$D$92)","v":-4.1666666666666664E-2},{"$f":"IF(SUM(Ranking!AK30:AO30)>0,'User Input'!$D$93, -'User Input'!$D$93)","v":4.1666666666666664E-2},{"$f":"IF(SUM(Ranking!AP30:AT30)>0,'User Input'!$D$94, -'User Input'!$D$94)","v":-4.1666666666666664E-2},{"$f":"IF(Ranking!AU30>0,'User Input'!$D$95, -'User Input'!$D$95)","v":-4.1666666666666664E-2},{"$f":"IF(Ranking!AV30>0,'User Input'!$D$96, -'User Input'!$D$96)","v":-4.1666666666666664E-2},{"$f":"IF(SUM(Ranking!AW30:AY30)>0,'User Input'!$D$97, -'User Input'!$D$97)","v":-4.1666666666666664E-2},{"$f":"IF(Ranking!AZ30>0,'User Input'!$D$98, -'User Input'!$D$98)","v":-4.1666666666666664E-2},{"$f":"IF(Ranking!BA30>0,'User Input'!$D$99, -'User Input'!$D$99)","v":4.1666666666666664E-2},{"$f":"IF(SUM(Ranking!BB30:BD30)>0,'User Input'!$D$100, -'User Input'!$D$100)","v":-4.1666666666666664E-2},{"$f":"IF(Ranking!BE30>0,'User Input'!$D$101, -'User Input'!$D$101)","v":4.1666666666666664E-2},{"$f":"IF(Ranking!BF30>0,'User Input'!$D$102, -'User Input'!$D$102)","v":-4.1666666666666664E-2}]
["Placeholder",{"$error":"#N/A"},-0.48333333333333339,{"$f":"IF(SUM(Ranking!A31:C31)>0,'User Input'!$D$79, -'User Input'!$D$79)","v":-4.1666666666666664E-2},{"$f":"IF(SUM(Ranking!D31:H31)>0,'User Input'!$D$80, -1*'User Input'!$D$80)","v":-4.1666666666666664E-2},{"$f":"IF(Ranking!I31>0,'User Input'!$D$81, -'User Input'!$D$81)","v":4.1666666666666664E-2},{"$f":"IF(Ranking!J31>0,'User Input'!$D$82, -'User Input'!$D$82)","v":4.1666666666666664E-2},{"$f":"IF(Ranking!K31>0,'User Input'!$D$83, -'User Input'!$D$83)","v":4.1666666666666664E-2},{"$f":"IF(Ranking!L31>0,'User Input'!$D$84, -'User Input'!$D$84)","v":-4.1666666666666664E-2},{"$f":"IF(SUM(Ranking!M31:O31)>0,'User Input'!$D$85, -'User Input'!$D$85)","v":-4.1666666666666664E-2},{"$f":"IF(SUM(Ranking!P31:U31)>0,'User Input'!$D$86, -'User Input'!$D$86)","v":-4.1666666666666664E-2},{"$f":"IF(Ranking!W31>0,'User Input'!$D$87, -'User Input'!$D$87)","v":-4.1666666666666664E-2},{"$f":"IF(Ranking!W31>0,'User Input'!$D$88, -'User Input'!$D$88)","v":-4.1666666666666664E-2},{"$f":"IF(Ranking!X31>0,'User Input'!$D$89, -'User Input'!$D$89)","v":-4.1666666666666664E-2},{"$f":"(COUNTIF(Ranking!Y31:AH31,1)*'User Input'!$D$90/10)-(COUNTIF(Ranking!Y31:AH31,0)*'User Input'!$D$90/10)","v":-2.5000000000000001E-2},{"$f":"IF(Ranking!AI31>0,'User Input'!$D$91, -'User Input'!$D$91)","v":-4.1666666666666664E-2},{"$f":"IF(Ranking!AJ31>0,'User Input'!$D$92, -'User Input'!$D$92)","v":-4.1666666666666664E-2},{"$f":"IF(SUM(Ranking!AK31:AO31)>0,'User Input'!$D$93, -'User Input'!$D$93)","v":4.1666666666666664E-2},{"$f":"IF(SUM(Ranking!AP31:AT31)>0,'User Input'!$D$94, -'User Input'!$D$94)","v":-4.1666666666666664E-2},{"$f":"IF(Ranking!AU31>0,'User Input'!$D$95, -'User Input'!$D$95)","v":-4.1666666666666664E-2},{"$f":"IF(Ranking!AV31>0,'User Input'!$D$96, -'User Input'!$D$96)","v":-4.1666666666666664E-2},{"$f":"IF(SUM(Ranking!AW31:AY31)>0,'User Input'!$D$97, -'User Input'!$D$97)","v":-4.1666666666666664E-2},{"$f":"IF(Ranking!AZ31>0,'User Input'!$D$98, -'User Input'!$D$98)","v":-4.1666666666666664E-2},{"$f":"IF(Ranking!BA31>0,'User Input'!$D$99, -'User Input'!$D$99)","v":4.1666666666666664E-2},{"$f":"IF(SUM(Ranking!BB31:BD31)>0,'User Input'!$D$100, -'User Input'!$D$100)","v":-4.1666666666666664E-2},{"$f":"IF(Ranking!BE31>0,'User Input'!$D$101, -'User Input'!$D$101)","v":4.1666666666666664E-2},{"$f":"IF(Ranking!BF31>0,'User Input'!$D$102, -'User Input'!$D$102)","v":-4.1666666666666664E-2}]
["Placeholder",{"$error":"#N/A"},-0.48333333333333339,{"$f":"IF(SUM(Ranking!A32:C32)>0,'User Input'!$D$79, -'User Input'!$D$79)","v":-4.1666666666666664E-2},{"$f":"IF(SUM(Ranking!D32:H32)>0,'User Input'!$D$80, -1*'User Input'!$D$80)","v":-4.1666666666666664E-2},{"$f":"IF(Ranking!I32>0,'User Input'!$D$81, -'User Input'!$D$81)","v":4.1666666666666664E-2},{"$f":"IF(Ranking!J32>0,'User Input'!$D$82, -'User Input'!$D$82)","v":4.1666666666666664E-2},{"$f":"IF(Ranking!K32>0,'User Input'!$D$83, -'User Input'!$D$83)","v":4.1666666666666664E-2},{"$f":"IF(Ranking!L32>0,'User Input'!$D$84, -'User Input'!$D$84)","v":-4.1666666666666664E-2},{"$f":"IF(SUM(Ranking!M32:O32)>0,'User Input'!$D$85, -'User Input'!$D$85)","v":-4.1666666666666664E-2},{"$f":"IF(SUM(Ranking!P32:U32)>0,'User Input'!$D$86, -'User Input'!$D$86)","v":-4.1666666666666664E-2},{"$f":"IF(Ranking!W32>0,'User Input'!$D$87, -'User Input'!$D$87)","v":-4.1666666666666664E-2},{"$f":"IF(Ranking!W32>0,'User Input'!$D$88, -'User Input'!$D$88)","v":-4.1666666666666664E-2},{"$f":"IF(Ranking!X32>0,'User Input'!$D$89, -'User Input'!$D$89)","v":-4.1666666666666664E-2},{"$f":"(COUNTIF(Ranking!Y32:AH32,1)*'User Input'!$D$90/10)-(COUNTIF(Ranking!Y32:AH32,0)*'User Input'!$D$90/10)","v":-2.5000000000000001E-2},{"$f":"IF(Ranking!AI32>0,'User Input'!$D$91, -'User Input'!$D$91)","v":-4.1666666666666664E-2},{"$f":"IF(Ranking!AJ32>0,'User Input'!$D$92, -'User Input'!$D$92)","v":-4.1666666666666664E-2},{"$f":"IF(SUM(Ranking!AK32:AO32)>0,'User Input'!$D$93, -'User Input'!$D$93)","v":4.1666666666666664E-2},{"$f":"IF(SUM(Ranking!AP32:AT32)>0,'User Input'!$D$94, -'User Input'!$D$94)","v":-4.1666666666666664E-2},{"$f":"IF(Ranking!AU32>0,'User Input'!$D$95, -'User Input'!$D$95)","v":-4.1666666666666664E-2},{"$f":"IF(Ranking!AV32>0,'User Input'!$D$96, -'User Input'!$D$96)","v":-4.1666666666666664E-2},{"$f":"IF(SUM(Ranking!AW32:AY32)>0,'User Input'!$D$97, -'User Input'!$D$97)","v":-4.1666666666666664E-2},{"$f":"IF(Ranking!AZ32>0,'User Input'!$D$98, -'User Input'!$D$98)","v":-4.1666666666666664E-2},{"$f":"IF(Ranking!BA32>0,'User Input'!$D$99, -'User Input'!$D$99)","v":4.1666666666666664E-2},{"$f":"IF(SUM(Ranking!BB32:BD32)>0,'User Input'!$D$100, -'User Input'!$D$100)","v":-4.1666666666666664E-2},{"$f":"IF(Ranking!BE32>0,'User Input'!$D$101, -'User Input'!$D$101)","v":4.1666666666666664E-2},{"$f":"IF(Ranking!BF32>0,'User Input'!$D$102, -'User Input'!$D$102)","v":-4.1666666666666664E-2}]
["Placeholder",{"$error":"#N/A"},-0.48333333333333339,{"$f":"IF(SUM(Ranking!A33:C33)>0,'User Input'!$D$79, -'User Input'!$D$79)","v":-4.1666666666666664E-2},{"$f":"IF(SUM(Ranking!D33:H33)>0,'User Input'!$D$80, -1*'User Input'!$D$80)","v":-4.1666666666666664E-2},{"$f":"IF(Ranking!I33>0,'User Input'!$D$81, -'User Input'!$D$81)","v":4.1666666666666664E-2},{"$f":"IF(Ranking!J33>0,'User Input'!$D$82, -'User Input'!$D$82)","v":4.1666666666666664E-2},{"$f":"IF(Ranking!K33>0,'User Input'!$D$83, -'User Input'!$D$83)","v":4.1666666666666664E-2},{"$f":"IF(Ranking!L33>0,'User Input'!$D$84, -'User Input'!$D$84)","v":-4.1666666666666664E-2},{"$f":"IF(SUM(Ranking!M33:O33)>0,'User Input'!$D$85, -'User Input'!$D$85)","v":-4.1666666666666664E-2},{"$f":"IF(SUM(Ranking!P33:U33)>0,'User Input'!$D$86, -'User Input'!$D$86)","v":-4.1666666666666664E-2},{"$f":"IF(Ranking!W33>0,'User Input'!$D$87, -'User Input'!$D$87)","v":-4.1666666666666664E-2},{"$f":"IF(Ranking!W33>0,'User Input'!$D$88, -'User Input'!$D$88)","v":-4.1666666666666664E-2},{"$f":"IF(Ranking!X33>0,'User Input'!$D$89, -'User Input'!$D$89)","v":-4.1666666666666664E-2},{"$f":"(COUNTIF(Ranking!Y33:AH33,1)*'User Input'!$D$90/10)-(COUNTIF(Ranking!Y33:AH33,0)*'User Input'!$D$90/10)","v":-2.5000000000000001E-2},{"$f":"IF(Ranking!AI33>0,'User Input'!$D$91, -'User Input'!$D$91)","v":-4.1666666666666664E-2},{"$f":"IF(Ranking!AJ33>0,'User Input'!$D$92, -'User Input'!$D$92)","v":-4.1666666666666664E-2},{"$f":"IF(SUM(Ranking!AK33:AO33)>0,'User Input'!$D$93, -'User Input'!$D$93)","v":4.1666666666666664E-2},{"$f":"IF(SUM(Ranking!AP33:AT33)>0,'User Input'!$D$94, -'User Input'!$D$94)","v":-4.1666666666666664E-2},{"$f":"IF(Ranking!AU33>0,'User Input'!$D$95, -'User Input'!$D$95)","v":-4.1666666666666664E-2},{"$f":"IF(Ranking!AV33>0,'User Input'!$D$96, -'User Input'!$D$96)","v":-4.1666666666666664E-2},{"$f":"IF(SUM(Ranking!AW33:AY33)>0,'User Input'!$D$97, -'User Input'!$D$97)","v":-4.1666666666666664E-2},{"$f":"IF(Ranking!AZ33>0,'User Input'!$D$98, -'User Input'!$D$98)","v":-4.1666666666666664E-2},{"$f":"IF(Ranking!BA33>0,'User Input'!$D$99, -'User Input'!$D$99)","v":4.1666666666666664E-2},{"$f":"IF(SUM(Ranking!BB33:BD33)>0,'User Input'!$D$100, -'User Input'!$D$100)","v":-4.1666666666666664E-2},{"$f":"IF(Ranking!BE33>0,'User Input'!$D$101, -'User Input'!$D$101)","v":4.1666666666666664E-2},{"$f":"IF(Ranking!BF33>0,'User Input'!$D$102, -'User Input'!$D$102)","v":-4.1666666666666664E-2}]
["Placeholder",{"$error":"#N/A"},-0.48333333333333339,{"$f":"IF(SUM(Ranking!A34:C34)>0,'User Input'!$D$79, -'User Input'!$D$79)","v":-4.1666666666666664E-2},{"$f":"IF(SUM(Ranking!D34:H34)>0,'User Input'!$D$80, -1*'User Input'!$D$80)","v":-4.1666666666666664E-2},{"$f":"IF(Ranking!I34>0,'User Input'!$D$81, -'User Input'!$D$81)","v":4.1666666666666664E-2},{"$f":"IF(Ranking!J34>0,'User Input'!$D$82, -'User Input'!$D$82)","v":4.1666666666666664E-2},{"$f":"IF(Ranking!K34>0,'User Input'!$D$83, -'User Input'!$D$83)","v":4.1666666666666664E-2},{"$f":"IF(Ranking!L34>0,'User Input'!$D$84, -'User Input'!$D$84)","v":-4.1666666666666664E-2},{"$f":"IF(SUM(Ranking!M34:O34)>0,'User Input'!$D$85, -'User Input'!$D$85)","v":-4.1666666666666664E-2},{"$f":"IF(SUM(Ranking!P34:U34)>0,'User Input'!$D$86, -'User Input'!$D$86)","v":-4.1666666666666664E-2},{"$f":"IF(Ranking!W34>0,'User Input'!$D$87, -'User Input'!$D$87)","v":-4.1666666666666664E-2},{"$f":"IF(Ranking!W34>0,'User Input'!$D$88, -'User Input'!$D$88)","v":-4.1666666666666664E-2},{"$f":"IF(Ranking!X34>0,'User Input'!$D$89, -'User Input'!$D$89)","v":-4.1666666666666664E-2},{"$f":"(COUNTIF(Ranking!Y34:AH34,1)*'User Input'!$D$90/10)-(COUNTIF(Ranking!Y34:AH34,0)*'User Input'!$D$90/10)","v":-2.5000000000000001E-2},{"$f":"IF(Ranking!AI34>0,'User Input'!$D$91, -'User Input'!$D$91)","v":-4.1666666666666664E-2},{"$f":"IF(Ranking!AJ34>0,'User Input'!$D$92, -'User Input'!$D$92)","v":-4.1666666666666664E-2},{"$f":"IF(SUM(Ranking!AK34:AO34)>0,'User Input'!$D$93, -'User Input'!$D$93)","v":4.1666666666666664E-2},{"$f":"IF(SUM(Ranking!AP34:AT34)>0,'User Input'!$D$94, -'User Input'!$D$94)","v":-4.1666666666666664E-2},{"$f":"IF(Ranking!AU34>0,'User Input'!$D$95, -'User Input'!$D$95)","v":-4.1666666666666664E-2},{"$f":"IF(Ranking!AV34>0,'User Input'!$D$96, -'User Input'!$D$96)","v":-4.1666666666666664E-2},{"$f":"IF(SUM(Ranking!AW34:AY34)>0,'User Input'!$D$97, -'User Input'!$D$97)","v":-4.1666666666666664E-2},{"$f":"IF(Ranking!AZ34>0,'User Input'!$D$98, -'User Input'!$D$98)","v":-4.1666666666666664E-2},{"$f":"IF(Ranking!BA34>0,'User Input'!$D$99, -'User Input'!$D$99)","v":4.1666666666666664E-2},{"$f":"IF(SUM(Ranking!BB34:BD34)>0,'User Input'!$D$100, -'User Input'!$D$100)","v":-4.1666666666666664E-2},{"$f":"IF(Ranking!BE34>0,'User Input'!$D$101, -'User Input'!$D$101)","v":4.1666666666666664E-2},{"$f":"IF(Ranking!BF34>0,'User Input'!$D$102, -'User Input'!$D$102)","v":-4.1666666666666664E-2}]
["Placeholder",{"$error":"#N/A"},-0.48333333333333339,{"$f":"IF(SUM(Ranking!A35:C35)>0,'User Input'!$D$79, -'User Input'!$D$79)","v":-4.1666666666666664E-2},{"$f":"IF(SUM(Ranking!D35:H35)>0,'User Input'!$D$80, -1*'User Input'!$D$80)","v":-4.1666666666666664E-2},{"$f":"IF(Ranking!I35>0,'User Input'!$D$81, -'User Input'!$D$81)","v":4.1666666666666664E-2},{"$f":"IF(Ranking!J35>0,'User Input'!$D$82, -'User Input'!$D$82)","v":4.1666666666666664E-2},{"$f":"IF(Ranking!K35>0,'User Input'!$D$83, -'User Input'!$D$83)","v":4.1666666666666664E-2},{"$f":"IF(Ranking!L35>0,'User Input'!$D$84, -'User Input'!$D$84)","v":-4.1666666666666664E-2},{"$f":"IF(SUM(Ranking!M35:O35)>0,'User Input'!$D$85, -'User Input'!$D$85)","v":-4.1666666666666664E-2},{"$f":"IF(SUM(Ranking!P35:U35)>0,'User Input'!$D$86, -'User Input'!$D$86)","v":-4.1666666666666664E-2},{"$f":"IF(Ranking!W35>0,'User Input'!$D$87, -'User Input'!$D$87)","v":-4.1666666666666664E-2},{"$f":"IF(Ranking!W35>0,'User Input'!$D$88, -'User Input'!$D$88)","v":-4.1666666666666664E-2},{"$f":"IF(Ranking!X35>0,'User Input'!$D$89, -'User Input'!$D$89)","v":-4.1666666666666664E-2},{"$f":"(COUNTIF(Ranking!Y35:AH35,1)*'User Input'!$D$90/10)-(COUNTIF(Ranking!Y35:AH35,0)*'User Input'!$D$90/10)","v":-2.5000000000000001E-2},{"$f":"IF(Ranking!AI35>0,'User Input'!$D$91, -'User Input'!$D$91)","v":-4.1666666666666664E-2},{"$f":"IF(Ranking!AJ35>0,'User Input'!$D$92, -'User Input'!$D$92)","v":-4.1666666666666664E-2},{"$f":"IF(SUM(Ranking!AK35:AO35)>0,'User Input'!$D$93, -'User Input'!$D$93)","v":4.1666666666666664E-2},{"$f":"IF(SUM(Ranking!AP35:AT35)>0,'User Input'!$D$94, -'User Input'!$D$94)","v":-4.1666666666666664E-2},{"$f":"IF(Ranking!AU35>0,'User Input'!$D$95, -'User Input'!$D$95)","v":-4.1666666666666664E-2},{"$f":"IF(Ranking!AV35>0,'User Input'!$D$96, -'User Input'!$D$96)","v":-4.1666666666666664E-2},{"$f":"IF(SUM(Ranking!AW35:AY35)>0,'User Input'!$D$97, -'User Input'!$D$97)","v":-4.1666666666666664E-2},{"$f":"IF(Ranking!AZ35>0,'User Input'!$D$98, -'User Input'!$D$98)","v":-4.1666666666666664E-2},{"$f":"IF(Ranking!BA35>0,'User Input'!$D$99, -'User Input'!$D$99)","v":4.1666666666666664E-2},{"$f":"IF(SUM(Ranking!BB35:BD35)>0,'User Input'!$D$100, -'User Input'!$D$100)","v":-4.1666666666666664E-2},{"$f":"IF(Ranking!BE35>0,'User Input'!$D$101, -'User Input'!$D$101)","v":4.1666666666666664E-2},{"$f":"IF(Ranking!BF35>0,'User Input'!$D$102, -'User Input'!$D$102)","v":-4.1666666666666664E-2}]
["Placeholder",{"$error":"#N/A"},-0.48333333333333339,{"$f":"IF(SUM(Ranking!A36:C36)>0,'User Input'!$D$79, -'User Input'!$D$79)","v":-4.1666666666666664E-2},{"$f":"IF(SUM(Ranking!D36:H36)>0,'User Input'!$D$80, -1*'User Input'!$D$80)","v":-4.1666666666666664E-2},{"$f":"IF(Ranking!I36>0,'User Input'!$D$81, -'User Input'!$D$81)","v":4.1666666666666664E-2},{"$f":"IF(Ranking!J36>0,'User Input'!$D$82, -'User Input'!$D$82)","v":4.1666666666666664E-2},{"$f":"IF(Ranking!K36>0,'User Input'!$D$83, -'User Input'!$D$83)","v":4.1666666666666664E-2},{"$f":"IF(Ranking!L36>0,'User Input'!$D$84, -'User Input'!$D$84)","v":-4.1666666666666664E-2},{"$f":"IF(SUM(Ranking!M36:O36)>0,'User Input'!$D$85, -'User Input'!$D$85)","v":-4.1666666666666664E-2},{"$f":"IF(SUM(Ranking!P36:U36)>0,'User Input'!$D$86, -'User Input'!$D$86)","v":-4.1666666666666664E-2},{"$f":"IF(Ranking!W36>0,'User Input'!$D$87, -'User Input'!$D$87)","v":-4.1666666666666664E-2},{"$f":"IF(Ranking!W36>0,'User Input'!$D$88, -'User Input'!$D$88)","v":-4.1666666666666664E-2},{"$f":"IF(Ranking!X36>0,'User Input'!$D$89, -'User Input'!$D$89)","v":-4.1666666666666664E-2},{"$f":"(COUNTIF(Ranking!Y36:AH36,1)*'User Input'!$D$90/10)-(COUNTIF(Ranking!Y36:AH36,0)*'User Input'!$D$90/10)","v":-2.5000000000000001E-2},{"$f":"IF(Ranking!AI36>0,'User Input'!$D$91, -'User Input'!$D$91)","v":-4.1666666666666664E-2},{"$f":"IF(Ranking!AJ36>0,'User Input'!$D$92, -'User Input'!$D$92)","v":-4.1666666666666664E-2},{"$f":"IF(SUM(Ranking!AK36:AO36)>0,'User Input'!$D$93, -'User Input'!$D$93)","v":4.1666666666666664E-2},{"$f":"IF(SUM(Ranking!AP36:AT36)>0,'User Input'!$D$94, -'User Input'!$D$94)","v":-4.1666666666666664E-2},{"$f":"IF(Ranking!AU36>0,'User Input'!$D$95, -'User Input'!$D$95)","v":-4.1666666666666664E-2},{"$f":"IF(Ranking!AV36>0,'User Input'!$D$96, -'User Input'!$D$96)","v":-4.1666666666666664E-2},{"$f":"IF(SUM(Ranking!AW36:AY36)>0,'User Input'!$D$97, -'User Input'!$D$97)","v":-4.1666666666666664E-2},{"$f":"IF(Ranking!AZ36>0,'User Input'!$D$98, -'User Input'!$D$98)","v":-4.1666666666666664E-2},{"$f":"IF(Ranking!BA36>0,'User Input'!$D$99, -'User Input'!$D$99)","v":4.1666666666666664E-2},{"$f":"IF(SUM(Ranking!BB36:BD36)>0,'User Input'!$D$100, -'User Input'!$D$100)","v":-4.1666666666666664E-2},{"$f":"IF(Ranking!BE36>0,'User Input'!$D$101, -'User Input'!$D$101)","v":4.1666666666666664E-2},{"$f":"IF(Ranking!BF36>0,'User Input'!$D$102, -'User Input'!$D$102)","v":-4.1666666666666664E-2}]
["Placeholder",{"$error":"#N/A"},-0.48333333333333339,{"$f":"IF(SUM(Ranking!A37:C37)>0,'User Input'!$D$79, -'User Input'!$D$79)","v":-4.1666666666666664E-2},{"$f":"IF(SUM(Ranking!D37:H37)>0,'User Input'!$D$80, -1*'User Input'!$D$80)","v":-4.1666666666666664E-2},{"$f":"IF(Ranking!I37>0,'User Input'!$D$81, -'User Input'!$D$81)","v":4.1666666666666664E-2},{"$f":"IF(Ranking!J37>0,'User Input'!$D$82, -'User Input'!$D$82)","v":4.1666666666666664E-2},{"$f":"IF(Ranking!K37>0,'User Input'!$D$83, -'User Input'!$D$83)","v":4.1666666666666664E-2},{"$f":"IF(Ranking!L37>0,'User Input'!$D$84, -'User Input'!$D$84)","v":-4.1666666666666664E-2},{"$f":"IF(SUM(Ranking!M37:O37)>0,'User Input'!$D$85, -'User Input'!$D$85)","v":-4.1666666666666664E-2},{"$f":"IF(SUM(Ranking!P37:U37)>0,'User Input'!$D$86, -'User Input'!$D$86)","v":-4.1666666666666664E-2},{"$f":"IF(Ranking!W37>0,'User Input'!$D$87, -'User Input'!$D$87)","v":-4.1666666666666664E-2},{"$f":"IF(Ranking!W37>0,'User Input'!$D$88, -'User Input'!$D$88)","v":-4.1666666666666664E-2},{"$f":"IF(Ranking!X37>0,'User Input'!$D$89, -'User Input'!$D$89)","v":-4.1666666666666664E-2},{"$f":"(COUNTIF(Ranking!Y37:AH37,1)*'User Input'!$D$90/10)-(COUNTIF(Ranking!Y37:AH37,0)*'User Input'!$D$90/10)","v":-2.5000000000000001E-2},{"$f":"IF(Ranking!AI37>0,'User Input'!$D$91, -'User Input'!$D$91)","v":-4.1666666666666664E-2},{"$f":"IF(Ranking!AJ37>0,'User Input'!$D$92, -'User Input'!$D$92)","v":-4.1666666666666664E-2},{"$f":"IF(SUM(Ranking!AK37:AO37)>0,'User Input'!$D$93, -'User Input'!$D$93)","v":4.1666666666666664E-2},{"$f":"IF(SUM(Ranking!AP37:AT37)>0,'User Input'!$D$94, -'User Input'!$D$94)","v":-4.1666666666666664E-2},{"$f":"IF(Ranking!AU37>0,'User Input'!$D$95, -'User Input'!$D$95)","v":-4.1666666666666664E-2},{"$f":"IF(Ranking!AV37>0,'User Input'!$D$96, -'User Input'!$D$96)","v":-4.1666666666666664E-2},{"$f":"IF(SUM(Ranking!AW37:AY37)>0,'User Input'!$D$97, -'User Input'!$D$97)","v":-4.1666666666666664E-2},{"$f":"IF(Ranking!AZ37>0,'User Input'!$D$98, -'User Input'!$D$98)","v":-4.1666666666666664E-2},{"$f":"IF(Ranking!BA37>0,'User Input'!$D$99, -'User Input'!$D$99)","v":4.1666666666666664E-2},{"$f":"IF(SUM(Ranking!BB37:BD37)>0,'User Input'!$D$100, -'User Input'!$D$100)","v":-4.1666666666666664E-2},{"$f":"IF(Ranking!BE37>0,'User Input'!$D$101, -'User Input'!$D$101)","v":4.1666666666666664E-2},{"$f":"IF(Ranking!BF37>0,'User Input'!$D$102, -'User Input'!$D$102)","v":-4.1666666666666664E-2}]
["Placeholder",{"$error":"#N/A"},-0.48333333333333339,{"$f":"IF(SUM(Ranking!A38:C38)>0,'User Input'!$D$79, -'User Input'!$D$79)","v":-4.1666666666666664E-2},{"$f":"IF(SUM(Ranking!D38:H38)>0,'User Input'!$D$80, -1*'User Input'!$D$80)","v":-4.1666666666666664E-2},{"$f":"IF(Ranking!I38>0,'User Input'!$D$81, -'User Input'!$D$81)","v":4.1666666666666664E-2},{"$f":"IF(Ranking!J38>0,'User Input'!$D$82, -'User Input'!$D$82)","v":4.1666666666666664E-2},{"$f":"IF(Ranking!K38>0,'User Input'!$D$83, -'User Input'!$D$83)","v":4.1666666666666664E-2},{"$f":"IF(Ranking!L38>0,'User Input'!$D$84, -'User Input'!$D$84)","v":-4.1666666666666664E-2},{"$f":"IF(SUM(Ranking!M38:O38)>0,'User Input'!$D$85, -'User Input'!$D$85)","v":-4.1666666666666664E-2},{"$f":"IF(SUM(Ranking!P38:U38)>0,'User Input'!$D$86, -'User Input'!$D$86)","v":-4.1666666666666664E-2},{"$f":"IF(Ranking!W38>0,'User Input'!$D$87, -'User Input'!$D$87)","v":-4.1666666666666664E-2},{"$f":"IF(Ranking!W38>0,'User Input'!$D$88, -'User Input'!$D$88)","v":-4.1666666666666664E-2},{"$f":"IF(Ranking!X38>0,'User Input'!$D$89, -'User Input'!$D$89)","v":-4.1666666666666664E-2},{"$f":"(COUNTIF(Ranking!Y38:AH38,1)*'User Input'!$D$90/10)-(COUNTIF(Ranking!Y38:AH38,0)*'User Input'!$D$90/10)","v":-2.5000000000000001E-2},{"$f":"IF(Ranking!AI38>0,'User Input'!$D$91, -'User Input'!$D$91)","v":-4.1666666666666664E-2},{"$f":"IF(Ranking!AJ38>0,'User Input'!$D$92, -'User Input'!$D$92)","v":-4.1666666666666664E-2},{"$f":"IF(SUM(Ranking!AK38:AO38)>0,'User Input'!$D$93, -'User Input'!$D$93)","v":4.1666666666666664E-2},{"$f":"IF(SUM(Ranking!AP38:AT38)>0,'User Input'!$D$94, -'User Input'!$D$94)","v":-4.1666666666666664E-2},{"$f":"IF(Ranking!AU38>0,'User Input'!$D$95, -'User Input'!$D$95)","v":-4.1666666666666664E-2},{"$f":"IF(Ranking!AV38>0,'User Input'!$D$96, -'User Input'!$D$96)","v":-4.1666666666666664E-2},{"$f":"IF(SUM(Ranking!AW38:AY38)>0,'User Input'!$D$97, -'User Input'!$D$97)","v":-4.1666666666666664E-2},{"$f":"IF(Ranking!AZ38>0,'User Input'!$D$98, -'User Input'!$D$98)","v":-4.1666666666666664E-2},{"$f":"IF(Ranking!BA38>0,'User Input'!$D$99, -'User Input'!$D$99)","v":4.1666666666666664E-2},{"$f":"IF(SUM(Ranking!BB38:BD38)>0,'User Input'!$D$100, -'User Input'!$D$100)","v":-4.1666666666666664E-2},{"$f":"IF(Ranking!BE38>0,'User Input'!$D$101, -'User Input'!$D$101)","v":4.1666666666666664E-2},{"$f":"IF(Ranking!BF38>0,'User Input'!$D$102, -'User Input'!$D$102)","v":-4.1666666666666664E-2}]
["Placeholder",{"$error":"#N/A"},-0.48333333333333339,{"$f":"IF(SUM(Ranking!A39:C39)>0,'User Input'!$D$79, -'User Input'!$D$79)","v":-4.1666666666666664E-2},{"$f":"IF(SUM(Ranking!D39:H39)>0,'User Input'!$D$80, -1*'User Input'!$D$80)","v":-4.1666666666666664E-2},{"$f":"IF(Ranking!I39>0,'User Input'!$D$81, -'User Input'!$D$81)","v":4.1666666666666664E-2},{"$f":"IF(Ranking!J39>0,'User Input'!$D$82, -'User Input'!$D$82)","v":4.1666666666666664E-2},{"$f":"IF(Ranking!K39>0,'User Input'!$D$83, -'User Input'!$D$83)","v":4.1666666666666664E-2},{"$f":"IF(Ranking!L39>0,'User Input'!$D$84, -'User Input'!$D$84)","v":-4.1666666666666664E-2},{"$f":"IF(SUM(Ranking!M39:O39)>0,'User Input'!$D$85, -'User Input'!$D$85)","v":-4.1666666666666664E-2},{"$f":"IF(SUM(Ranking!P39:U39)>0,'User Input'!$D$86, -'User Input'!$D$86)","v":-4.1666666666666664E-2},{"$f":"IF(Ranking!W39>0,'User Input'!$D$87, -'User Input'!$D$87)","v":-4.1666666666666664E-2},{"$f":"IF(Ranking!W39>0,'User Input'!$D$88, -'User Input'!$D$88)","v":-4.1666666666666664E-2},{"$f":"IF(Ranking!X39>0,'User Input'!$D$89, -'User Input'!$D$89)","v":-4.1666666666666664E-2},{"$f":"(COUNTIF(Ranking!Y39:AH39,1)*'User Input'!$D$90/10)-(COUNTIF(Ranking!Y39:AH39,0)*'User Input'!$D$90/10)","v":-2.5000000000000001E-2},{"$f":"IF(Ranking!AI39>0,'User Input'!$D$91, -'User Input'!$D$91)","v":-4.1666666666666664E-2},{"$f":"IF(Ranking!AJ39>0,'User Input'!$D$92, -'User Input'!$D$92)","v":-4.1666666666666664E-2},{"$f":"IF(SUM(Ranking!AK39:AO39)>0,'User Input'!$D$93, -'User Input'!$D$93)","v":4.1666666666666664E-2},{"$f":"IF(SUM(Ranking!AP39:AT39)>0,'User Input'!$D$94, -'User Input'!$D$94)","v":-4.1666666666666664E-2},{"$f":"IF(Ranking!AU39>0,'User Input'!$D$95, -'User Input'!$D$95)","v":-4.1666666666666664E-2},{"$f":"IF(Ranking!AV39>0,'User Input'!$D$96, -'User Input'!$D$96)","v":-4.1666666666666664E-2},{"$f":"IF(SUM(Ranking!AW39:AY39)>0,'User Input'!$D$97, -'User Input'!$D$97)","v":-4.1666666666666664E-2},{"$f":"IF(Ranking!AZ39>0,'User Input'!$D$98, -'User Input'!$D$98)","v":-4.1666666666666664E-2},{"$f":"IF(Ranking!BA39>0,'User Input'!$D$99, -'User Input'!$D$99)","v":4.1666666666666664E-2},{"$f":"IF(SUM(Ranking!BB39:BD39)>0,'User Input'!$D$100, -'User Input'!$D$100)","v":-4.1666666666666664E-2},{"$f":"IF(Ranking!BE39>0,'User Input'!$D$101, -'User Input'!$D$101)","v":4.1666666666666664E-2},{"$f":"IF(Ranking!BF39>0,'User Input'!$D$102, -'User Input'!$D$102)","v":-4.1666666666666664E-2}]
["Placeholder",{"$error":"#N/A"},-0.48333333333333339,{"$f":"IF(SUM(Ranking!A40:C40)>0,'User Input'!$D$79, -'User Input'!$D$79)","v":-4.1666666666666664E-2},{"$f":"IF(SUM(Ranking!D40:H40)>0,'User Input'!$D$80, -1*'User Input'!$D$80)","v":-4.1666666666666664E-2},{"$f":"IF(Ranking!I40>0,'User Input'!$D$81, -'User Input'!$D$81)","v":4.1666666666666664E-2},{"$f":"IF(Ranking!J40>0,'User Input'!$D$82, -'User Input'!$D$82)","v":4.1666666666666664E-2},{"$f":"IF(Ranking!K40>0,'User Input'!$D$83, -'User Input'!$D$83)","v":4.1666666666666664E-2},{"$f":"IF(Ranking!L40>0,'User Input'!$D$84, -'User Input'!$D$84)","v":-4.1666666666666664E-2},{"$f":"IF(SUM(Ranking!M40:O40)>0,'User Input'!$D$85, -'User Input'!$D$85)","v":-4.1666666666666664E-2},{"$f":"IF(SUM(Ranking!P40:U40)>0,'User Input'!$D$86, -'User Input'!$D$86)","v":-4.1666666666666664E-2},{"$f":"IF(Ranking!W40>0,'User Input'!$D$87, -'User Input'!$D$87)","v":-4.1666666666666664E-2},{"$f":"IF(Ranking!W40>0,'User Input'!$D$88, -'User Input'!$D$88)","v":-4.1666666666666664E-2},{"$f":"IF(Ranking!X40>0,'User Input'!$D$89, -'User Input'!$D$89)","v":-4.1666666666666664E-2},{"$f":"(COUNTIF(Ranking!Y40:AH40,1)*'User Input'!$D$90/10)-(COUNTIF(Ranking!Y40:AH40,0)*'User Input'!$D$90/10)","v":-2.5000000000000001E-2},{"$f":"IF(Ranking!AI40>0,'User Input'!$D$91, -'User Input'!$D$91)","v":-4.1666666666666664E-2},{"$f":"IF(Ranking!AJ40>0,'User Input'!$D$92, -'User Input'!$D$92)","v":-4.1666666666666664E-2},{"$f":"IF(SUM(Ranking!AK40:AO40)>0,'User Input'!$D$93, -'User Input'!$D$93)","v":4.1666666666666664E-2},{"$f":"IF(SUM(Ranking!AP40:AT40)>0,'User Input'!$D$94, -'User Input'!$D$94)","v":-4.1666666666666664E-2},{"$f":"IF(Ranking!AU40>0,'User Input'!$D$95, -'User Input'!$D$95)","v":-4.1666666666666664E-2},{"$f":"IF(Ranking!AV40>0,'User Input'!$D$96, -'User Input'!$D$96)","v":-4.1666666666666664E-2},{"$f":"IF(SUM(Ranking!AW40:AY40)>0,'User Input'!$D$97, -'User Input'!$D$97)","v":-4.1666666666666664E-2},{"$f":"IF(Ranking!AZ40>0,'User Input'!$D$98, -'User Input'!$D$98)","v":-4.1666666666666664E-2},{"$f":"IF(Ranking!BA40>0,'User Input'!$D$99, -'User Input'!$D$99)","v":4.1666666666666664E-2},{"$f":"IF(SUM(Ranking!BB40:BD40)>0,'User Input'!$D$100, -'User Input'!$D$100)","v":-4.1666666666666664E-2},{"$f":"IF(Ranking!BE40>0,'User Input'!$D$101, -'User Input'!$D$101)","v":4.1666666666666664E-2},{"$f":"IF(Ranking!BF40>0,'User Input'!$D$102, -'User Input'!$D$102)","v":-4.1666666666666664E-2}]
["Placeholder",{"$error":"#N/A"},-0.48333333333333339,{"$f":"IF(SUM(Ranking!A41:C41)>0,'User Input'!$D$79, -'User Input'!$D$79)","v":-4.1666666666666664E-2},{"$f":"IF(SUM(Ranking!D41:H41)>0,'User Input'!$D$80, -1*'User Input'!$D$80)","v":-4.1666666666666664E-2},{"$f":"IF(Ranking!I41>0,'User Input'!$D$81, -'User Input'!$D$81)","v":4.1666666666666664E-2},{"$f":"IF(Ranking!J41>0,'User Input'!$D$82, -'User Input'!$D$82)","v":4.1666666666666664E-2},{"$f":"IF(Ranking!K41>0,'User Input'!$D$83, -'User Input'!$D$83)","v":4.1666666666666664E-2},{"$f":"IF(Ranking!L41>0,'User Input'!$D$84, -'User Input'!$D$84)","v":-4.1666666666666664E-2},{"$f":"IF(SUM(Ranking!M41:O41)>0,'User Input'!$D$85, -'User Input'!$D$85)","v":-4.1666666666666664E-2},{"$f":"IF(SUM(Ranking!P41:U41)>0,'User Input'!$D$86, -'User Input'!$D$86)","v":-4.1666666666666664E-2},{"$f":"IF(Ranking!W41>0,'User Input'!$D$87, -'User Input'!$D$87)","v":-4.1666666666666664E-2},{"$f":"IF(Ranking!W41>0,'User Input'!$D$88, -'User Input'!$D$88)","v":-4.1666666666666664E-2},{"$f":"IF(Ranking!X41>0,'User Input'!$D$89, -'User Input'!$D$89)","v":-4.1666666666666664E-2},{"$f":"(COUNTIF(Ranking!Y41:AH41,1)*'User Input'!$D$90/10)-(COUNTIF(Ranking!Y41:AH41,0)*'User Input'!$D$90/10)","v":-2.5000000000000001E-2},{"$f":"IF(Ranking!AI41>0,'User Input'!$D$91, -'User Input'!$D$91)","v":-4.1666666666666664E-2},{"$f":"IF(Ranking!AJ41>0,'User Input'!$D$92, -'User Input'!$D$92)","v":-4.1666666666666664E-2},{"$f":"IF(SUM(Ranking!AK41:AO41)>0,'User Input'!$D$93, -'User Input'!$D$93)","v":4.1666666666666664E-2},{"$f":"IF(SUM(Ranking!AP41:AT41)>0,'User Input'!$D$94, -'User Input'!$D$94)","v":-4.1666666666666664E-2},{"$f":"IF(Ranking!AU41>0,'User Input'!$D$95, -'User Input'!$D$95)","v":-4.1666666666666664E-2},{"$f":"IF(Ranking!AV41>0,'User Input'!$D$96, -'User Input'!$D$96)","v":-4.1666666666666664E-2},{"$f":"IF(SUM(Ranking!AW41:AY41)>0,'User Input'!$D$97, -'User Input'!$D$97)","v":-4.1666666666666664E-2},{"$f":"IF(Ranking!AZ41>0,'User Input'!$D$98, -'User Input'!$D$98)","v":-4.1666666666666664E-2},{"$f":"IF(Ranking!BA41>0,'User Input'!$D$99, -'User Input'!$D$99)","v":4.1666666666666664E-2},{"$f":"IF(SUM(Ranking!BB41:BD41)>0,'User Input'!$D$100, -'User Input'!$D$100)","v":-4.1666666666666664E-2},{"$f":"IF(Ranking!BE41>0,'User Input'!$D$101, -'User Input'!$D$101)","v":4.1666666666666664E-2},{"$f":"IF(Ranking!BF41>0,'User Input'!$D$102, -'User Input'!$D$102)","v":-4.1666666666666664E-2}]
["Placeholder",{"$error":"#N/A"},-0.48333333333333339,{"$f":"IF(SUM(Ranking!A42:C42)>0,'User Input'!$D$79, -'User Input'!$D$79)","v":-4.1666666666666664E-2},{"$f":"IF(SUM(Ranking!D42:H42)>0,'User Input'!$D$80, -1*'User Input'!$D$80)","v":-4.1666666666666664E-2},{"$f":"IF(Ranking!I42>0,'User Input'!$D$81, -'User Input'!$D$81)","v":4.1666666666666664E-2},{"$f":"IF(Ranking!J42>0,'User Input'!$D$82, -'User Input'!$D$82)","v":4.1666666666666664E-2},{"$f":"IF(Ranking!K42>0,'User Input'!$D$83, -'User Input'!$D$83)","v":4.1666666666666664E-2},{"$f":"IF(Ranking!L42>0,'User Input'!$D$84, -'User Input'!$D$84)","v":-4.1666666666666664E-2},{"$f":"IF(SUM(Ranking!M42:O42)>0,'User Input'!$D$85, -'User Input'!$D$85)","v":-4.1666666666666664E-2},{"$f":"IF(SUM(Ranking!P42:U42)>0,'User Input'!$D$86, -'User Input'!$D$86)","v":-4.1666666666666664E-2},{"$f":"IF(Ranking!W42>0,'User Input'!$D$87, -'User Input'!$D$87)","v":-4.1666666666666664E-2},{"$f":"IF(Ranking!W42>0,'User Input'!$D$88, -'User Input'!$D$88)","v":-4.1666666666666664E-2},{"$f":"IF(Ranking!X42>0,'User Input'!$D$89, -'User Input'!$D$89)","v":-4.1666666666666664E-2},{"$f":"(COUNTIF(Ranking!Y42:AH42,1)*'User Input'!$D$90/10)-(COUNTIF(Ranking!Y42:AH42,0)*'User Input'!$D$90/10)","v":-2.5000000000000001E-2},{"$f":"IF(Ranking!AI42>0,'User Input'!$D$91, -'User Input'!$D$91)","v":-4.1666666666666664E-2},{"$f":"IF(Ranking!AJ42>0,'User Input'!$D$92, -'User Input'!$D$92)","v":-4.1666666666666664E-2},{"$f":"IF(SUM(Ranking!AK42:AO42)>0,'User Input'!$D$93, -'User Input'!$D$93)","v":4.1666666666666664E-2},{"$f":"IF(SUM(Ranking!AP42:AT42)>0,'User Input'!$D$94, -'User Input'!$D$94)","v":-4.1666666666666664E-2},{"$f":"IF(Ranking!AU42>0,'User Input'!$D$95, -'User Input'!$D$95)","v":-4.1666666666666664E-2},{"$f":"IF(Ranking!AV42>0,'User Input'!$D$96, -'User Input'!$D$96)","v":-4.1666666666666664E-2},{"$f":"IF(SUM(Ranking!AW42:AY42)>0,'User Input'!$D$97, -'User Input'!$D$97)","v":-4.1666666666666664E-2},{"$f":"IF(Ranking!AZ42>0,'User Input'!$D$98, -'User Input'!$D$98)","v":-4.1666666666666664E-2},{"$f":"IF(Ranking!BA42>0,'User Input'!$D$99, -'User Input'!$D$99)","v":4.1666666666666664E-2},{"$f":"IF(SUM(Ranking!BB42:BD42)>0,'User Input'!$D$100, -'User Input'!$D$100)","v":-4.1666666666666664E-2},{"$f":"IF(Ranking!BE42>0,'User Input'!$D$101, -'User Input'!$D$101)","v":4.1666666666666664E-2},{"$f":"IF(Ranking!BF42>0,'User Input'!$D$102, -'User Input'!$D$102)","v":-4.1666666666666664E-2}]
["Placeholder",{"$error":"#N/A"},-0.48333333333333339,{"$f":"IF(SUM(Ranking!A43:C43)>0,'User Input'!$D$79, -'User Input'!$D$79)","v":-4.1666666666666664E-2},{"$f":"IF(SUM(Ranking!D43:H43)>0,'User Input'!$D$80, -1*'User Input'!$D$80)","v":-4.1666666666666664E-2},{"$f":"IF(Ranking!I43>0,'User Input'!$D$81, -'User Input'!$D$81)","v":4.1666666666666664E-2},{"$f":"IF(Ranking!J43>0,'User Input'!$D$82, -'User Input'!$D$82)","v":4.1666666666666664E-2},{"$f":"IF(Ranking!K43>0,'User Input'!$D$83, -'User Input'!$D$83)","v":4.1666666666666664E-2},{"$f":"IF(Ranking!L43>0,'User Input'!$D$84, -'User Input'!$D$84)","v":-4.1666666666666664E-2},{"$f":"IF(SUM(Ranking!M43:O43)>0,'User Input'!$D$85, -'User Input'!$D$85)","v":-4.1666666666666664E-2},{"$f":"IF(SUM(Ranking!P43:U43)>0,'User Input'!$D$86, -'User Input'!$D$86)","v":-4.1666666666666664E-2},{"$f":"IF(Ranking!W43>0,'User Input'!$D$87, -'User Input'!$D$87)","v":-4.1666666666666664E-2},{"$f":"IF(Ranking!W43>0,'User Input'!$D$88, -'User Input'!$D$88)","v":-4.1666666666666664E-2},{"$f":"IF(Ranking!X43>0,'User Input'!$D$89, -'User Input'!$D$89)","v":-4.1666666666666664E-2},{"$f":"(COUNTIF(Ranking!Y43:AH43,1)*'User Input'!$D$90/10)-(COUNTIF(Ranking!Y43:AH43,0)*'User Input'!$D$90/10)","v":-2.5000000000000001E-2},{"$f":"IF(Ranking!AI43>0,'User Input'!$D$91, -'User Input'!$D$91)","v":-4.1666666666666664E-2},{"$f":"IF(Ranking!AJ43>0,'User Input'!$D$92, -'User Input'!$D$92)","v":-4.1666666666666664E-2},{"$f":"IF(SUM(Ranking!AK43:AO43)>0,'User Input'!$D$93, -'User Input'!$D$93)","v":4.1666666666666664E-2},{"$f":"IF(SUM(Ranking!AP43:AT43)>0,'User Input'!$D$94, -'User Input'!$D$94)","v":-4.1666666666666664E-2},{"$f":"IF(Ranking!AU43>0,'User Input'!$D$95, -'User Input'!$D$95)","v":-4.1666666666666664E-2},{"$f":"IF(Ranking!AV43>0,'User Input'!$D$96, -'User Input'!$D$96)","v":-4.1666666666666664E-2},{"$f":"IF(SUM(Ranking!AW43:AY43)>0,'User Input'!$D$97, -'User Input'!$D$97)","v":-4.1666666666666664E-2},{"$f":"IF(Ranking!AZ43>0,'User Input'!$D$98, -'User Input'!$D$98)","v":-4.1666666666666664E-2},{"$f":"IF(Ranking!BA43>0,'User Input'!$D$99, -'User Input'!$D$99)","v":4.1666666666666664E-2},{"$f":"IF(SUM(Ranking!BB43:BD43)>0,'User Input'!$D$100, -'User Input'!$D$100)","v":-4.1666666666666664E-2},{"$f":"IF(Ranking!BE43>0,'User Input'!$D$101, -'User Input'!$D$101)","v":4.1666666666666664E-2},{"$f":"IF(Ranking!BF43>0,'User Input'!$D$102, -'User Input'!$D$102)","v":-4.1666666666666664E-2}]
["Placeholder",{"$error":"#N/A"},-0.48333333333333339,{"$f":"IF(SUM(Ranking!A44:C44)>0,'User Input'!$D$79, -'User Input'!$D$79)","v":-4.1666666666666664E-2},{"$f":"IF(SUM(Ranking!D44:H44)>0,'User Input'!$D$80, -1*'User Input'!$D$80)","v":-4.1666666666666664E-2},{"$f":"IF(Ranking!I44>0,'User Input'!$D$81, -'User Input'!$D$81)","v":4.1666666666666664E-2},{"$f":"IF(Ranking!J44>0,'User Input'!$D$82, -'User Input'!$D$82)","v":4.1666666666666664E-2},{"$f":"IF(Ranking!K44>0,'User Input'!$D$83, -'User Input'!$D$83)","v":4.1666666666666664E-2},{"$f":"IF(Ranking!L44>0,'User Input'!$D$84, -'User Input'!$D$84)","v":-4.1666666666666664E-2},{"$f":"IF(SUM(Ranking!M44:O44)>0,'User Input'!$D$85, -'User Input'!$D$85)","v":-4.1666666666666664E-2},{"$f":"IF(SUM(Ranking!P44:U44)>0,'User Input'!$D$86, -'User Input'!$D$86)","v":-4.1666666666666664E-2},{"$f":"IF(Ranking!W44>0,'User Input'!$D$87, -'User Input'!$D$87)","v":-4.1666666666666664E-2},{"$f":"IF(Ranking!W44>0,'User Input'!$D$88, -'User Input'!$D$88)","v":-4.1666666666666664E-2},{"$f":"IF(Ranking!X44>0,'User Input'!$D$89, -'User Input'!$D$89)","v":-4.1666666666666664E-2},{"$f":"(COUNTIF(Ranking!Y44:AH44,1)*'User Input'!$D$90/10)-(COUNTIF(Ranking!Y44:AH44,0)*'User Input'!$D$90/10)","v":-2.5000000000000001E-2},{"$f":"IF(Ranking!AI44>0,'User Input'!$D$91, -'User Input'!$D$91)","v":-4.1666666666666664E-2},{"$f":"IF(Ranking!AJ44>0,'User Input'!$D$92, -'User Input'!$D$92)","v":-4.1666666666666664E-2},{"$f":"IF(SUM(Ranking!AK44:AO44)>0,'User Input'!$D$93, -'User Input'!$D$93)","v":4.1666666666666664E-2},{"$f":"IF(SUM(Ranking!AP44:AT44)>0,'User Input'!$D$94, -'User Input'!$D$94)","v":-4.1666666666666664E-2},{"$f":"IF(Ranking!AU44>0,'User Input'!$D$95, -'User Input'!$D$95)","v":-4.1666666666666664E-2},{"$f":"IF(Ranking!AV44>0,'User Input'!$D$96, -'User Input'!$D$96)","v":-4.1666666666666664E-2},{"$f":"IF(SUM(Ranking!AW44:AY44)>0,'User Input'!$D$97, -'User Input'!$D$97)","v":-4.1666666666666664E-2},{"$f":"IF(Ranking!AZ44>0,'User Input'!$D$98, -'User Input'!$D$98)","v":-4.1666666666666664E-2},{"$f":"IF(Ranking!BA44>0,'User Input'!$D$99, -'User Input'!$D$99)","v":4.1666666666666664E-2},{"$f":"IF(SUM(Ranking!BB44:BD44)>0,'User Input'!$D$100, -'User Input'!$D$100)","v":-4.1666666666666664E-2},{"$f":"IF(Ranking!BE44>0,'User Input'!$D$101, -'User Input'!$D$101)","v":4.1666666666666664E-2},{"$f":"IF(Ranking!BF44>0,'User Input'!$D$102, -'User Input'!$D$102)","v":-4.1666666666666664E-2}]

{"sheet":"Results","index":3,"n_rows":16,"n_cols":58,"rows_kept":16,"cut":false,"hidden":false,"merged":[]}
[null,null,null,"Product","Rank","Compliance Score","Number of Lanes","Location Type","Lighting at Location","Occlusion at Location","Power Supply at Location","Want to Use Cameras at Location","Time Frame","Study Type","Accuracy Required (COUNT)","Accuracy Required (Detection)","Real-time data access","Outputs needed","Night Vision","Video Internal Storage","Procurement Budget","Recurring Costs Budget","Inter-division Collaboration","Equipment Ownership","Size of pedestrian program","Quality Control Requirements","Public view on video detection","Agency Goals","Installation capacity","Possibility of manual data transmisstion"]
[null,null,null,"Miovision TrafficLink",{"$f":"RANK(F2,$F$2:$F$997,0)","v":1},{"$f":"VLOOKUP($D2,Ranking!$A$57:$AA$1000,AH$2,FALSE)","v":0.55833333333333335},{"$f":"VLOOKUP($D2,Ranking!$A$57:$AA$1000,AI$2,FALSE)","v":4.1666666666666664E-2},{"$f":"VLOOKUP($D2,Ranking!$A$57:$AA$1000,AJ$2,FALSE)","v":4.1666666666666664E-2},{"$f":"VLOOKUP($D2,Ranking!$A$57:$AA$1000,AK$2,FALSE)","v":4.1666666666666664E-2},{"$f":"VLOOKUP($D2,Ranking!$A$57:$AA$1000,AL$2,FALSE)","v":4.1666666666666664E-2},{"$f":"VLOOKUP($D2,Ranking!$A$57:$AA$1000,AM$2,FALSE)","v":4.1666666666666664E-2},{"$f":"VLOOKUP($D2,Ranking!$A$57:$AA$1000,AN$2,FALSE)","v":-4.1666666666666664E-2},{"$f":"VLOOKUP($D2,Ranking!$A$57:$AA$1000,AO$2,FALSE)","v":4.1666666666666664E-2},{"$f":"VLOOKUP($D2,Ranking!$A$57:$AA$1000,AP$2,FALSE)","v":4.1666666666666664E-2},{"$f":"VLOOKUP($D2,Ranking!$A$57:$AA$1000,AQ$2,FALSE)","v":4.1666666666666664E-2},{"$f":"VLOOKUP($D2,Ranking!$A$57:$AA$1000,AR$2,FALSE)","v":4.1666666666666664E-2},{"$f":"VLOOKUP($D2,Ranking!$A$57:$AA$1000,AS$2,FALSE)","v":4.1666666666666664E-2},{"$f":"VLOOKUP($D2,Ranking!$A$57:$AA$1000,AT$2,FALSE)","v":1.6666666666666663E-2},{"$f":"VLOOKUP($D2,Ranking!$A$57:$AA$1000,AU$2,FALSE)","v":4.1666666666666664E-2},{"$f":"VLOOKUP($D2,Ranking!$A$57:$AA$1000,AV$2,FALSE)","v":-4.1666666666666664E-2},{"$f":"VLOOKUP($D2,Ranking!$A$57:$AA$1000,AW$2,FALSE)","v":-4.1666666666666664E-2},{"$f":"VLOOKUP($D2,Ranking!$A$57:$AA$1000,AX$2,FALSE)","v":4.1666666666666664E-2},{"$f":"VLOOKUP($D2,Ranking!$A$57:$AA$1000,AY$2,FALSE)","v":4.1666666666666664E-2},{"$f":"VLOOKUP($D2,Ranking!$A$57:$AA$1000,AZ$2,FALSE)","v":4.1666666666666664E-2},{"$f":"VLOOKUP($D2,Ranking!$A$57:$AA$1000,BA$2,FALSE)","v":4.1666666666666664E-2},{"$f":"VLOOKUP($D2,Ranking!$A$57:$AA$1000,BB$2,FALSE)","v":4.1666666666666664E-2},{"$f":"VLOOKUP($D2,Ranking!$A$57:$AA$1000,BC$2,FALSE)","v":-4.1666666666666664E-2},{"$f":"VLOOKUP($D2,Ranking!$A$57:$AA$1000,BD$2,FALSE)","v":-4.1666666666666664E-2},{"$f":"VLOOKUP($D2,Ranking!$A$57:$AA$1000,BE$2,FALSE)","v":4.1666666666666664E-2},{"$f":"VLOOKUP($D2,Ranking!$A$57:$AA$1000,BF$2,FALSE)","v":4.1666666666666664E-2},null,null,null,3,4,5,6,7,8,9,10,11,12,13,14,15,16,17,18,19,20,21,22,23,24,25,26,27]
[null,null,null,"Boulder AI DNN Cam ",2,{"$f":"VLOOKUP($D3,Ranking!$A$57:$AA$1000,AH$2,FALSE)","v":0.48333333333333339},{"$f":"VLOOKUP($D3,Ranking!$A$57:$AA$1000,AI$2,FALSE)","v":4.1666666666666664E-2},{"$f":"VLOOKUP($D3,Ranking!$A$57:$AA$1000,AJ$2,FALSE)","v":4.1666666666666664E-2},{"$f":"VLOOKUP($D3,Ranking!$A$57:$AA$1000,AK$2,FALSE)","v":4.1666666666666664E-2},{"$f":"VLOOKUP($D3,Ranking!$A$57:$AA$1000,AL$2,FALSE)","v":4.1666666666666664E-2},{"$f":"VLOOKUP($D3,Ranking!$A$57:$AA$1000,AM$2,FALSE)","v":4.1666666666666664E-2},{"$f":"VLOOKUP($D3,Ranking!$A$57:$AA$1000,AN$2,FALSE)","v":-4.1666666666666664E-2},{"$f":"VLOOKUP($D3,Ranking!$A$57:$AA$1000,AO$2,FALSE)","v":4.1666666666666664E-2},{"$f":"VLOOKUP($D3,Ranking!$A$57:$AA$1000,AP$2,FALSE)","v":4.1666666666666664E-2},{"$f":"VLOOKUP($D3,Ranking!$A$57:$AA$1000,AQ$2,FALSE)","v":4.1666666666666664E-2},{"$f":"VLOOKUP($D3,Ranking!$A$57:$AA$1000,AR$2,FALSE)","v":4.1666666666666664E-2},{"$f":"VLOOKUP($D3,Ranking!$A$57:$AA$1000,AS$2,FALSE)","v":4.1666666666666664E-2},{"$f":"VLOOKUP($D3,Ranking!$A$57:$AA$1000,AT$2,FALSE)","v":2.5000000000000001E-2},{"$f":"VLOOKUP($D3,Ranking!$A$57:$AA$1000,AU$2,FALSE)","v":4.1666666666666664E-2},{"$f":"VLOOKUP($D3,Ranking!$A$57:$AA$1000,AV$2,FALSE)","v":-4.1666666666666664E-2},{"$f":"VLOOKUP($D3,Ranking!$A$57:$AA$1000,AW$2,FALSE)","v":-4.1666666666666664E-2},{"$f":"VLOOKUP($D3,Ranking!$A$57:$AA$1000,AX$2,FALSE)","v":-4.1666666666666664E-2},{"$f":"VLOOKUP($D3,Ranking!$A$57:$AA$1000,AY$2,FALSE)","v":4.1666666666666664E-2},{"$f":"VLOOKUP($D3,Ranking!$A$57:$AA$1000,AZ$2,FALSE)","v":4.1666666666666664E-2},{"$f":"VLOOKUP($D3,Ranking!$A$57:$AA$1000,BA$2,FALSE)","v":4.1666666666666664E-2},{"$f":"VLOOKUP($D3,Ranking!$A$57:$AA$1000,BB$2,FALSE)","v":4.1666666666666664E-2},{"$f":"VLOOKUP($D3,Ranking!$A$57:$AA$1000,BC$2,FALSE)","v":-4.1666666666666664E-2},{"$f":"VLOOKUP($D3,Ranking!$A$57:$AA$1000,BD$2,FALSE)","v":-4.1666666666666664E-2},{"$f":"VLOOKUP($D3,Ranking!$A$57:$AA$1000,BE$2,FALSE)","v":4.1666666666666664E-2},{"$f":"VLOOKUP($D3,Ranking!$A$57:$AA$1000,BF$2,FALSE)","v":4.1666666666666664E-2}]
[null,null,null,"Gridsmart",3,{"$f":"VLOOKUP($D4,Ranking!$A$57:$AA$1000,AH$2,FALSE)","v":0.45833333333333337},{"$f":"VLOOKUP($D4,Ranking!$A$57:$AA$1000,AI$2,FALSE)","v":-4.1666666666666664E-2},{"$f":"VLOOKUP($D4,Ranking!$A$57:$AA$1000,AJ$2,FALSE)","v":4.1666666666666664E-2},{"$f":"VLOOKUP($D4,Ranking!$A$57:$AA$1000,AK$2,FALSE)","v":4.1666666666666664E-2},{"$f":"VLOOKUP($D4,Ranking!$A$57:$AA$1000,AL$2,FALSE)","v":4.1666666666666664E-2},{"$f":"VLOOKUP($D4,Ranking!$A$57:$AA$1000,AM$2,FALSE)","v":4.1666666666666664E-2},{"$f":"VLOOKUP($D4,Ranking!$A$57:$AA$1000,AN$2,FALSE)","v":-4.1666666666666664E-2},{"$f":"VLOOKUP($D4,Ranking!$A$57:$AA$1000,AO$2,FALSE)","v":4.1666666666666664E-2},{"$f":"VLOOKUP($D4,Ranking!$A$57:$AA$1000,AP$2,FALSE)","v":4.1666666666666664E-2},{"$f":"VLOOKUP($D4,Ranking!$A$57:$AA$1000,AQ$2,FALSE)","v":4.1666666666666664E-2},{"$f":"VLOOKUP($D4,Ranking!$A$57:$AA$1000,AR$2,FALSE)","v":4.1666666666666664E-2},{"$f":"VLOOKUP($D4,Ranking!$A$57:$AA$1000,AS$2,FALSE)","v":4.1666666666666664E-2},{"$f":"VLOOKUP($D4,Ranking!$A$57:$AA$1000,AT$2,FALSE)","v":0},{"$f":"VLOOKUP($D4,Ranking!$A$57:$AA$1000,AU$2,FALSE)","v":4.1666666666666664E-2},{"$f":"VLOOKUP($D4,Ranking!$A$57:$AA$1000,AV$2,FALSE)","v":4.1666666666666664E-2},{"$f":"VLOOKUP($D4,Ranking!$A$57:$AA$1000,AW$2,FALSE)","v":-4.1666666666666664E-2},{"$f":"VLOOKUP($D4,Ranking!$A$57:$AA$1000,AX$2,FALSE)","v":-4.1666666666666664E-2},{"$f":"VLOOKUP($D4,Ranking!$A$57:$AA$1000,AY$2,FALSE)","v":4.1666666666666664E-2},{"$f":"VLOOKUP($D4,Ranking!$A$57:$AA$1000,AZ$2,FALSE)","v":4.1666666666666664E-2},{"$f":"VLOOKUP($D4,Ranking!$A$57:$AA$1000,BA$2,FALSE)","v":4.1666666666666664E-2},{"$f":"VLOOKUP($D4,Ranking!$A$57:$AA$1000,BB$2,FALSE)","v":4.1666666666666664E-2},{"$f":"VLOOKUP($D4,Ranking!$A$57:$AA$1000,BC$2,FALSE)","v":-4.1666666666666664E-2},{"$f":"VLOOKUP($D4,Ranking!$A$57:$AA$1000,BD$2,FALSE)","v":-4.1666666666666664E-2},{"$f":"VLOOKUP($D4,Ranking!$A$57:$AA$1000,BE$2,FALSE)","v":4.1666666666666664E-2},{"$f":"VLOOKUP($D4,Ranking!$A$57:$AA$1000,BF$2,FALSE)","v":4.1666666666666664E-2}]
[null,null,null,"Blue City AI",4,{"$f":"VLOOKUP($D5,Ranking!$A$57:$AA$1000,AH$2,FALSE)","v":0.40833333333333333},{"$f":"VLOOKUP($D5,Ranking!$A$57:$AA$1000,AI$2,FALSE)","v":4.1666666666666664E-2},{"$f":"VLOOKUP($D5,Ranking!$A$57:$AA$1000,AJ$2,FALSE)","v":4.1666666666666664E-2},{"$f":"VLOOKUP($D5,Ranking!$A$57:$AA$1000,AK$2,FALSE)","v":4.1666666666666664E-2},{"$f":"VLOOKUP($D5,Ranking!$A$57:$AA$1000,AL$2,FALSE)","v":4.1666666666666664E-2},{"$f":"VLOOKUP($D5,Ranking!$A$57:$AA$1000,AM$2,FALSE)","v":4.1666666666666664E-2},{"$f":"VLOOKUP($D5,Ranking!$A$57:$AA$1000,AN$2,FALSE)","v":-4.1666666666666664E-2},{"$f":"VLOOKUP($D5,Ranking!$A$57:$AA$1000,AO$2,FALSE)","v":4.1666666666666664E-2},{"$f":"VLOOKUP($D5,Ranking!$A$57:$AA$1000,AP$2,FALSE)","v":4.1666666666666664E-2},{"$f":"VLOOKUP($D5,Ranking!$A$57:$AA$1000,AQ$2,FALSE)","v":4.1666666666666664E-2},{"$f":"VLOOKUP($D5,Ranking!$A$57:$AA$1000,AR$2,FALSE)","v":4.1666666666666664E-2},{"$f":"VLOOKUP($D5,Ranking!$A$57:$AA$1000,AS$2,FALSE)","v":4.1666666666666664E-2},{"$f":"VLOOKUP($D5,Ranking!$A$57:$AA$1000,AT$2,FALSE)","v":3.3333333333333333E-2},{"$f":"VLOOKUP($D5,Ranking!$A$57:$AA$1000,AU$2,FALSE)","v":4.1666666666666664E-2},{"$f":"VLOOKUP($D5,Ranking!$A$57:$AA$1000,AV$2,FALSE)","v":-4.1666666666666664E-2},{"$f":"VLOOKUP($D5,Ranking!$A$57:$AA$1000,AW$2,FALSE)","v":-4.1666666666666664E-2},{"$f":"VLOOKUP($D5,Ranking!$A$57:$AA$1000,AX$2,FALSE)","v":-4.1666666666666664E-2},{"$f":"VLOOKUP($D5,Ranking!$A$57:$AA$1000,AY$2,FALSE)","v":-4.1666666666666664E-2},{"$f":"VLOOKUP($D5,Ranking!$A$57:$AA$1000,AZ$2,FALSE)","v":4.1666666666666664E-2},{"$f":"VLOOKUP($D5,Ranking!$A$57:$AA$1000,BA$2,FALSE)","v":4.1666666666666664E-2},{"$f":"VLOOKUP($D5,Ranking!$A$57:$AA$1000,BB$2,FALSE)","v":-4.1666666666666664E-2},{"$f":"VLOOKUP($D5,Ranking!$A$57:$AA$1000,BC$2,FALSE)","v":4.1666666666666664E-2},{"$f":"VLOOKUP($D5,Ranking!$A$57:$AA$1000,BD$2,FALSE)","v":-4.1666666666666664E-2},{"$f":"VLOOKUP($D5,Ranking!$A$57:$AA$1000,BE$2,FALSE)","v":4.1666666666666664E-2},{"$f":"VLOOKUP($D5,Ranking!$A$57:$AA$1000,BF$2,FALSE)","v":4.1666666666666664E-2}]
[null,null,null,"TrafiOne – FLIR",5,{"$f":"VLOOKUP($D6,Ranking!$A$57:$AA$1000,AH$2,FALSE)","v":0.375},{"$f":"VLOOKUP($D6,Ranking!$A$57:$AA$1000,AI$2,FALSE)","v":-4.1666666666666664E-2},{"$f":"VLOOKUP($D6,Ranking!$A$57:$AA$1000,AJ$2,FALSE)","v":4.1666666666666664E-2},{"$f":"VLOOKUP($D6,Ranking!$A$57:$AA$1000,AK$2,FALSE)","v":4.1666666666666664E-2},{"$f":"VLOOKUP($D6,Ranking!$A$57:$AA$1000,AL$2,FALSE)","v":4.1666666666666664E-2},{"$f":"VLOOKUP($D6,Ranking!$A$57:$AA$1000,AM$2,FALSE)","v":4.1666666666666664E-2},{"$f":"VLOOKUP($D6,Ranking!$A$57:$AA$1000,AN$2,FALSE)","v":-4.1666666666666664E-2},{"$f":"VLOOKUP($D6,Ranking!$A$57:$AA$1000,AO$2,FALSE)","v":4.1666666666666664E-2},{"$f":"VLOOKUP($D6,Ranking!$A$57:$AA$1000,AP$2,FALSE)","v":4.1666666666666664E-2},{"$f":"VLOOKUP($D6,Ranking!$A$57:$AA$1000,AQ$2,FALSE)","v":4.1666666666666664E-2},{"$f":"VLOOKUP($D6,Ranking!$A$57:$AA$1000,AR$2,FALSE)","v":4.1666666666666664E-2},{"$f":"VLOOKUP($D6,Ranking!$A$57:$AA$1000,AS$2,FALSE)","v":4.1666666666666664E-2},{"$f":"VLOOKUP($D6,Ranking!$A$57:$AA$1000,AT$2,FALSE)","v":0},{"$f":"VLOOKUP($D6,Ranking!$A$57:$AA$1000,AU$2,FALSE)","v":4.1666666666666664E-2},{"$f":"VLOOKUP($D6,Ranking!$A$57:$AA$1000,AV$2,FALSE)","v":-4.1666666666666664E-2},{"$f":"VLOOKUP($D6,Ranking!$A$57:$AA$1000,AW$2,FALSE)","v":-4.1666666666666664E-2},{"$f":"VLOOKUP($D6,Ranking!$A$57:$AA$1000,AX$2,FALSE)","v":4.1666666666666664E-2},{"$f":"VLOOKUP($D6,Ranking!$A$57:$AA$1000,AY$2,FALSE)","v":4.1666666666666664E-2},{"$f":"VLOOKUP($D6,Ranking!$A$57:$AA$1000,AZ$2,FALSE)","v":4.1666666666666664E-2},{"$f":"VLOOKUP($D6,Ranking!$A$57:$AA$1000,BA$2,FALSE)","v":4.1666666666666664E-2},{"$f":"VLOOKUP($D6,Ranking!$A$57:$AA$1000,BB$2,FALSE)","v":-4.1666666666666664E-2},{"$f":"VLOOKUP($D6,Ranking!$A$57:$AA$1000,BC$2,FALSE)","v":4.1666666666666664E-2},{"$f":"VLOOKUP($D6,Ranking!$A$57:$AA$1000,BD$2,FALSE)","v":-4.1666666666666664E-2},{"$f":"VLOOKUP($D6,Ranking!$A$57:$AA$1000,BE$2,FALSE)","v":4.1666666666666664E-2},{"$f":"VLOOKUP($D6,Ranking!$A$57:$AA$1000,BF$2,FALSE)","v":-4.1666666666666664E-2}]
[null,null,null,"TrafiSense AI– FLIR",6,{"$f":"VLOOKUP($D7,Ranking!$A$57:$AA$1000,AH$2,FALSE)","v":0.35},{"$f":"VLOOKUP($D7,Ranking!$A$57:$AA$1000,AI$2,FALSE)","v":-4.1666666666666664E-2},{"$f":"VLOOKUP($D7,Ranking!$A$57:$AA$1000,AJ$2,FALSE)","v":4.1666666666666664E-2},{"$f":"VLOOKUP($D7,Ranking!$A$57:$AA$1000,AK$2,FALSE)","v":4.1666666666666664E-2},{"$f":"VLOOKUP($D7,Ranking!$A$57:$AA$1000,AL$2,FALSE)","v":4.1666666666666664E-2},{"$f":"VLOOKUP($D7,Ranking!$A$57:$AA$1000,AM$2,FALSE)","v":4.1666666666666664E-2},{"$f":"VLOOKUP($D7,Ranking!$A$57:$AA$1000,AN$2,FALSE)","v":-4.1666666666666664E-2},{"$f":"VLOOKUP($D7,Ranking!$A$57:$AA$1000,AO$2,FALSE)","v":4.1666666666666664E-2},{"$f":"VLOOKUP($D7,Ranking!$A$57:$AA$1000,AP$2,FALSE)","v":4.1666666666666664E-2},{"$f":"VLOOKUP($D7,Ranking!$A$57:$AA$1000,AQ$2,FALSE)","v":4.1666666666666664E-2},{"$f":"VLOOKUP($D7,Ranking!$A$57:$AA$1000,AR$2,FALSE)","v":4.1666666666666664E-2},{"$f":"VLOOKUP($D7,Ranking!$A$57:$AA$1000,AS$2,FALSE)","v":4.1666666666666664E-2},{"$f":"VLOOKUP($D7,Ranking!$A$57:$AA$1000,AT$2,FALSE)","v":-2.5000000000000001E-2},{"$f":"VLOOKUP($D7,Ranking!$A$57:$AA$1000,AU$2,FALSE)","v":4.1666666666666664E-2},{"$f":"VLOOKUP($D7,Ranking!$A$57:$AA$1000,AV$2,FALSE)","v":-4.1666666666666664E-2},{"$f":"VLOOKUP($D7,Ranking!$A$57:$AA$1000,AW$2,FALSE)","v":-4.1666666666666664E-2},{"$f":"VLOOKUP($D7,Ranking!$A$57:$AA$1000,AX$2,FALSE)","v":4.1666666666666664E-2},{"$f":"VLOOKUP($D7,Ranking!$A$57:$AA$1000,AY$2,FALSE)","v":4.1666666666666664E-2},{"$f":"VLOOKUP($D7,Ranking!$A$57:$AA$1000,AZ$2,FALSE)","v":4.1666666666666664E-2},{"$f":"VLOOKUP($D7,Ranking!$A$57:$AA$1000,BA$2,FALSE)","v":4.1666666666666664E-2},{"$f":"VLOOKUP($D7,Ranking!$A$57:$AA$1000,BB$2,FALSE)","v":-4.1666666666666664E-2},{"$f":"VLOOKUP($D7,Ranking!$A$57:$AA$1000,BC$2,FALSE)","v":4.1666666666666664E-2},{"$f":"VLOOKUP($D7,Ranking!$A$57:$AA$1000,BD$2,FALSE)","v":-4.1666666666666664E-2},{"$f":"VLOOKUP($D7,Ranking!$A$57:$AA$1000,BE$2,FALSE)","v":4.1666666666666664E-2},{"$f":"VLOOKUP($D7,Ranking!$A$57:$AA$1000,BF$2,FALSE)","v":-4.1666666666666664E-2}]
[null,null,null,"Currux Vision",7,{"$f":"VLOOKUP($D8,Ranking!$A$57:$AA$1000,AH$2,FALSE)","v":0.31666666666666665},{"$f":"VLOOKUP($D8,Ranking!$A$57:$AA$1000,AI$2,FALSE)","v":-4.1666666666666664E-2},{"$f":"VLOOKUP($D8,Ranking!$A$57:$AA$1000,AJ$2,FALSE)","v":4.1666666666666664E-2},{"$f":"VLOOKUP($D8,Ranking!$A$57:$AA$1000,AK$2,FALSE)","v":4.1666666666666664E-2},{"$f":"VLOOKUP($D8,Ranking!$A$57:$AA$1000,AL$2,FALSE)","v":4.1666666666666664E-2},{"$f":"VLOOKUP($D8,Ranking!$A$57:$AA$1000,AM$2,FALSE)","v":4.1666666666666664E-2},{"$f":"VLOOKUP($D8,Ranking!$A$57:$AA$1000,AN$2,FALSE)","v":4.1666666666666664E-2},{"$f":"VLOOKUP($D8,Ranking!$A$57:$AA$1000,AO$2,FALSE)","v":4.1666666666666664E-2},{"$f":"VLOOKUP($D8,Ranking!$A$57:$AA$1000,AP$2,FALSE)","v":4.1666666666666664E-2},{"$f":"VLOOKUP($D8,Ranking!$A$57:$AA$1000,AQ$2,FALSE)","v":4.1666666666666664E-2},{"$f":"VLOOKUP($D8,Ranking!$A$57:$AA$1000,AR$2,FALSE)","v":4.1666666666666664E-2},{"$f":"VLOOKUP($D8,Ranking!$A$57:$AA$1000,AS$2,FALSE)","v":4.1666666666666664E-2},{"$f":"VLOOKUP($D8,Ranking!$A$57:$AA$1000,AT$2,FALSE)","v":2.5000000000000001E-2},{"$f":"VLOOKUP($D8,Ranking!$A$57:$AA$1000,AU$2,FALSE)","v":4.1666666666666664E-2},{"$f":"VLOOKUP($D8,Ranking!$A$57:$AA$1000,AV$2,FALSE)","v":-4.1666666666666664E-2},{"$f":"VLOOKUP($D8,Ranking!$A$57:$AA$1000,AW$2,FALSE)","v":-4.1666666666666664E-2},{"$f":"VLOOKUP($D8,Ranking!$A$57:$AA$1000,AX$2,FALSE)","v":-4.1666666666666664E-2},{"$f":"VLOOKUP($D8,Ranking!$A$57:$AA$1000,AY$2,FALSE)","v":4.1666666666666664E-2},{"$f":"VLOOKUP($D8,Ranking!$A$57:$AA$1000,AZ$2,FALSE)","v":4.1666666666666664E-2},{"$f":"VLOOKUP($D8,Ranking!$A$57:$AA$1000,BA$2,FALSE)","v":4.1666666666666664E-2},{"$f":"VLOOKUP($D8,Ranking!$A$57:$AA$1000,BB$2,FALSE)","v":-4.1666666666666664E-2},{"$f":"VLOOKUP($D8,Ranking!$A$57:$AA$1000,BC$2,FALSE)","v":-4.1666666666666664E-2},{"$f":"VLOOKUP($D8,Ranking!$A$57:$AA$1000,BD$2,FALSE)","v":-4.1666666666666664E-2},{"$f":"VLOOKUP($D8,Ranking!$A$57:$AA$1000,BE$2,FALSE)","v":4.1666666666666664E-2},{"$f":"VLOOKUP($D8,Ranking!$A$57:$AA$1000,BF$2,FALSE)","v":-4.1666666666666664E-2}]
[null,null,null,"Boulder AI DNN Node ",7,{"$f":"VLOOKUP($D9,Ranking!$A$57:$AA$1000,AH$2,FALSE)","v":0.31666666666666665},{"$f":"VLOOKUP($D9,Ranking!$A$57:$AA$1000,AI$2,FALSE)","v":-4.1666666666666664E-2},{"$f":"VLOOKUP($D9,Ranking!$A$57:$AA$1000,AJ$2,FALSE)","v":4.1666666666666664E-2},{"$f":"VLOOKUP($D9,Ranking!$A$57:$AA$1000,AK$2,FALSE)","v":4.1666666666666664E-2},{"$f":"VLOOKUP($D9,Ranking!$A$57:$AA$1000,AL$2,FALSE)","v":4.1666666666666664E-2},{"$f":"VLOOKUP($D9,Ranking!$A$57:$AA$1000,AM$2,FALSE)","v":4.1666666666666664E-2},{"$f":"VLOOKUP($D9,Ranking!$A$57:$AA$1000,AN$2,FALSE)","v":4.1666666666666664E-2},{"$f":"VLOOKUP($D9,Ranking!$A$57:$AA$1000,AO$2,FALSE)","v":4.1666666666666664E-2},{"$f":"VLOOKUP($D9,Ranking!$A$57:$AA$1000,AP$2,FALSE)","v":4.1666666666666664E-2},{"$f":"VLOOKUP($D9,Ranking!$A$57:$AA$1000,AQ$2,FALSE)","v":4.1666666666666664E-2},{"$f":"VLOOKUP($D9,Ranking!$A$57:$AA$1000,AR$2,FALSE)","v":4.1666666666666664E-2},{"$f":"VLOOKUP($D9,Ranking!$A$57:$AA$1000,AS$2,FALSE)","v":4.1666666666666664E-2},{"$f":"VLOOKUP($D9,Ranking!$A$57:$AA$1000,AT$2,FALSE)","v":2.5000000000000001E-2},{"$f":"VLOOKUP($D9,Ranking!$A$57:$AA$1000,AU$2,FALSE)","v":4.1666666666666664E-2},{"$f":"VLOOKUP($D9,Ranking!$A$57:$AA$1000,AV$2,FALSE)","v":-4.1666666666666664E-2},{"$f":"VLOOKUP($D9,Ranking!$A$57:$AA$1000,AW$2,FALSE)","v":-4.1666666666666664E-2},{"$f":"VLOOKUP($D9,Ranking!$A$57:$AA$1000,AX$2,FALSE)","v":-4.1666666666666664E-2},{"$f":"VLOOKUP($D9,Ranking!$A$57:$AA$1000,AY$2,FALSE)","v":4.1666666666666664E-2},{"$f":"VLOOKUP($D9,Ranking!$A$57:$AA$1000,AZ$2,FALSE)","v":4.1666666666666664E-2},{"$f":"VLOOKUP($D9,Ranking!$A$57:$AA$1000,BA$2,FALSE)","v":4.1666666666666664E-2},{"$f":"VLOOKUP($D9,Ranking!$A$57:$AA$1000,BB$2,FALSE)","v":-4.1666666666666664E-2},{"$f":"VLOOKUP($D9,Ranking!$A$57:$AA$1000,BC$2,FALSE)","v":-4.1666666666666664E-2},{"$f":"VLOOKUP($D9,Ranking!$A$57:$AA$1000,BD$2,FALSE)","v":-4.1666666666666664E-2},{"$f":"VLOOKUP($D9,Ranking!$A$57:$AA$1000,BE$2,FALSE)","v":4.1666666666666664E-2},{"$f":"VLOOKUP($D9,Ranking!$A$57:$AA$1000,BF$2,FALSE)","v":-4.1666666666666664E-2}]
[null,null,null,"Iteris Vantage Vector with Vantage Next",9,{"$f":"VLOOKUP($D10,Ranking!$A$57:$AA$1000,AH$2,FALSE)","v":0.29166666666666663},{"$f":"VLOOKUP($D10,Ranking!$A$57:$AA$1000,AI$2,FALSE)","v":4.1666666666666664E-2},{"$f":"VLOOKUP($D10,Ranking!$A$57:$AA$1000,AJ$2,FALSE)","v":4.1666666666666664E-2},{"$f":"VLOOKUP($D10,Ranking!$A$57:$AA$1000,AK$2,FALSE)","v":4.1666666666666664E-2},{"$f":"VLOOKUP($D10,Ranking!$A$57:$AA$1000,AL$2,FALSE)","v":4.1666666666666664E-2},{"$f":"VLOOKUP($D10,Ranking!$A$57:$AA$1000,AM$2,FALSE)","v":4.1666666666666664E-2},{"$f":"VLOOKUP($D10,Ranking!$A$57:$AA$1000,AN$2,FALSE)","v":-4.1666666666666664E-2},{"$f":"VLOOKUP($D10,Ranking!$A$57:$AA$1000,AO$2,FALSE)","v":4.1666666666666664E-2},{"$f":"VLOOKUP($D10,Ranking!$A$57:$AA$1000,AP$2,FALSE)","v":4.1666666666666664E-2},{"$f":"VLOOKUP($D10,Ranking!$A$57:$AA$1000,AQ$2,FALSE)","v":4.1666666666666664E-2},{"$f":"VLOOKUP($D10,Ranking!$A$57:$AA$1000,AR$2,FALSE)","v":4.1666666666666664E-2},{"$f":"VLOOKUP($D10,Ranking!$A$57:$AA$1000,AS$2,FALSE)","v":4.1666666666666664E-2},{"$f":"VLOOKUP($D10,Ranking!$A$57:$AA$1000,AT$2,FALSE)","v":0},{"$f":"VLOOKUP($D10,Ranking!$A$57:$AA$1000,AU$2,FALSE)","v":4.1666666666666664E-2},{"$f":"VLOOKUP($D10,Ranking!$A$57:$AA$1000,AV$2,FALSE)","v":-4.1666666666666664E-2},{"$f":"VLOOKUP($D10,Ranking!$A$57:$AA$1000,AW$2,FALSE)","v":-4.1666666666666664E-2},{"$f":"VLOOKUP($D10,Ranking!$A$57:$AA$1000,AX$2,FALSE)","v":-4.1666666666666664E-2},{"$f":"VLOOKUP($D10,Ranking!$A$57:$AA$1000,AY$2,FALSE)","v":4.1666666666666664E-2},{"$f":"VLOOKUP($D10,Ranking!$A$57:$AA$1000,AZ$2,FALSE)","v":4.1666666666666664E-2},{"$f":"VLOOKUP($D10,Ranking!$A$57:$AA$1000,BA$2,FALSE)","v":4.1666666666666664E-2},{"$f":"VLOOKUP($D10,Ranking!$A$57:$AA$1000,BB$2,FALSE)","v":-4.1666666666666664E-2},{"$f":"VLOOKUP($D10,Ranking!$A$57:$AA$1000,BC$2,FALSE)","v":-4.1666666666666664E-2},{"$f":"VLOOKUP($D10,Ranking!$A$57:$AA$1000,BD$2,FALSE)","v":-4.1666666666666664E-2},{"$f":"VLOOKUP($D10,Ranking!$A$57:$AA$1000,BE$2,FALSE)","v":4.1666666666666664E-2},{"$f":"VLOOKUP($D10,Ranking!$A$57:$AA$1000,BF$2,FALSE)","v":-4.1666666666666664E-2}]
[null,null,null,"LiDAR Matrix Inc.",10,{"$f":"VLOOKUP($D11,Ranking!$A$57:$AA$1000,AH$2,FALSE)","v":0.28333333333333333},{"$f":"VLOOKUP($D11,Ranking!$A$57:$AA$1000,AI$2,FALSE)","v":4.1666666666666664E-2},{"$f":"VLOOKUP($D11,Ranking!$A$57:$AA$1000,AJ$2,FALSE)","v":4.1666666666666664E-2},{"$f":"VLOOKUP($D11,Ranking!$A$57:$AA$1000,AK$2,FALSE)","v":4.1666666666666664E-2},{"$f":"VLOOKUP($D11,Ranking!$A$57:$AA$1000,AL$2,FALSE)","v":4.1666666666666664E-2},{"$f":"VLOOKUP($D11,Ranking!$A$57:$AA$1000,AM$2,FALSE)","v":4.1666666666666664E-2},{"$f":"VLOOKUP($D11,Ranking!$A$57:$AA$1000,AN$2,FALSE)","v":-4.1666666666666664E-2},{"$f":"VLOOKUP($D11,Ranking!$A$57:$AA$1000,AO$2,FALSE)","v":-4.1666666666666664E-2},{"$f":"VLOOKUP($D11,Ranking!$A$57:$AA$1000,AP$2,FALSE)","v":-4.1666666666666664E-2},{"$f":"VLOOKUP($D11,Ranking!$A$57:$AA$1000,AQ$2,FALSE)","v":4.1666666666666664E-2},{"$f":"VLOOKUP($D11,Ranking!$A$57:$AA$1000,AR$2,FALSE)","v":4.1666666666666664E-2},{"$f":"VLOOKUP($D11,Ranking!$A$57:$AA$1000,AS$2,FALSE)","v":4.1666666666666664E-2},{"$f":"VLOOKUP($D11,Ranking!$A$57:$AA$1000,AT$2,FALSE)","v":-8.333333333333335E-3},{"$f":"VLOOKUP($D11,Ranking!$A$57:$AA$1000,AU$2,FALSE)","v":4.1666666666666664E-2},{"$f":"VLOOKUP($D11,Ranking!$A$57:$AA$1000,AV$2,FALSE)","v":-4.1666666666666664E-2},{"$f":"VLOOKUP($D11,Ranking!$A$57:$AA$1000,AW$2,FALSE)","v":4.1666666666666664E-2},{"$f":"VLOOKUP($D11,Ranking!$A$57:$AA$1000,AX$2,FALSE)","v":4.1666666666666664E-2},{"$f":"VLOOKUP($D11,Ranking!$A$57:$AA$1000,AY$2,FALSE)","v":-4.1666666666666664E-2},{"$f":"VLOOKUP($D11,Ranking!$A$57:$AA$1000,AZ$2,FALSE)","v":-4.1666666666666664E-2},{"$f":"VLOOKUP($D11,Ranking!$A$57:$AA$1000,BA$2,FALSE)","v":4.1666666666666664E-2},{"$f":"VLOOKUP($D11,Ranking!$A$57:$AA$1000,BB$2,FALSE)","v":-4.1666666666666664E-2},{"$f":"VLOOKUP($D11,Ranking!$A$57:$AA$1000,BC$2,FALSE)","v":4.1666666666666664E-2},{"$f":"VLOOKUP($D11,Ranking!$A$57:$AA$1000,BD$2,FALSE)","v":-4.1666666666666664E-2},{"$f":"VLOOKUP($D11,Ranking!$A$57:$AA$1000,BE$2,FALSE)","v":4.1666666666666664E-2},{"$f":"VLOOKUP($D11,Ranking!$A$57:$AA$1000,BF$2,FALSE)","v":4.1666666666666664E-2}]
[null,null,null,"Spack Solutions' countCAM3",10,{"$f":"VLOOKUP($D12,Ranking!$A$57:$AA$1000,AH$2,FALSE)","v":0.28333333333333333},{"$f":"VLOOKUP($D12,Ranking!$A$57:$AA$1000,AI$2,FALSE)","v":-4.1666666666666664E-2},{"$f":"VLOOKUP($D12,Ranking!$A$57:$AA$1000,AJ$2,FALSE)","v":4.1666666666666664E-2},{"$f":"VLOOKUP($D12,Ranking!$A$57:$AA$1000,AK$2,FALSE)","v":4.1666666666666664E-2},{"$f":"VLOOKUP($D12,Ranking!$A$57:$AA$1000,AL$2,FALSE)","v":4.1666666666666664E-2},{"$f":"VLOOKUP($D12,Ranking!$A$57:$AA$1000,AM$2,FALSE)","v":4.1666666666666664E-2},{"$f":"VLOOKUP($D12,Ranking!$A$57:$AA$1000,AN$2,FALSE)","v":-4.1666666666666664E-2},{"$f":"VLOOKUP($D12,Ranking!$A$57:$AA$1000,AO$2,FALSE)","v":-4.1666666666666664E-2},{"$f":"VLOOKUP($D12,Ranking!$A$57:$AA$1000,AP$2,FALSE)","v":-4.1666666666666664E-2},{"$f":"VLOOKUP($D12,Ranking!$A$57:$AA$1000,AQ$2,FALSE)","v":4.1666666666666664E-2},{"$f":"VLOOKUP($D12,Ranking!$A$57:$AA$1000,AR$2,FALSE)","v":4.1666666666666664E-2},{"$f":"VLOOKUP($D12,Ranking!$A$57:$AA$1000,AS$2,FALSE)","v":-4.1666666666666664E-2},{"$f":"VLOOKUP($D12,Ranking!$A$57:$AA$1000,AT$2,FALSE)","v":-8.333333333333335E-3},{"$f":"VLOOKUP($D12,Ranking!$A$57:$AA$1000,AU$2,FALSE)","v":4.1666666666666664E-2},{"$f":"VLOOKUP($D12,Ranking!$A$57:$AA$1000,AV$2,FALSE)","v":4.1666666666666664E-2},{"$f":"VLOOKUP($D12,Ranking!$A$57:$AA$1000,AW$2,FALSE)","v":4.1666666666666664E-2},{"$f":"VLOOKUP($D12,Ranking!$A$57:$AA$1000,AX$2,FALSE)","v":-4.1666666666666664E-2},{"$f":"VLOOKUP($D12,Ranking!$A$57:$AA$1000,AY$2,FALSE)","v":-4.1666666666666664E-2},{"$f":"VLOOKUP($D12,Ranking!$A$57:$AA$1000,AZ$2,FALSE)","v":4.1666666666666664E-2},{"$f":"VLOOKUP($D12,Ranking!$A$57:$AA$1000,BA$2,FALSE)","v":4.1666666666666664E-2},{"$f":"VLOOKUP($D12,Ranking!$A$57:$AA$1000,BB$2,FALSE)","v":4.1666666666666664E-2},{"$f":"VLOOKUP($D12,Ranking!$A$57:$AA$1000,BC$2,FALSE)","v":-4.1666666666666664E-2},{"$f":"VLOOKUP($D12,Ranking!$A$57:$AA$1000,BD$2,FALSE)","v":4.1666666666666664E-2},{"$f":"VLOOKUP($D12,Ranking!$A$57:$AA$1000,BE$2,FALSE)","v":4.1666666666666664E-2},{"$f":"VLOOKUP($D12,Ranking!$A$57:$AA$1000,BF$2,FALSE)","v":4.1666666666666664E-2}]
[null,null,null,"Miovision Scout camera",12,{"$f":"VLOOKUP($D13,Ranking!$A$57:$AA$1000,AH$2,FALSE)","v":0.19999999999999998},{"$f":"VLOOKUP($D13,Ranking!$A$57:$AA$1000,AI$2,FALSE)","v":-4.1666666666666664E-2},{"$f":"VLOOKUP($D13,Ranking!$A$57:$AA$1000,AJ$2,FALSE)","v":4.1666666666666664E-2},{"$f":"VLOOKUP($D13,Ranking!$A$57:$AA$1000,AK$2,FALSE)","v":4.1666666666666664E-2},{"$f":"VLOOKUP($D13,Ranking!$A$57:$AA$1000,AL$2,FALSE)","v":4.1666666666666664E-2},{"$f":"VLOOKUP($D13,Ranking!$A$57:$AA$1000,AM$2,FALSE)","v":4.1666666666666664E-2},{"$f":"VLOOKUP($D13,Ranking!$A$57:$AA$1000,AN$2,FALSE)","v":-4.1666666666666664E-2},{"$f":"VLOOKUP($D13,Ranking!$A$57:$AA$1000,AO$2,FALSE)","v":-4.1666666666666664E-2},{"$f":"VLOOKUP($D13,Ranking!$A$57:$AA$1000,AP$2,FALSE)","v":-4.1666666666666664E-2},{"$f":"VLOOKUP($D13,Ranking!$A$57:$AA$1000,AQ$2,FALSE)","v":4.1666666666666664E-2},{"$f":"VLOOKUP($D13,Ranking!$A$57:$AA$1000,AR$2,FALSE)","v":4.1666666666666664E-2},{"$f":"VLOOKUP($D13,Ranking!$A$57:$AA$1000,AS$2,FALSE)","v":-4.1666666666666664E-2},{"$f":"VLOOKUP($D13,Ranking!$A$57:$AA$1000,AT$2,FALSE)","v":-8.333333333333335E-3},{"$f":"VLOOKUP($D13,Ranking!$A$57:$AA$1000,AU$2,FALSE)","v":4.1666666666666664E-2},{"$f":"VLOOKUP($D13,Ranking!$A$57:$AA$1000,AV$2,FALSE)","v":4.1666666666666664E-2},{"$f":"VLOOKUP($D13,Ranking!$A$57:$AA$1000,AW$2,FALSE)","v":-4.1666666666666664E-2},{"$f":"VLOOKUP($D13,Ranking!$A$57:$AA$1000,AX$2,FALSE)","v":-4.1666666666666664E-2},{"$f":"VLOOKUP($D13,Ranking!$A$57:$AA$1000,AY$2,FALSE)","v":-4.1666666666666664E-2},{"$f":"VLOOKUP($D13,Ranking!$A$57:$AA$1000,AZ$2,FALSE)","v":4.1666666666666664E-2},{"$f":"VLOOKUP($D13,Ranking!$A$57:$AA$1000,BA$2,FALSE)","v":4.1666666666666664E-2},{"$f":"VLOOKUP($D13,Ranking!$A$57:$AA$1000,BB$2,FALSE)","v":4.1666666666666664E-2},{"$f":"VLOOKUP($D13,Ranking!$A$57:$AA$1000,BC$2,FALSE)","v":-4.1666666666666664E-2},{"$f":"VLOOKUP($D13,Ranking!$A$57:$AA$1000,BD$2,FALSE)","v":4.1666666666666664E-2},{"$f":"VLOOKUP($D13,Ranking!$A$57:$AA$1000,BE$2,FALSE)","v":4.1666666666666664E-2},{"$f":"VLOOKUP($D13,Ranking!$A$57:$AA$1000,BF$2,FALSE)","v":4.1666666666666664E-2}]
[null,null,null,"Eco-counter CITIX – AI ",13,{"$f":"VLOOKUP($D14,Ranking!$A$57:$AA$1000,AH$2,FALSE)","v":0.11666666666666667},{"$f":"VLOOKUP($D14,Ranking!$A$57:$AA$1000,AI$2,FALSE)","v":-4.1666666666666664E-2},{"$f":"VLOOKUP($D14,Ranking!$A$57:$AA$1000,AJ$2,FALSE)","v":4.1666666666666664E-2},{"$f":"VLOOKUP($D14,Ranking!$A$57:$AA$1000,AK$2,FALSE)","v":4.1666666666666664E-2},{"$f":"VLOOKUP($D14,Ranking!$A$57:$AA$1000,AL$2,FALSE)","v":4.1666666666666664E-2},{"$f":"VLOOKUP($D14,Ranking!$A$57:$AA$1000,AM$2,FALSE)","v":4.1666666666666664E-2},{"$f":"VLOOKUP($D14,Ranking!$A$57:$AA$1000,AN$2,FALSE)","v":-4.1666666666666664E-2},{"$f":"VLOOKUP($D14,Ranking!$A$57:$AA$1000,AO$2,FALSE)","v":4.1666666666666664E-2},{"$f":"VLOOKUP($D14,Ranking!$A$57:$AA$1000,AP$2,FALSE)","v":-4.1666666666666664E-2},{"$f":"VLOOKUP($D14,Ranking!$A$57:$AA$1000,AQ$2,FALSE)","v":4.1666666666666664E-2},{"$f":"VLOOKUP($D14,Ranking!$A$57:$AA$1000,AR$2,FALSE)","v":4.1666666666666664E-2},{"$f":"VLOOKUP($D14,Ranking!$A$57:$AA$1000,AS$2,FALSE)","v":-4.1666666666666664E-2},{"$f":"VLOOKUP($D14,Ranking!$A$57:$AA$1000,AT$2,FALSE)","v":-8.333333333333335E-3},{"$f":"VLOOKUP($D14,Ranking!$A$57:$AA$1000,AU$2,FALSE)","v":4.1666666666666664E-2},{"$f":"VLOOKUP($D14,Ranking!$A$57:$AA$1000,AV$2,FALSE)","v":-4.1666666666666664E-2},{"$f":"VLOOKUP($D14,Ranking!$A$57:$AA$1000,AW$2,FALSE)","v":-4.1666666666666664E-2},{"$f":"VLOOKUP($D14,Ranking!$A$57:$AA$1000,AX$2,FALSE)","v":4.1666666666666664E-2},{"$f":"VLOOKUP($D14,Ranking!$A$57:$AA$1000,AY$2,FALSE)","v":4.1666666666666664E-2},{"$f":"VLOOKUP($D14,Ranking!$A$57:$AA$1000,AZ$2,FALSE)","v":4.1666666666666664E-2},{"$f":"VLOOKUP($D14,Ranking!$A$57:$AA$1000,BA$2,FALSE)","v":4.1666666666666664E-2},{"$f":"VLOOKUP($D14,Ranking!$A$57:$AA$1000,BB$2,FALSE)","v":-4.1666666666666664E-2},{"$f":"VLOOKUP($D14,Ranking!$A$57:$AA$1000,BC$2,FALSE)","v":-4.1666666666666664E-2},{"$f":"VLOOKUP($D14,Ranking!$A$57:$AA$1000,BD$2,FALSE)","v":-4.1666666666666664E-2},{"$f":"VLOOKUP($D14,Ranking!$A$57:$AA$1000,BE$2,FALSE)","v":4.1666666666666664E-2},{"$f":"VLOOKUP($D14,Ranking!$A$57:$AA$1000,BF$2,FALSE)","v":-4.1666666666666664E-2}]
[null,null,null,"Street Simplified",14,{"$f":"VLOOKUP($D15,Ranking!$A$57:$AA$1000,AH$2,FALSE)","v":6.666666666666668E-2},{"$f":"VLOOKUP($D15,Ranking!$A$57:$AA$1000,AI$2,FALSE)","v":4.1666666666666664E-2},{"$f":"VLOOKUP($D15,Ranking!$A$57:$AA$1000,AJ$2,FALSE)","v":4.1666666666666664E-2},{"$f":"VLOOKUP($D15,Ranking!$A$57:$AA$1000,AK$2,FALSE)","v":4.1666666666666664E-2},{"$f":"VLOOKUP($D15,Ranking!$A$57:$AA$1000,AL$2,FALSE)","v":4.1666666666666664E-2},{"$f":"VLOOKUP($D15,Ranking!$A$57:$AA$1000,AM$2,FALSE)","v":4.1666666666666664E-2},{"$f":"VLOOKUP($D15,Ranking!$A$57:$AA$1000,AN$2,FALSE)","v":-4.1666666666666664E-2},{"$f":"VLOOKUP($D15,Ranking!$A$57:$AA$1000,AO$2,FALSE)","v":-4.1666666666666664E-2},{"$f":"VLOOKUP($D15,Ranking!$A$57:$AA$1000,AP$2,FALSE)","v":4.1666666666666664E-2},{"$f":"VLOOKUP($D15,Ranking!$A$57:$AA$1000,AQ$2,FALSE)","v":-4.1666666666666664E-2},{"$f":"VLOOKUP($D15,Ranking!$A$57:$AA$1000,AR$2,FALSE)","v":-4.1666666666666664E-2},{"$f":"VLOOKUP($D15,Ranking!$A$57:$AA$1000,AS$2,FALSE)","v":-4.1666666666666664E-2},{"$f":"VLOOKUP($D15,Ranking!$A$57:$AA$1000,AT$2,FALSE)","v":2.5000000000000001E-2},{"$f":"VLOOKUP($D15,Ranking!$A$57:$AA$1000,AU$2,FALSE)","v":4.1666666666666664E-2},{"$f":"VLOOKUP($D15,Ranking!$A$57:$AA$1000,AV$2,FALSE)","v":4.1666666666666664E-2},{"$f":"VLOOKUP($D15,Ranking!$A$57:$AA$1000,AW$2,FALSE)","v":-4.1666666666666664E-2},{"$f":"VLOOKUP($D15,Ranking!$A$57:$AA$1000,AX$2,FALSE)","v":-4.1666666666666664E-2},{"$f":"VLOOKUP($D15,Ranking!$A$57:$AA$1000,AY$2,FALSE)","v":-4.1666666666666664E-2},{"$f":"VLOOKUP($D15,Ranking!$A$57:$AA$1000,AZ$2,FALSE)","v":-4.1666666666666664E-2},{"$f":"VLOOKUP($D15,Ranking!$A$57:$AA$1000,BA$2,FALSE)","v":4.1666666666666664E-2},{"$f":"VLOOKUP($D15,Ranking!$A$57:$AA$1000,BB$2,FALSE)","v":4.1666666666666664E-2},{"$f":"VLOOKUP($D15,Ranking!$A$57:$AA$1000,BC$2,FALSE)","v":-4.1666666666666664E-2},{"$f":"VLOOKUP($D15,Ranking!$A$57:$AA$1000,BD$2,FALSE)","v":-4.1666666666666664E-2},{"$f":"VLOOKUP($D15,Ranking!$A$57:$AA$1000,BE$2,FALSE)","v":4.1666666666666664E-2},{"$f":"VLOOKUP($D15,Ranking!$A$57:$AA$1000,BF$2,FALSE)","v":4.1666666666666664E-2}]
[null,null,null,"Numina ",15,{"$f":"VLOOKUP($D16,Ranking!$A$57:$AA$1000,AH$2,FALSE)","v":3.3333333333333347E-2},{"$f":"VLOOKUP($D16,Ranking!$A$57:$AA$1000,AI$2,FALSE)","v":-4.1666666666666664E-2},{"$f":"VLOOKUP($D16,Ranking!$A$57:$AA$1000,AJ$2,FALSE)","v":4.1666666666666664E-2},{"$f":"VLOOKUP($D16,Ranking!$A$57:$AA$1000,AK$2,FALSE)","v":4.1666666666666664E-2},{"$f":"VLOOKUP($D16,Ranking!$A$57:$AA$1000,AL$2,FALSE)","v":4.1666666666666664E-2},{"$f":"VLOOKUP($D16,Ranking!$A$57:$AA$1000,AM$2,FALSE)","v":4.1666666666666664E-2},{"$f":"VLOOKUP($D16,Ranking!$A$57:$AA$1000,AN$2,FALSE)","v":-4.1666666666666664E-2},{"$f":"VLOOKUP($D16,Ranking!$A$57:$AA$1000,AO$2,FALSE)","v":4.1666666666666664E-2},{"$f":"VLOOKUP($D16,Ranking!$A$57:$AA$1000,AP$2,FALSE)","v":-4.1666666666666664E-2},{"$f":"VLOOKUP($D16,Ranking!$A$57:$AA$1000,AQ$2,FALSE)","v":4.1666666666666664E-2},{"$f":"VLOOKUP($D16,Ranking!$A$57:$AA$1000,AR$2,FALSE)","v":4.1666666666666664E-2},{"$f":"VLOOKUP($D16,Ranking!$A$57:$AA$1000,AS$2,FALSE)","v":-4.1666666666666664E-2},{"$f":"VLOOKUP($D16,Ranking!$A$57:$AA$1000,AT$2,FALSE)","v":-8.333333333333335E-3},{"$f":"VLOOKUP($D16,Ranking!$A$57:$AA$1000,AU$2,FALSE)","v":4.1666666666666664E-2},{"$f":"VLOOKUP($D16,Ranking!$A$57:$AA$1000,AV$2,FALSE)","v":-4.1666666666666664E-2},{"$f":"VLOOKUP($D16,Ranking!$A$57:$AA$1000,AW$2,FALSE)","v":-4.1666666666666664E-2},{"$f":"VLOOKUP($D16,Ranking!$A$57:$AA$1000,AX$2,FALSE)","v":-4.1666666666666664E-2},{"$f":"VLOOKUP($D16,Ranking!$A$57:$AA$1000,AY$2,FALSE)","v":4.1666666666666664E-2},{"$f":"VLOOKUP($D16,Ranking!$A$57:$AA$1000,AZ$2,FALSE)","v":-4.1666666666666664E-2},{"$f":"VLOOKUP($D16,Ranking!$A$57:$AA$1000,BA$2,FALSE)","v":4.1666666666666664E-2},{"$f":"VLOOKUP($D16,Ranking!$A$57:$AA$1000,BB$2,FALSE)","v":4.1666666666666664E-2},{"$f":"VLOOKUP($D16,Ranking!$A$57:$AA$1000,BC$2,FALSE)","v":-4.1666666666666664E-2},{"$f":"VLOOKUP($D16,Ranking!$A$57:$AA$1000,BD$2,FALSE)","v":-4.1666666666666664E-2},{"$f":"VLOOKUP($D16,Ranking!$A$57:$AA$1000,BE$2,FALSE)","v":4.1666666666666664E-2},{"$f":"VLOOKUP($D16,Ranking!$A$57:$AA$1000,BF$2,FALSE)","v":-4.1666666666666664E-2}]